BEGIN:VCALENDAR
VERSION:2.0
PRODID:-//First Lutheran Church - ECPv6.15.20//NONSGML v1.0//EN
CALSCALE:GREGORIAN
METHOD:PUBLISH
X-ORIGINAL-URL:https://www.flcduluth.org
X-WR-CALDESC:Events for First Lutheran Church
REFRESH-INTERVAL;VALUE=DURATION:PT1H
X-Robots-Tag:noindex
X-PUBLISHED-TTL:PT1H
BEGIN:VTIMEZONE
TZID:America/Chicago
BEGIN:DAYLIGHT
TZOFFSETFROM:-0600
TZOFFSETTO:-0500
TZNAME:CDT
DTSTART:20250309T080000
END:DAYLIGHT
BEGIN:STANDARD
TZOFFSETFROM:-0500
TZOFFSETTO:-0600
TZNAME:CST
DTSTART:20251102T070000
END:STANDARD
BEGIN:DAYLIGHT
TZOFFSETFROM:-0600
TZOFFSETTO:-0500
TZNAME:CDT
DTSTART:20260308T080000
END:DAYLIGHT
BEGIN:STANDARD
TZOFFSETFROM:-0500
TZOFFSETTO:-0600
TZNAME:CST
DTSTART:20261101T070000
END:STANDARD
BEGIN:DAYLIGHT
TZOFFSETFROM:-0600
TZOFFSETTO:-0500
TZNAME:CDT
DTSTART:20270314T080000
END:DAYLIGHT
BEGIN:STANDARD
TZOFFSETFROM:-0500
TZOFFSETTO:-0600
TZNAME:CST
DTSTART:20271107T070000
END:STANDARD
END:VTIMEZONE
BEGIN:VEVENT
DTSTART;TZID=America/Chicago:20260403T093000
DTEND;TZID=America/Chicago:20260403T110000
DTSTAMP:20260423T050730
CREATED:20260204T183927Z
LAST-MODIFIED:20260204T183927Z
UID:10007126-1775208600-1775214000@www.flcduluth.org
SUMMARY:Bible Study
DESCRIPTION:
URL:https://www.flcduluth.org/event/bible-study/2026-04-03/
END:VEVENT
BEGIN:VEVENT
DTSTART;TZID=America/Chicago:20260403T120000
DTEND;TZID=America/Chicago:20260403T133000
DTSTAMP:20260423T050730
CREATED:20260204T190122Z
LAST-MODIFIED:20260204T190122Z
UID:10007522-1775217600-1775223000@www.flcduluth.org
SUMMARY:Good Friday Service
DESCRIPTION:
URL:https://www.flcduluth.org/event/good-friday-service-3/
END:VEVENT
BEGIN:VEVENT
DTSTART;TZID=America/Chicago:20260403T190000
DTEND;TZID=America/Chicago:20260403T210000
DTSTAMP:20260423T050730
CREATED:20260204T190156Z
LAST-MODIFIED:20260204T190156Z
UID:10007523-1775242800-1775250000@www.flcduluth.org
SUMMARY:Good Friday Service/Concert
DESCRIPTION:
URL:https://www.flcduluth.org/event/good-friday-service-concert/
END:VEVENT
END:VCALENDAR