BEGIN:VCALENDAR
VERSION:2.0
PRODID:-//First Lutheran Church - ECPv6.15.20//NONSGML v1.0//EN
CALSCALE:GREGORIAN
METHOD:PUBLISH
X-WR-CALNAME:First Lutheran Church
X-ORIGINAL-URL:https://www.flcduluth.org
X-WR-CALDESC:Events for First Lutheran Church
REFRESH-INTERVAL;VALUE=DURATION:PT1H
X-Robots-Tag:noindex
X-PUBLISHED-TTL:PT1H
BEGIN:VTIMEZONE
TZID:America/Chicago
BEGIN:DAYLIGHT
TZOFFSETFROM:-0600
TZOFFSETTO:-0500
TZNAME:CDT
DTSTART:20250309T080000
END:DAYLIGHT
BEGIN:STANDARD
TZOFFSETFROM:-0500
TZOFFSETTO:-0600
TZNAME:CST
DTSTART:20251102T070000
END:STANDARD
BEGIN:DAYLIGHT
TZOFFSETFROM:-0600
TZOFFSETTO:-0500
TZNAME:CDT
DTSTART:20260308T080000
END:DAYLIGHT
BEGIN:STANDARD
TZOFFSETFROM:-0500
TZOFFSETTO:-0600
TZNAME:CST
DTSTART:20261101T070000
END:STANDARD
BEGIN:DAYLIGHT
TZOFFSETFROM:-0600
TZOFFSETTO:-0500
TZNAME:CDT
DTSTART:20270314T080000
END:DAYLIGHT
BEGIN:STANDARD
TZOFFSETFROM:-0500
TZOFFSETTO:-0600
TZNAME:CST
DTSTART:20271107T070000
END:STANDARD
END:VTIMEZONE
BEGIN:VEVENT
DTSTART;TZID=America/Chicago:20260426T083000
DTEND;TZID=America/Chicago:20260426T093000
DTSTAMP:20260423T050406
CREATED:20260204T184311Z
LAST-MODIFIED:20260204T184311Z
UID:10007409-1777192200-1777195800@www.flcduluth.org
SUMMARY:Worship Service
DESCRIPTION:
URL:https://www.flcduluth.org/event/worship-service-3/2026-04-26/
END:VEVENT
BEGIN:VEVENT
DTSTART;TZID=America/Chicago:20260426T100000
DTEND;TZID=America/Chicago:20260426T110000
DTSTAMP:20260423T050406
CREATED:20260204T184346Z
LAST-MODIFIED:20260204T184418Z
UID:10007440-1777197600-1777201200@www.flcduluth.org
SUMMARY:Worship Service
DESCRIPTION:
URL:https://www.flcduluth.org/event/worship-service-4/2026-04-26/
END:VEVENT
BEGIN:VEVENT
DTSTART;TZID=America/Chicago:20260426T120000
DTEND;TZID=America/Chicago:20260426T133000
DTSTAMP:20260423T050406
CREATED:20230110T224319Z
LAST-MODIFIED:20230110T224319Z
UID:10003738-1777204800-1777210200@www.flcduluth.org
SUMMARY:Community Meal
DESCRIPTION:
URL:https://www.flcduluth.org/event/community-meal-3/2026-04-26/
END:VEVENT
BEGIN:VEVENT
DTSTART;TZID=America/Chicago:20260426T153000
DTEND;TZID=America/Chicago:20260426T173000
DTSTAMP:20260423T050406
CREATED:20260204T184607Z
LAST-MODIFIED:20260204T184607Z
UID:10007460-1777217400-1777224600@www.flcduluth.org
SUMMARY:OWL
DESCRIPTION:
URL:https://www.flcduluth.org/event/owl/2026-04-26/
END:VEVENT
BEGIN:VEVENT
DTSTART;TZID=America/Chicago:20260426T173000
DTEND;TZID=America/Chicago:20260426T200000
DTSTAMP:20260423T050406
CREATED:20260204T184658Z
LAST-MODIFIED:20260204T184658Z
UID:10007474-1777224600-1777233600@www.flcduluth.org
SUMMARY:Middle School Gathering
DESCRIPTION:
URL:https://www.flcduluth.org/event/middle-school-gathering/2026-04-26/
END:VEVENT
BEGIN:VEVENT
DTSTART;TZID=America/Chicago:20260426T173000
DTEND;TZID=America/Chicago:20260426T200000
DTSTAMP:20260423T050406
CREATED:20260204T184745Z
LAST-MODIFIED:20260204T184745Z
UID:10007488-1777224600-1777233600@www.flcduluth.org
SUMMARY:Confirmation
DESCRIPTION:
URL:https://www.flcduluth.org/event/confirmation/2026-04-26/
END:VEVENT
END:VCALENDAR