BEGIN:VCALENDAR
VERSION:2.0
PRODID:-//First Lutheran Church - ECPv6.15.20//NONSGML v1.0//EN
CALSCALE:GREGORIAN
METHOD:PUBLISH
X-WR-CALNAME:First Lutheran Church
X-ORIGINAL-URL:https://www.flcduluth.org
X-WR-CALDESC:Events for First Lutheran Church
REFRESH-INTERVAL;VALUE=DURATION:PT1H
X-Robots-Tag:noindex
X-PUBLISHED-TTL:PT1H
BEGIN:VTIMEZONE
TZID:America/Chicago
BEGIN:DAYLIGHT
TZOFFSETFROM:-0600
TZOFFSETTO:-0500
TZNAME:CDT
DTSTART:20220313T080000
END:DAYLIGHT
BEGIN:STANDARD
TZOFFSETFROM:-0500
TZOFFSETTO:-0600
TZNAME:CST
DTSTART:20221106T070000
END:STANDARD
BEGIN:DAYLIGHT
TZOFFSETFROM:-0600
TZOFFSETTO:-0500
TZNAME:CDT
DTSTART:20230312T080000
END:DAYLIGHT
BEGIN:STANDARD
TZOFFSETFROM:-0500
TZOFFSETTO:-0600
TZNAME:CST
DTSTART:20231105T070000
END:STANDARD
BEGIN:DAYLIGHT
TZOFFSETFROM:-0600
TZOFFSETTO:-0500
TZNAME:CDT
DTSTART:20240310T080000
END:DAYLIGHT
BEGIN:STANDARD
TZOFFSETFROM:-0500
TZOFFSETTO:-0600
TZNAME:CST
DTSTART:20241103T070000
END:STANDARD
END:VTIMEZONE
BEGIN:VEVENT
DTSTART;TZID=America/Chicago:20230402T094500
DTEND;TZID=America/Chicago:20230402T104500
DTSTAMP:20260425T184700
CREATED:20230201T212900Z
LAST-MODIFIED:20230201T212900Z
UID:10003965-1680428700-1680432300@www.flcduluth.org
SUMMARY:Bible Study
DESCRIPTION:
URL:https://www.flcduluth.org/event/bible-study-9/2023-04-02/
CATEGORIES:Bible Study
END:VEVENT
BEGIN:VEVENT
DTSTART;TZID=America/Chicago:20230407T093000
DTEND;TZID=America/Chicago:20230407T110000
DTSTAMP:20260425T184700
CREATED:20230110T222033Z
LAST-MODIFIED:20230110T222534Z
UID:10003100-1680859800-1680865200@www.flcduluth.org
SUMMARY:Bible Study
DESCRIPTION:
URL:https://www.flcduluth.org/event/bible-study-7/2023-04-07/
CATEGORIES:Bible Study
END:VEVENT
BEGIN:VEVENT
DTSTART;TZID=America/Chicago:20230414T093000
DTEND;TZID=America/Chicago:20230414T110000
DTSTAMP:20260425T184700
CREATED:20230110T222033Z
LAST-MODIFIED:20230110T222534Z
UID:10003101-1681464600-1681470000@www.flcduluth.org
SUMMARY:Bible Study
DESCRIPTION:
URL:https://www.flcduluth.org/event/bible-study-7/2023-04-14/
CATEGORIES:Bible Study
END:VEVENT
BEGIN:VEVENT
DTSTART;TZID=America/Chicago:20230416T094500
DTEND;TZID=America/Chicago:20230416T104500
DTSTAMP:20260425T184700
CREATED:20230201T214552Z
LAST-MODIFIED:20230201T214552Z
UID:10004100-1681638300-1681641900@www.flcduluth.org
SUMMARY:Bible Study
DESCRIPTION:
URL:https://www.flcduluth.org/event/bible-study-10/2023-04-16/
CATEGORIES:Bible Study
END:VEVENT
BEGIN:VEVENT
DTSTART;TZID=America/Chicago:20230421T093000
DTEND;TZID=America/Chicago:20230421T110000
DTSTAMP:20260425T184700
CREATED:20230110T222033Z
LAST-MODIFIED:20230110T222534Z
UID:10003102-1682069400-1682074800@www.flcduluth.org
SUMMARY:Bible Study
DESCRIPTION:
URL:https://www.flcduluth.org/event/bible-study-7/2023-04-21/
CATEGORIES:Bible Study
END:VEVENT
BEGIN:VEVENT
DTSTART;TZID=America/Chicago:20230428T093000
DTEND;TZID=America/Chicago:20230428T110000
DTSTAMP:20260425T184700
CREATED:20230110T222033Z
LAST-MODIFIED:20230110T222534Z
UID:10003103-1682674200-1682679600@www.flcduluth.org
SUMMARY:Bible Study
DESCRIPTION:
URL:https://www.flcduluth.org/event/bible-study-7/2023-04-28/
CATEGORIES:Bible Study
END:VEVENT
END:VCALENDAR