BEGIN:VCALENDAR
VERSION:2.0
PRODID:-//First Lutheran Church - ECPv6.15.20//NONSGML v1.0//EN
CALSCALE:GREGORIAN
METHOD:PUBLISH
X-ORIGINAL-URL:https://www.flcduluth.org
X-WR-CALDESC:Events for First Lutheran Church
REFRESH-INTERVAL;VALUE=DURATION:PT1H
X-Robots-Tag:noindex
X-PUBLISHED-TTL:PT1H
BEGIN:VTIMEZONE
TZID:America/Chicago
BEGIN:DAYLIGHT
TZOFFSETFROM:-0600
TZOFFSETTO:-0500
TZNAME:CDT
DTSTART:20210314T080000
END:DAYLIGHT
BEGIN:STANDARD
TZOFFSETFROM:-0500
TZOFFSETTO:-0600
TZNAME:CST
DTSTART:20211107T070000
END:STANDARD
BEGIN:DAYLIGHT
TZOFFSETFROM:-0600
TZOFFSETTO:-0500
TZNAME:CDT
DTSTART:20220313T080000
END:DAYLIGHT
BEGIN:STANDARD
TZOFFSETFROM:-0500
TZOFFSETTO:-0600
TZNAME:CST
DTSTART:20221106T070000
END:STANDARD
BEGIN:DAYLIGHT
TZOFFSETFROM:-0600
TZOFFSETTO:-0500
TZNAME:CDT
DTSTART:20230312T080000
END:DAYLIGHT
BEGIN:STANDARD
TZOFFSETFROM:-0500
TZOFFSETTO:-0600
TZNAME:CST
DTSTART:20231105T070000
END:STANDARD
BEGIN:DAYLIGHT
TZOFFSETFROM:-0600
TZOFFSETTO:-0500
TZNAME:CDT
DTSTART:20240310T080000
END:DAYLIGHT
BEGIN:STANDARD
TZOFFSETFROM:-0500
TZOFFSETTO:-0600
TZNAME:CST
DTSTART:20241103T070000
END:STANDARD
END:VTIMEZONE
BEGIN:VEVENT
DTSTART;TZID=America/Chicago:20230331T093000
DTEND;TZID=America/Chicago:20230331T110000
DTSTAMP:20260423T162229
CREATED:20230110T222033Z
LAST-MODIFIED:20230110T222534Z
UID:10003099-1680255000-1680260400@www.flcduluth.org
SUMMARY:Bible Study
DESCRIPTION:
URL:https://www.flcduluth.org/event/bible-study-7/2023-03-31/
CATEGORIES:Bible Study
END:VEVENT
BEGIN:VEVENT
DTSTART;TZID=America/Chicago:20230324T093000
DTEND;TZID=America/Chicago:20230324T110000
DTSTAMP:20260423T162229
CREATED:20230110T222033Z
LAST-MODIFIED:20230110T222534Z
UID:10003098-1679650200-1679655600@www.flcduluth.org
SUMMARY:Bible Study
DESCRIPTION:
URL:https://www.flcduluth.org/event/bible-study-7/2023-03-24/
CATEGORIES:Bible Study
END:VEVENT
BEGIN:VEVENT
DTSTART;TZID=America/Chicago:20230319T094500
DTEND;TZID=America/Chicago:20230319T104500
DTSTAMP:20260423T162229
CREATED:20230201T214552Z
LAST-MODIFIED:20230201T214552Z
UID:10004099-1679219100-1679222700@www.flcduluth.org
SUMMARY:Bible Study
DESCRIPTION:
URL:https://www.flcduluth.org/event/bible-study-10/2023-03-19/
CATEGORIES:Bible Study
END:VEVENT
BEGIN:VEVENT
DTSTART;TZID=America/Chicago:20230317T093000
DTEND;TZID=America/Chicago:20230317T110000
DTSTAMP:20260423T162229
CREATED:20230110T222033Z
LAST-MODIFIED:20230110T222534Z
UID:10003097-1679045400-1679050800@www.flcduluth.org
SUMMARY:Bible Study
DESCRIPTION:
URL:https://www.flcduluth.org/event/bible-study-7/2023-03-17/
CATEGORIES:Bible Study
END:VEVENT
BEGIN:VEVENT
DTSTART;TZID=America/Chicago:20230310T093000
DTEND;TZID=America/Chicago:20230310T110000
DTSTAMP:20260423T162229
CREATED:20230110T222033Z
LAST-MODIFIED:20230110T222534Z
UID:10003096-1678440600-1678446000@www.flcduluth.org
SUMMARY:Bible Study
DESCRIPTION:
URL:https://www.flcduluth.org/event/bible-study-7/2023-03-10/
CATEGORIES:Bible Study
END:VEVENT
BEGIN:VEVENT
DTSTART;TZID=America/Chicago:20230305T094500
DTEND;TZID=America/Chicago:20230305T104500
DTSTAMP:20260423T162229
CREATED:20230201T212900Z
LAST-MODIFIED:20230201T212900Z
UID:10003964-1678009500-1678013100@www.flcduluth.org
SUMMARY:Bible Study
DESCRIPTION:
URL:https://www.flcduluth.org/event/bible-study-9/2023-03-05/
CATEGORIES:Bible Study
END:VEVENT
BEGIN:VEVENT
DTSTART;TZID=America/Chicago:20230303T093000
DTEND;TZID=America/Chicago:20230303T110000
DTSTAMP:20260423T162229
CREATED:20230110T222033Z
LAST-MODIFIED:20230110T222534Z
UID:10003095-1677835800-1677841200@www.flcduluth.org
SUMMARY:Bible Study
DESCRIPTION:
URL:https://www.flcduluth.org/event/bible-study-7/2023-03-03/
CATEGORIES:Bible Study
END:VEVENT
BEGIN:VEVENT
DTSTART;TZID=America/Chicago:20230224T093000
DTEND;TZID=America/Chicago:20230224T110000
DTSTAMP:20260423T162229
CREATED:20230110T222033Z
LAST-MODIFIED:20230110T222534Z
UID:10003094-1677231000-1677236400@www.flcduluth.org
SUMMARY:Bible Study
DESCRIPTION:
URL:https://www.flcduluth.org/event/bible-study-7/2023-02-24/
CATEGORIES:Bible Study
END:VEVENT
BEGIN:VEVENT
DTSTART;TZID=America/Chicago:20230219T094500
DTEND;TZID=America/Chicago:20230219T104500
DTSTAMP:20260423T162229
CREATED:20230201T214552Z
LAST-MODIFIED:20230201T214552Z
UID:10004098-1676799900-1676803500@www.flcduluth.org
SUMMARY:Bible Study
DESCRIPTION:
URL:https://www.flcduluth.org/event/bible-study-10/2023-02-19/
CATEGORIES:Bible Study
END:VEVENT
BEGIN:VEVENT
DTSTART;TZID=America/Chicago:20230217T093000
DTEND;TZID=America/Chicago:20230217T110000
DTSTAMP:20260423T162229
CREATED:20230110T222033Z
LAST-MODIFIED:20230110T222534Z
UID:10003093-1676626200-1676631600@www.flcduluth.org
SUMMARY:Bible Study
DESCRIPTION:
URL:https://www.flcduluth.org/event/bible-study-7/2023-02-17/
CATEGORIES:Bible Study
END:VEVENT
BEGIN:VEVENT
DTSTART;TZID=America/Chicago:20230210T093000
DTEND;TZID=America/Chicago:20230210T110000
DTSTAMP:20260423T162229
CREATED:20230110T222033Z
LAST-MODIFIED:20230110T222534Z
UID:10003092-1676021400-1676026800@www.flcduluth.org
SUMMARY:Bible Study
DESCRIPTION:
URL:https://www.flcduluth.org/event/bible-study-7/2023-02-10/
CATEGORIES:Bible Study
END:VEVENT
BEGIN:VEVENT
DTSTART;TZID=America/Chicago:20230205T094500
DTEND;TZID=America/Chicago:20230205T104500
DTSTAMP:20260423T162229
CREATED:20230201T212900Z
LAST-MODIFIED:20230201T212900Z
UID:10003963-1675590300-1675593900@www.flcduluth.org
SUMMARY:Bible Study
DESCRIPTION:
URL:https://www.flcduluth.org/event/bible-study-9/2023-02-05/
CATEGORIES:Bible Study
END:VEVENT
BEGIN:VEVENT
DTSTART;TZID=America/Chicago:20230203T093000
DTEND;TZID=America/Chicago:20230203T110000
DTSTAMP:20260423T162229
CREATED:20230110T222033Z
LAST-MODIFIED:20230110T222534Z
UID:10003091-1675416600-1675422000@www.flcduluth.org
SUMMARY:Bible Study
DESCRIPTION:
URL:https://www.flcduluth.org/event/bible-study-7/2023-02-03/
CATEGORIES:Bible Study
END:VEVENT
BEGIN:VEVENT
DTSTART;TZID=America/Chicago:20230127T093000
DTEND;TZID=America/Chicago:20230127T110000
DTSTAMP:20260423T162229
CREATED:20230110T222033Z
LAST-MODIFIED:20230110T222534Z
UID:10003090-1674811800-1674817200@www.flcduluth.org
SUMMARY:Bible Study
DESCRIPTION:
URL:https://www.flcduluth.org/event/bible-study-7/2023-01-27/
CATEGORIES:Bible Study
END:VEVENT
BEGIN:VEVENT
DTSTART;TZID=America/Chicago:20230122T094500
DTEND;TZID=America/Chicago:20230122T104500
DTSTAMP:20260423T162229
CREATED:20230110T223826Z
LAST-MODIFIED:20230110T223826Z
UID:10003694-1674380700-1674384300@www.flcduluth.org
SUMMARY:Bible Study
DESCRIPTION:
URL:https://www.flcduluth.org/event/bible-study-8/
CATEGORIES:Bible Study
END:VEVENT
BEGIN:VEVENT
DTSTART;TZID=America/Chicago:20230120T093000
DTEND;TZID=America/Chicago:20230120T110000
DTSTAMP:20260423T162229
CREATED:20230110T222033Z
LAST-MODIFIED:20230110T222534Z
UID:10003089-1674207000-1674212400@www.flcduluth.org
SUMMARY:Bible Study
DESCRIPTION:
URL:https://www.flcduluth.org/event/bible-study-7/2023-01-20/
CATEGORIES:Bible Study
END:VEVENT
BEGIN:VEVENT
DTSTART;TZID=America/Chicago:20230113T093000
DTEND;TZID=America/Chicago:20230113T110000
DTSTAMP:20260423T162229
CREATED:20230110T222033Z
LAST-MODIFIED:20230110T222534Z
UID:10003088-1673602200-1673607600@www.flcduluth.org
SUMMARY:Bible Study
DESCRIPTION:
URL:https://www.flcduluth.org/event/bible-study-7/2023-01-13/
CATEGORIES:Bible Study
END:VEVENT
BEGIN:VEVENT
DTSTART;TZID=America/Chicago:20230108T094500
DTEND;TZID=America/Chicago:20230108T104500
DTSTAMP:20260423T162229
CREATED:20230110T215843Z
LAST-MODIFIED:20230110T215843Z
UID:10002196-1673171100-1673174700@www.flcduluth.org
SUMMARY:Bible Study
DESCRIPTION:
URL:https://www.flcduluth.org/event/bible-study-6/
LOCATION:First Lutheran Church\, 1100 E. Superior St.\, Duluth\, MN\, 55802\, United States
CATEGORIES:Bible Study
END:VEVENT
BEGIN:VEVENT
DTSTART;TZID=America/Chicago:20221218T093000
DTEND;TZID=America/Chicago:20221218T103000
DTSTAMP:20260423T162229
CREATED:20221020T180544Z
LAST-MODIFIED:20221020T180544Z
UID:10001811-1671355800-1671359400@www.flcduluth.org
SUMMARY:Bible Study
DESCRIPTION:
URL:https://www.flcduluth.org/event/bible-study-5/2022-12-18/
CATEGORIES:Bible Study
END:VEVENT
BEGIN:VEVENT
DTSTART;TZID=America/Chicago:20221204T093000
DTEND;TZID=America/Chicago:20221204T103000
DTSTAMP:20260423T162229
CREATED:20221007T143454Z
LAST-MODIFIED:20221007T162250Z
UID:10001808-1670146200-1670149800@www.flcduluth.org
SUMMARY:Bible Study
DESCRIPTION:
URL:https://www.flcduluth.org/event/bible-study-5/2022-12-04/
CATEGORIES:Bible Study
END:VEVENT
BEGIN:VEVENT
DTSTART;TZID=America/Chicago:20221120T093000
DTEND;TZID=America/Chicago:20221120T103000
DTSTAMP:20260423T162229
CREATED:20221020T180544Z
LAST-MODIFIED:20221020T180544Z
UID:10001810-1668936600-1668940200@www.flcduluth.org
SUMMARY:Bible Study
DESCRIPTION:
URL:https://www.flcduluth.org/event/bible-study-5/2022-11-20/
CATEGORIES:Bible Study
END:VEVENT
BEGIN:VEVENT
DTSTART;TZID=America/Chicago:20221106T093000
DTEND;TZID=America/Chicago:20221106T103000
DTSTAMP:20260423T162229
CREATED:20221007T143454Z
LAST-MODIFIED:20221007T162250Z
UID:10001807-1667727000-1667730600@www.flcduluth.org
SUMMARY:Bible Study
DESCRIPTION:
URL:https://www.flcduluth.org/event/bible-study-5/2022-11-06/
CATEGORIES:Bible Study
END:VEVENT
BEGIN:VEVENT
DTSTART;TZID=America/Chicago:20221020T100000
DTEND;TZID=America/Chicago:20221020T113000
DTSTAMP:20260423T162229
CREATED:20221007T143158Z
LAST-MODIFIED:20221007T143158Z
UID:10001789-1666260000-1666265400@www.flcduluth.org
SUMMARY:Bible Study
DESCRIPTION:
URL:https://www.flcduluth.org/event/bible-study-4/2022-10-20/
CATEGORIES:Bible Study
END:VEVENT
BEGIN:VEVENT
DTSTART;TZID=America/Chicago:20221016T093000
DTEND;TZID=America/Chicago:20221016T103000
DTSTAMP:20260423T162229
CREATED:20221020T180544Z
LAST-MODIFIED:20221020T180544Z
UID:10001809-1665912600-1665916200@www.flcduluth.org
SUMMARY:Bible Study
DESCRIPTION:
URL:https://www.flcduluth.org/event/bible-study-5/2022-10-16/
CATEGORIES:Bible Study
END:VEVENT
BEGIN:VEVENT
DTSTART;TZID=America/Chicago:20221013T100000
DTEND;TZID=America/Chicago:20221013T113000
DTSTAMP:20260423T162229
CREATED:20221007T143158Z
LAST-MODIFIED:20221007T143158Z
UID:10001788-1665655200-1665660600@www.flcduluth.org
SUMMARY:Bible Study
DESCRIPTION:
URL:https://www.flcduluth.org/event/bible-study-4/2022-10-13/
CATEGORIES:Bible Study
END:VEVENT
BEGIN:VEVENT
DTSTART;TZID=America/Chicago:20221006T100000
DTEND;TZID=America/Chicago:20221006T113000
DTSTAMP:20260423T162229
CREATED:20221007T143158Z
LAST-MODIFIED:20221007T143158Z
UID:10001787-1665050400-1665055800@www.flcduluth.org
SUMMARY:Bible Study
DESCRIPTION:
URL:https://www.flcduluth.org/event/bible-study-4/2022-10-06/
CATEGORIES:Bible Study
END:VEVENT
BEGIN:VEVENT
DTSTART;TZID=America/Chicago:20221002T093000
DTEND;TZID=America/Chicago:20221002T103000
DTSTAMP:20260423T162229
CREATED:20221007T143454Z
LAST-MODIFIED:20221007T162250Z
UID:10001806-1664703000-1664706600@www.flcduluth.org
SUMMARY:Bible Study
DESCRIPTION:
URL:https://www.flcduluth.org/event/bible-study-5/2022-10-02/
CATEGORIES:Bible Study
END:VEVENT
BEGIN:VEVENT
DTSTART;TZID=America/Chicago:20220527T093000
DTEND;TZID=America/Chicago:20220527T110000
DTSTAMP:20260423T162229
CREATED:20220301T181638Z
LAST-MODIFIED:20220301T181638Z
UID:10001591-1653643800-1653649200@www.flcduluth.org
SUMMARY:Bible Study
DESCRIPTION:
URL:https://www.flcduluth.org/event/bible-study-3/2022-05-27/
CATEGORIES:Bible Study
END:VEVENT
BEGIN:VEVENT
DTSTART;TZID=America/Chicago:20220520T093000
DTEND;TZID=America/Chicago:20220520T110000
DTSTAMP:20260423T162229
CREATED:20220301T181638Z
LAST-MODIFIED:20220301T181638Z
UID:10001590-1653039000-1653044400@www.flcduluth.org
SUMMARY:Bible Study
DESCRIPTION:
URL:https://www.flcduluth.org/event/bible-study-3/2022-05-20/
CATEGORIES:Bible Study
END:VEVENT
BEGIN:VEVENT
DTSTART;TZID=America/Chicago:20220513T093000
DTEND;TZID=America/Chicago:20220513T110000
DTSTAMP:20260423T162229
CREATED:20220301T181638Z
LAST-MODIFIED:20220301T181638Z
UID:10001589-1652434200-1652439600@www.flcduluth.org
SUMMARY:Bible Study
DESCRIPTION:
URL:https://www.flcduluth.org/event/bible-study-3/2022-05-13/
CATEGORIES:Bible Study
END:VEVENT
END:VCALENDAR