BEGIN:VCALENDAR
VERSION:2.0
PRODID:-//First Lutheran Church - ECPv6.15.20//NONSGML v1.0//EN
CALSCALE:GREGORIAN
METHOD:PUBLISH
X-ORIGINAL-URL:https://www.flcduluth.org
X-WR-CALDESC:Events for First Lutheran Church
REFRESH-INTERVAL;VALUE=DURATION:PT1H
X-Robots-Tag:noindex
X-PUBLISHED-TTL:PT1H
BEGIN:VTIMEZONE
TZID:America/Chicago
BEGIN:DAYLIGHT
TZOFFSETFROM:-0600
TZOFFSETTO:-0500
TZNAME:CDT
DTSTART:20200308T080000
END:DAYLIGHT
BEGIN:STANDARD
TZOFFSETFROM:-0500
TZOFFSETTO:-0600
TZNAME:CST
DTSTART:20201101T070000
END:STANDARD
BEGIN:DAYLIGHT
TZOFFSETFROM:-0600
TZOFFSETTO:-0500
TZNAME:CDT
DTSTART:20210314T080000
END:DAYLIGHT
BEGIN:STANDARD
TZOFFSETFROM:-0500
TZOFFSETTO:-0600
TZNAME:CST
DTSTART:20211107T070000
END:STANDARD
BEGIN:DAYLIGHT
TZOFFSETFROM:-0600
TZOFFSETTO:-0500
TZNAME:CDT
DTSTART:20220313T080000
END:DAYLIGHT
BEGIN:STANDARD
TZOFFSETFROM:-0500
TZOFFSETTO:-0600
TZNAME:CST
DTSTART:20221106T070000
END:STANDARD
BEGIN:DAYLIGHT
TZOFFSETFROM:-0600
TZOFFSETTO:-0500
TZNAME:CDT
DTSTART:20230312T080000
END:DAYLIGHT
BEGIN:STANDARD
TZOFFSETFROM:-0500
TZOFFSETTO:-0600
TZNAME:CST
DTSTART:20231105T070000
END:STANDARD
END:VTIMEZONE
BEGIN:VEVENT
DTSTART;TZID=America/Chicago:20221121T190000
DTEND;TZID=America/Chicago:20221121T210000
DTSTAMP:20260423T212122
CREATED:20221103T190701Z
LAST-MODIFIED:20221103T190701Z
UID:10001882-1669057200-1669064400@www.flcduluth.org
SUMMARY:The Soul of Money Book Group
DESCRIPTION:
URL:https://www.flcduluth.org/event/the-soul-of-money-book-group/2022-11-21/
CATEGORIES:Book Group
END:VEVENT
BEGIN:VEVENT
DTSTART;TZID=America/Chicago:20221114T190000
DTEND;TZID=America/Chicago:20221114T210000
DTSTAMP:20260423T212122
CREATED:20221103T190701Z
LAST-MODIFIED:20221103T190701Z
UID:10001881-1668452400-1668459600@www.flcduluth.org
SUMMARY:The Soul of Money Book Group
DESCRIPTION:
URL:https://www.flcduluth.org/event/the-soul-of-money-book-group/2022-11-14/
CATEGORIES:Book Group
END:VEVENT
BEGIN:VEVENT
DTSTART;TZID=America/Chicago:20220525T183000
DTEND;TZID=America/Chicago:20220525T200000
DTSTAMP:20260423T212122
CREATED:20220504T175859Z
LAST-MODIFIED:20220504T175859Z
UID:10001661-1653503400-1653508800@www.flcduluth.org
SUMMARY:Jesus for Farmers and Fishers Book Discussion
DESCRIPTION:Wednesday\, May 11\, 18 & 25 at 6:30 PM in the Upper Commons. This book offers a fresh imaginative look at the parables Jesus told\, engaging us in the place and context in which the people were living\, as well as opening new ways of thinking about our current food economy. All are welcome to read and join the conversation. There are a limited supply of books available at the church to purchase. Contact Ann Beck for more information.
URL:https://www.flcduluth.org/event/jesus-for-farmers-and-fishers-book-discussion/2022-05-25/
CATEGORIES:Book Group
END:VEVENT
BEGIN:VEVENT
DTSTART;TZID=America/Chicago:20220518T183000
DTEND;TZID=America/Chicago:20220518T200000
DTSTAMP:20260423T212122
CREATED:20220504T175859Z
LAST-MODIFIED:20220504T175859Z
UID:10001660-1652898600-1652904000@www.flcduluth.org
SUMMARY:Jesus for Farmers and Fishers Book Discussion
DESCRIPTION:Wednesday\, May 11\, 18 & 25 at 6:30 PM in the Upper Commons. This book offers a fresh imaginative look at the parables Jesus told\, engaging us in the place and context in which the people were living\, as well as opening new ways of thinking about our current food economy. All are welcome to read and join the conversation. There are a limited supply of books available at the church to purchase. Contact Ann Beck for more information.
URL:https://www.flcduluth.org/event/jesus-for-farmers-and-fishers-book-discussion/2022-05-18/
CATEGORIES:Book Group
END:VEVENT
BEGIN:VEVENT
DTSTART;TZID=America/Chicago:20220511T183000
DTEND;TZID=America/Chicago:20220511T200000
DTSTAMP:20260423T212122
CREATED:20220504T175859Z
LAST-MODIFIED:20220504T175859Z
UID:10001659-1652293800-1652299200@www.flcduluth.org
SUMMARY:Jesus for Farmers and Fishers Book Discussion
DESCRIPTION:Wednesday\, May 11\, 18 & 25 at 6:30 PM in the Upper Commons. This book offers a fresh imaginative look at the parables Jesus told\, engaging us in the place and context in which the people were living\, as well as opening new ways of thinking about our current food economy. All are welcome to read and join the conversation. There are a limited supply of books available at the church to purchase. Contact Ann Beck for more information.
URL:https://www.flcduluth.org/event/jesus-for-farmers-and-fishers-book-discussion/2022-05-11/
CATEGORIES:Book Group
END:VEVENT
BEGIN:VEVENT
DTSTART;TZID=America/Chicago:20220224T190000
DTEND;TZID=America/Chicago:20220224T203000
DTSTAMP:20260423T212122
CREATED:20220113T194309Z
LAST-MODIFIED:20220114T211449Z
UID:10001509-1645729200-1645734600@www.flcduluth.org
SUMMARY:Racial Justice Team Book Group
DESCRIPTION:Via Zoom\, contact John Musick for more information
URL:https://www.flcduluth.org/event/racial-justice-team-book-group/2022-02-24/
CATEGORIES:Book Group
END:VEVENT
BEGIN:VEVENT
DTSTART;TZID=America/Chicago:20220203T190000
DTEND;TZID=America/Chicago:20220203T203000
DTSTAMP:20260423T212122
CREATED:20220113T194309Z
LAST-MODIFIED:20220114T211449Z
UID:10001508-1643914800-1643920200@www.flcduluth.org
SUMMARY:Racial Justice Team Book Group
DESCRIPTION:Via Zoom\, contact John Musick for more information
URL:https://www.flcduluth.org/event/racial-justice-team-book-group/2022-02-03/
CATEGORIES:Book Group
END:VEVENT
BEGIN:VEVENT
DTSTART;TZID=America/Chicago:20220127T190000
DTEND;TZID=America/Chicago:20220127T203000
DTSTAMP:20260423T212122
CREATED:20220113T194309Z
LAST-MODIFIED:20220114T211449Z
UID:10001507-1643310000-1643315400@www.flcduluth.org
SUMMARY:Racial Justice Team Book Group
DESCRIPTION:Via Zoom\, contact John Musick for more information
URL:https://www.flcduluth.org/event/racial-justice-team-book-group/2022-01-27/
CATEGORIES:Book Group
END:VEVENT
BEGIN:VEVENT
DTSTART;TZID=America/Chicago:20220113T190000
DTEND;TZID=America/Chicago:20220113T203000
DTSTAMP:20260423T212122
CREATED:20220113T194309Z
LAST-MODIFIED:20220114T211449Z
UID:10001506-1642100400-1642105800@www.flcduluth.org
SUMMARY:Racial Justice Team Book Group
DESCRIPTION:Via Zoom\, contact John Musick for more information
URL:https://www.flcduluth.org/event/racial-justice-team-book-group/2022-01-13/
CATEGORIES:Book Group
END:VEVENT
BEGIN:VEVENT
DTSTART;TZID=America/Chicago:20211207T113000
DTEND;TZID=America/Chicago:20211207T130000
DTSTAMP:20260423T212122
CREATED:20211112T194157Z
LAST-MODIFIED:20211112T194157Z
UID:10000239-1638876600-1638882000@www.flcduluth.org
SUMMARY:Book Group
DESCRIPTION:Love without Limits
URL:https://www.flcduluth.org/event/book-group/2021-12-07/
LOCATION:First Lutheran Church\, 1100 E. Superior St.\, Duluth\, MN\, 55802\, United States
CATEGORIES:Book Group
END:VEVENT
BEGIN:VEVENT
DTSTART;TZID=America/Chicago:20211130T113000
DTEND;TZID=America/Chicago:20211130T130000
DTSTAMP:20260423T212122
CREATED:20211112T194157Z
LAST-MODIFIED:20211112T194157Z
UID:10000238-1638271800-1638277200@www.flcduluth.org
SUMMARY:Book Group
DESCRIPTION:Love without Limits
URL:https://www.flcduluth.org/event/book-group/2021-11-30/
LOCATION:First Lutheran Church\, 1100 E. Superior St.\, Duluth\, MN\, 55802\, United States
CATEGORIES:Book Group
END:VEVENT
BEGIN:VEVENT
DTSTART;TZID=America/Chicago:20211123T113000
DTEND;TZID=America/Chicago:20211123T130000
DTSTAMP:20260423T212123
CREATED:20211112T194157Z
LAST-MODIFIED:20211112T194157Z
UID:10000237-1637667000-1637672400@www.flcduluth.org
SUMMARY:Book Group
DESCRIPTION:Love without Limits
URL:https://www.flcduluth.org/event/book-group/2021-11-23/
LOCATION:First Lutheran Church\, 1100 E. Superior St.\, Duluth\, MN\, 55802\, United States
CATEGORIES:Book Group
END:VEVENT
BEGIN:VEVENT
DTSTART;TZID=America/Chicago:20211118T183000
DTEND;TZID=America/Chicago:20211118T193000
DTSTAMP:20260423T212123
CREATED:20211112T194417Z
LAST-MODIFIED:20211112T194417Z
UID:10000263-1637260200-1637263800@www.flcduluth.org
SUMMARY:Book Group
DESCRIPTION:Love Without Limits
URL:https://www.flcduluth.org/event/book-group-2/
CATEGORIES:Book Group
END:VEVENT
BEGIN:VEVENT
DTSTART;TZID=America/Chicago:20211116T113000
DTEND;TZID=America/Chicago:20211116T130000
DTSTAMP:20260423T212123
CREATED:20211112T194157Z
LAST-MODIFIED:20211112T194157Z
UID:10000236-1637062200-1637067600@www.flcduluth.org
SUMMARY:Book Group
DESCRIPTION:Love without Limits
URL:https://www.flcduluth.org/event/book-group/2021-11-16/
LOCATION:First Lutheran Church\, 1100 E. Superior St.\, Duluth\, MN\, 55802\, United States
CATEGORIES:Book Group
END:VEVENT
END:VCALENDAR