BEGIN:VCALENDAR
VERSION:2.0
PRODID:-//First Lutheran Church - ECPv6.15.20//NONSGML v1.0//EN
CALSCALE:GREGORIAN
METHOD:PUBLISH
X-ORIGINAL-URL:https://www.flcduluth.org
X-WR-CALDESC:Events for First Lutheran Church
REFRESH-INTERVAL;VALUE=DURATION:PT1H
X-Robots-Tag:noindex
X-PUBLISHED-TTL:PT1H
BEGIN:VTIMEZONE
TZID:America/Chicago
BEGIN:DAYLIGHT
TZOFFSETFROM:-0600
TZOFFSETTO:-0500
TZNAME:CDT
DTSTART:20210314T080000
END:DAYLIGHT
BEGIN:STANDARD
TZOFFSETFROM:-0500
TZOFFSETTO:-0600
TZNAME:CST
DTSTART:20211107T070000
END:STANDARD
BEGIN:DAYLIGHT
TZOFFSETFROM:-0600
TZOFFSETTO:-0500
TZNAME:CDT
DTSTART:20220313T080000
END:DAYLIGHT
BEGIN:STANDARD
TZOFFSETFROM:-0500
TZOFFSETTO:-0600
TZNAME:CST
DTSTART:20221106T070000
END:STANDARD
BEGIN:DAYLIGHT
TZOFFSETFROM:-0600
TZOFFSETTO:-0500
TZNAME:CDT
DTSTART:20230312T080000
END:DAYLIGHT
BEGIN:STANDARD
TZOFFSETFROM:-0500
TZOFFSETTO:-0600
TZNAME:CST
DTSTART:20231105T070000
END:STANDARD
END:VTIMEZONE
BEGIN:VEVENT
DTSTART;TZID=America/Chicago:20221204T093000
DTEND;TZID=America/Chicago:20221204T103000
DTSTAMP:20260423T183241
CREATED:20221007T161519Z
LAST-MODIFIED:20221007T161519Z
UID:10001757-1670146200-1670149800@www.flcduluth.org
SUMMARY:Sunday School
DESCRIPTION:
URL:https://www.flcduluth.org/event/sunday-school/2022-12-04/
CATEGORIES:Children's Ministry,Youth Ministry
END:VEVENT
BEGIN:VEVENT
DTSTART;TZID=America/Chicago:20221120T093000
DTEND;TZID=America/Chicago:20221120T103000
DTSTAMP:20260423T183241
CREATED:20221020T180522Z
LAST-MODIFIED:20221020T180522Z
UID:10001759-1668936600-1668940200@www.flcduluth.org
SUMMARY:Sunday School
DESCRIPTION:
URL:https://www.flcduluth.org/event/sunday-school/2022-11-20/
CATEGORIES:Children's Ministry,Youth Ministry
END:VEVENT
BEGIN:VEVENT
DTSTART;TZID=America/Chicago:20221106T093000
DTEND;TZID=America/Chicago:20221106T103000
DTSTAMP:20260423T183241
CREATED:20221007T161519Z
LAST-MODIFIED:20221007T161519Z
UID:10001756-1667727000-1667730600@www.flcduluth.org
SUMMARY:Sunday School
DESCRIPTION:
URL:https://www.flcduluth.org/event/sunday-school/2022-11-06/
CATEGORIES:Children's Ministry,Youth Ministry
END:VEVENT
BEGIN:VEVENT
DTSTART;TZID=America/Chicago:20221016T093000
DTEND;TZID=America/Chicago:20221016T103000
DTSTAMP:20260423T183241
CREATED:20221020T180522Z
LAST-MODIFIED:20221020T180522Z
UID:10001758-1665912600-1665916200@www.flcduluth.org
SUMMARY:Sunday School
DESCRIPTION:
URL:https://www.flcduluth.org/event/sunday-school/2022-10-16/
CATEGORIES:Children's Ministry,Youth Ministry
END:VEVENT
BEGIN:VEVENT
DTSTART;TZID=America/Chicago:20221002T093000
DTEND;TZID=America/Chicago:20221002T103000
DTSTAMP:20260423T183241
CREATED:20221007T161519Z
LAST-MODIFIED:20221007T161519Z
UID:10001755-1664703000-1664706600@www.flcduluth.org
SUMMARY:Sunday School
DESCRIPTION:
URL:https://www.flcduluth.org/event/sunday-school/2022-10-02/
CATEGORIES:Children's Ministry,Youth Ministry
END:VEVENT
BEGIN:VEVENT
DTSTART;TZID=America/Chicago:20220525T183000
DTEND;TZID=America/Chicago:20220525T193000
DTSTAMP:20260423T183241
CREATED:20220504T175742Z
LAST-MODIFIED:20220504T175742Z
UID:10001657-1653503400-1653507000@www.flcduluth.org
SUMMARY:Welcome to the Lord's Table
DESCRIPTION:For for all children 3rd grade and older who have not yet participated in classes for Holy Communion. This will be an interactive time that both kids and parents will enjoy!  Dates are Wednesdays from 6:30-7:30\, May 11\, 18 & 25. Our celebratory communion service will be June 5\, Pentecost Sunday!  Please contact the office or Ann Beck with your interest by May 8.
URL:https://www.flcduluth.org/event/welcome-to-the-lords-table/2022-05-25/
CATEGORIES:Children's Ministry
END:VEVENT
BEGIN:VEVENT
DTSTART;TZID=America/Chicago:20220518T183000
DTEND;TZID=America/Chicago:20220518T193000
DTSTAMP:20260423T183241
CREATED:20220504T175742Z
LAST-MODIFIED:20220504T175742Z
UID:10001656-1652898600-1652902200@www.flcduluth.org
SUMMARY:Welcome to the Lord's Table
DESCRIPTION:For for all children 3rd grade and older who have not yet participated in classes for Holy Communion. This will be an interactive time that both kids and parents will enjoy!  Dates are Wednesdays from 6:30-7:30\, May 11\, 18 & 25. Our celebratory communion service will be June 5\, Pentecost Sunday!  Please contact the office or Ann Beck with your interest by May 8.
URL:https://www.flcduluth.org/event/welcome-to-the-lords-table/2022-05-18/
CATEGORIES:Children's Ministry
END:VEVENT
BEGIN:VEVENT
DTSTART;TZID=America/Chicago:20220511T183000
DTEND;TZID=America/Chicago:20220511T193000
DTSTAMP:20260423T183241
CREATED:20220504T175742Z
LAST-MODIFIED:20220504T175742Z
UID:10001655-1652293800-1652297400@www.flcduluth.org
SUMMARY:Welcome to the Lord's Table
DESCRIPTION:For for all children 3rd grade and older who have not yet participated in classes for Holy Communion. This will be an interactive time that both kids and parents will enjoy!  Dates are Wednesdays from 6:30-7:30\, May 11\, 18 & 25. Our celebratory communion service will be June 5\, Pentecost Sunday!  Please contact the office or Ann Beck with your interest by May 8.
URL:https://www.flcduluth.org/event/welcome-to-the-lords-table/2022-05-11/
CATEGORIES:Children's Ministry
END:VEVENT
BEGIN:VEVENT
DTSTART;TZID=America/Chicago:20220501T113000
DTEND;TZID=America/Chicago:20220501T133000
DTSTAMP:20260423T183241
CREATED:20220113T181840Z
LAST-MODIFIED:20220504T180348Z
UID:10001423-1651404600-1651411800@www.flcduluth.org
SUMMARY:Faith Lab
DESCRIPTION:Click her for more information about Faith Lab.
URL:https://www.flcduluth.org/event/faith-lab-2022-02-06/2022-05-01/
CATEGORIES:Bible Study,Children's Ministry,Men's Ministry,Women's Ministry,Youth Ministry
END:VEVENT
BEGIN:VEVENT
DTSTART;TZID=America/Chicago:20220417T113000
DTEND;TZID=America/Chicago:20220417T133000
DTSTAMP:20260423T183241
CREATED:20221020T180359Z
LAST-MODIFIED:20221020T180359Z
UID:10001427-1650195000-1650202200@www.flcduluth.org
SUMMARY:Faith Lab
DESCRIPTION:Click her for more information about Faith Lab.
URL:https://www.flcduluth.org/event/faith-lab-2022-02-06/2022-04-17/
CATEGORIES:Bible Study,Children's Ministry,Men's Ministry,Women's Ministry,Youth Ministry
END:VEVENT
BEGIN:VEVENT
DTSTART;TZID=America/Chicago:20220403T113000
DTEND;TZID=America/Chicago:20220403T133000
DTSTAMP:20260423T183241
CREATED:20220113T181840Z
LAST-MODIFIED:20220504T180348Z
UID:10001422-1648985400-1648992600@www.flcduluth.org
SUMMARY:Faith Lab
DESCRIPTION:Click her for more information about Faith Lab.
URL:https://www.flcduluth.org/event/faith-lab-2022-02-06/2022-04-03/
CATEGORIES:Bible Study,Children's Ministry,Men's Ministry,Women's Ministry,Youth Ministry
END:VEVENT
BEGIN:VEVENT
DTSTART;TZID=America/Chicago:20220320T113000
DTEND;TZID=America/Chicago:20220320T133000
DTSTAMP:20260423T183241
CREATED:20221020T180359Z
LAST-MODIFIED:20221020T180359Z
UID:10001426-1647775800-1647783000@www.flcduluth.org
SUMMARY:Faith Lab
DESCRIPTION:Click her for more information about Faith Lab.
URL:https://www.flcduluth.org/event/faith-lab-2022-02-06/2022-03-20/
CATEGORIES:Bible Study,Children's Ministry,Men's Ministry,Women's Ministry,Youth Ministry
END:VEVENT
BEGIN:VEVENT
DTSTART;TZID=America/Chicago:20220306T113000
DTEND;TZID=America/Chicago:20220306T133000
DTSTAMP:20260423T183241
CREATED:20220113T181840Z
LAST-MODIFIED:20220504T180348Z
UID:10001421-1646566200-1646573400@www.flcduluth.org
SUMMARY:Faith Lab
DESCRIPTION:Click her for more information about Faith Lab.
URL:https://www.flcduluth.org/event/faith-lab-2022-02-06/2022-03-06/
CATEGORIES:Bible Study,Children's Ministry,Men's Ministry,Women's Ministry,Youth Ministry
END:VEVENT
BEGIN:VEVENT
DTSTART;TZID=America/Chicago:20220220T113000
DTEND;TZID=America/Chicago:20220220T133000
DTSTAMP:20260423T183241
CREATED:20221020T180359Z
LAST-MODIFIED:20221020T180359Z
UID:10001425-1645356600-1645363800@www.flcduluth.org
SUMMARY:Faith Lab
DESCRIPTION:Click her for more information about Faith Lab.
URL:https://www.flcduluth.org/event/faith-lab-2022-02-06/2022-02-20/
CATEGORIES:Bible Study,Children's Ministry,Men's Ministry,Women's Ministry,Youth Ministry
END:VEVENT
BEGIN:VEVENT
DTSTART;TZID=America/Chicago:20220206T113000
DTEND;TZID=America/Chicago:20220206T133000
DTSTAMP:20260423T183241
CREATED:20220113T181840Z
LAST-MODIFIED:20220504T180348Z
UID:10001420-1644147000-1644154200@www.flcduluth.org
SUMMARY:Faith Lab
DESCRIPTION:Click her for more information about Faith Lab.
URL:https://www.flcduluth.org/event/faith-lab-2022-02-06/2022-02-06/
CATEGORIES:Bible Study,Children's Ministry,Men's Ministry,Women's Ministry,Youth Ministry
END:VEVENT
END:VCALENDAR