BEGIN:VCALENDAR
VERSION:2.0
PRODID:-//First Lutheran Church - ECPv6.15.20//NONSGML v1.0//EN
CALSCALE:GREGORIAN
METHOD:PUBLISH
X-WR-CALNAME:First Lutheran Church
X-ORIGINAL-URL:https://www.flcduluth.org
X-WR-CALDESC:Events for First Lutheran Church
REFRESH-INTERVAL;VALUE=DURATION:PT1H
X-Robots-Tag:noindex
X-PUBLISHED-TTL:PT1H
BEGIN:VTIMEZONE
TZID:America/Chicago
BEGIN:DAYLIGHT
TZOFFSETFROM:-0600
TZOFFSETTO:-0500
TZNAME:CDT
DTSTART:20210314T080000
END:DAYLIGHT
BEGIN:STANDARD
TZOFFSETFROM:-0500
TZOFFSETTO:-0600
TZNAME:CST
DTSTART:20211107T070000
END:STANDARD
BEGIN:DAYLIGHT
TZOFFSETFROM:-0600
TZOFFSETTO:-0500
TZNAME:CDT
DTSTART:20220313T080000
END:DAYLIGHT
BEGIN:STANDARD
TZOFFSETFROM:-0500
TZOFFSETTO:-0600
TZNAME:CST
DTSTART:20221106T070000
END:STANDARD
BEGIN:DAYLIGHT
TZOFFSETFROM:-0600
TZOFFSETTO:-0500
TZNAME:CDT
DTSTART:20230312T080000
END:DAYLIGHT
BEGIN:STANDARD
TZOFFSETFROM:-0500
TZOFFSETTO:-0600
TZNAME:CST
DTSTART:20231105T070000
END:STANDARD
END:VTIMEZONE
BEGIN:VEVENT
DTSTART;TZID=America/Chicago:20220306T113000
DTEND;TZID=America/Chicago:20220306T133000
DTSTAMP:20260423T200645
CREATED:20220113T181840Z
LAST-MODIFIED:20220504T180348Z
UID:10001421-1646566200-1646573400@www.flcduluth.org
SUMMARY:Faith Lab
DESCRIPTION:Click her for more information about Faith Lab.
URL:https://www.flcduluth.org/event/faith-lab-2022-02-06/2022-03-06/
CATEGORIES:Bible Study,Children's Ministry,Men's Ministry,Women's Ministry,Youth Ministry
END:VEVENT
BEGIN:VEVENT
DTSTART;TZID=America/Chicago:20220220T113000
DTEND;TZID=America/Chicago:20220220T133000
DTSTAMP:20260423T200645
CREATED:20221020T180359Z
LAST-MODIFIED:20221020T180359Z
UID:10001425-1645356600-1645363800@www.flcduluth.org
SUMMARY:Faith Lab
DESCRIPTION:Click her for more information about Faith Lab.
URL:https://www.flcduluth.org/event/faith-lab-2022-02-06/2022-02-20/
CATEGORIES:Bible Study,Children's Ministry,Men's Ministry,Women's Ministry,Youth Ministry
END:VEVENT
BEGIN:VEVENT
DTSTART;TZID=America/Chicago:20220206T113000
DTEND;TZID=America/Chicago:20220206T133000
DTSTAMP:20260423T200645
CREATED:20220113T181840Z
LAST-MODIFIED:20220504T180348Z
UID:10001420-1644147000-1644154200@www.flcduluth.org
SUMMARY:Faith Lab
DESCRIPTION:Click her for more information about Faith Lab.
URL:https://www.flcduluth.org/event/faith-lab-2022-02-06/2022-02-06/
CATEGORIES:Bible Study,Children's Ministry,Men's Ministry,Women's Ministry,Youth Ministry
END:VEVENT
END:VCALENDAR