BEGIN:VCALENDAR
VERSION:2.0
PRODID:-//First Lutheran Church - ECPv6.15.20//NONSGML v1.0//EN
CALSCALE:GREGORIAN
METHOD:PUBLISH
X-WR-CALNAME:First Lutheran Church
X-ORIGINAL-URL:https://www.flcduluth.org
X-WR-CALDESC:Events for First Lutheran Church
REFRESH-INTERVAL;VALUE=DURATION:PT1H
X-Robots-Tag:noindex
X-PUBLISHED-TTL:PT1H
BEGIN:VTIMEZONE
TZID:America/Chicago
BEGIN:DAYLIGHT
TZOFFSETFROM:-0600
TZOFFSETTO:-0500
TZNAME:CDT
DTSTART:20210314T080000
END:DAYLIGHT
BEGIN:STANDARD
TZOFFSETFROM:-0500
TZOFFSETTO:-0600
TZNAME:CST
DTSTART:20211107T070000
END:STANDARD
BEGIN:DAYLIGHT
TZOFFSETFROM:-0600
TZOFFSETTO:-0500
TZNAME:CDT
DTSTART:20220313T080000
END:DAYLIGHT
BEGIN:STANDARD
TZOFFSETFROM:-0500
TZOFFSETTO:-0600
TZNAME:CST
DTSTART:20221106T070000
END:STANDARD
BEGIN:DAYLIGHT
TZOFFSETFROM:-0600
TZOFFSETTO:-0500
TZNAME:CDT
DTSTART:20230312T080000
END:DAYLIGHT
BEGIN:STANDARD
TZOFFSETFROM:-0500
TZOFFSETTO:-0600
TZNAME:CST
DTSTART:20231105T070000
END:STANDARD
BEGIN:DAYLIGHT
TZOFFSETFROM:-0600
TZOFFSETTO:-0500
TZNAME:CDT
DTSTART:20240310T080000
END:DAYLIGHT
BEGIN:STANDARD
TZOFFSETFROM:-0500
TZOFFSETTO:-0600
TZNAME:CST
DTSTART:20241103T070000
END:STANDARD
END:VTIMEZONE
BEGIN:VEVENT
DTSTART;TZID=America/Chicago:20230521T180000
DTEND;TZID=America/Chicago:20230521T193000
DTSTAMP:20260423T184951
CREATED:20230110T215355Z
LAST-MODIFIED:20230110T215449Z
UID:10002142-1684692000-1684697400@www.flcduluth.org
SUMMARY:Confirmation
DESCRIPTION:
URL:https://www.flcduluth.org/event/confirmation-6/2023-05-21/
LOCATION:First Lutheran Church\, 1100 E. Superior St.\, Duluth\, MN\, 55802\, United States
CATEGORIES:Confirmation,Youth Ministry
END:VEVENT
BEGIN:VEVENT
DTSTART;TZID=America/Chicago:20230514T180000
DTEND;TZID=America/Chicago:20230514T193000
DTSTAMP:20260423T184951
CREATED:20230110T215355Z
LAST-MODIFIED:20230110T215449Z
UID:10002141-1684087200-1684092600@www.flcduluth.org
SUMMARY:Confirmation
DESCRIPTION:
URL:https://www.flcduluth.org/event/confirmation-6/2023-05-14/
LOCATION:First Lutheran Church\, 1100 E. Superior St.\, Duluth\, MN\, 55802\, United States
CATEGORIES:Confirmation,Youth Ministry
END:VEVENT
BEGIN:VEVENT
DTSTART;TZID=America/Chicago:20230507T180000
DTEND;TZID=America/Chicago:20230507T193000
DTSTAMP:20260423T184951
CREATED:20230110T215355Z
LAST-MODIFIED:20230110T215449Z
UID:10002140-1683482400-1683487800@www.flcduluth.org
SUMMARY:Confirmation
DESCRIPTION:
URL:https://www.flcduluth.org/event/confirmation-6/2023-05-07/
LOCATION:First Lutheran Church\, 1100 E. Superior St.\, Duluth\, MN\, 55802\, United States
CATEGORIES:Confirmation,Youth Ministry
END:VEVENT
BEGIN:VEVENT
DTSTART;TZID=America/Chicago:20230430T180000
DTEND;TZID=America/Chicago:20230430T193000
DTSTAMP:20260423T184951
CREATED:20230110T215355Z
LAST-MODIFIED:20230110T215449Z
UID:10002139-1682877600-1682883000@www.flcduluth.org
SUMMARY:Confirmation
DESCRIPTION:
URL:https://www.flcduluth.org/event/confirmation-6/2023-04-30/
LOCATION:First Lutheran Church\, 1100 E. Superior St.\, Duluth\, MN\, 55802\, United States
CATEGORIES:Confirmation,Youth Ministry
END:VEVENT
BEGIN:VEVENT
DTSTART;TZID=America/Chicago:20230423T180000
DTEND;TZID=America/Chicago:20230423T193000
DTSTAMP:20260423T184951
CREATED:20230110T215355Z
LAST-MODIFIED:20230110T215449Z
UID:10002138-1682272800-1682278200@www.flcduluth.org
SUMMARY:Confirmation
DESCRIPTION:
URL:https://www.flcduluth.org/event/confirmation-6/2023-04-23/
LOCATION:First Lutheran Church\, 1100 E. Superior St.\, Duluth\, MN\, 55802\, United States
CATEGORIES:Confirmation,Youth Ministry
END:VEVENT
BEGIN:VEVENT
DTSTART;TZID=America/Chicago:20230416T180000
DTEND;TZID=America/Chicago:20230416T193000
DTSTAMP:20260423T184951
CREATED:20230110T215355Z
LAST-MODIFIED:20230110T215449Z
UID:10002137-1681668000-1681673400@www.flcduluth.org
SUMMARY:Confirmation
DESCRIPTION:
URL:https://www.flcduluth.org/event/confirmation-6/2023-04-16/
LOCATION:First Lutheran Church\, 1100 E. Superior St.\, Duluth\, MN\, 55802\, United States
CATEGORIES:Confirmation,Youth Ministry
END:VEVENT
BEGIN:VEVENT
DTSTART;TZID=America/Chicago:20230409T180000
DTEND;TZID=America/Chicago:20230409T193000
DTSTAMP:20260423T184951
CREATED:20230110T215355Z
LAST-MODIFIED:20230110T215449Z
UID:10002136-1681063200-1681068600@www.flcduluth.org
SUMMARY:Confirmation
DESCRIPTION:
URL:https://www.flcduluth.org/event/confirmation-6/2023-04-09/
LOCATION:First Lutheran Church\, 1100 E. Superior St.\, Duluth\, MN\, 55802\, United States
CATEGORIES:Confirmation,Youth Ministry
END:VEVENT
BEGIN:VEVENT
DTSTART;TZID=America/Chicago:20230402T180000
DTEND;TZID=America/Chicago:20230402T193000
DTSTAMP:20260423T184951
CREATED:20230110T215355Z
LAST-MODIFIED:20230110T215449Z
UID:10002135-1680458400-1680463800@www.flcduluth.org
SUMMARY:Confirmation
DESCRIPTION:
URL:https://www.flcduluth.org/event/confirmation-6/2023-04-02/
LOCATION:First Lutheran Church\, 1100 E. Superior St.\, Duluth\, MN\, 55802\, United States
CATEGORIES:Confirmation,Youth Ministry
END:VEVENT
BEGIN:VEVENT
DTSTART;TZID=America/Chicago:20230326T180000
DTEND;TZID=America/Chicago:20230326T193000
DTSTAMP:20260423T184951
CREATED:20230110T215355Z
LAST-MODIFIED:20230110T215449Z
UID:10002134-1679853600-1679859000@www.flcduluth.org
SUMMARY:Confirmation
DESCRIPTION:
URL:https://www.flcduluth.org/event/confirmation-6/2023-03-26/
LOCATION:First Lutheran Church\, 1100 E. Superior St.\, Duluth\, MN\, 55802\, United States
CATEGORIES:Confirmation,Youth Ministry
END:VEVENT
BEGIN:VEVENT
DTSTART;TZID=America/Chicago:20230319T180000
DTEND;TZID=America/Chicago:20230319T193000
DTSTAMP:20260423T184951
CREATED:20230110T215355Z
LAST-MODIFIED:20230110T215449Z
UID:10002133-1679248800-1679254200@www.flcduluth.org
SUMMARY:Confirmation
DESCRIPTION:
URL:https://www.flcduluth.org/event/confirmation-6/2023-03-19/
LOCATION:First Lutheran Church\, 1100 E. Superior St.\, Duluth\, MN\, 55802\, United States
CATEGORIES:Confirmation,Youth Ministry
END:VEVENT
BEGIN:VEVENT
DTSTART;TZID=America/Chicago:20230312T180000
DTEND;TZID=America/Chicago:20230312T193000
DTSTAMP:20260423T184951
CREATED:20230110T215355Z
LAST-MODIFIED:20230110T215449Z
UID:10002132-1678644000-1678649400@www.flcduluth.org
SUMMARY:Confirmation
DESCRIPTION:
URL:https://www.flcduluth.org/event/confirmation-6/2023-03-12/
LOCATION:First Lutheran Church\, 1100 E. Superior St.\, Duluth\, MN\, 55802\, United States
CATEGORIES:Confirmation,Youth Ministry
END:VEVENT
BEGIN:VEVENT
DTSTART;TZID=America/Chicago:20230305T180000
DTEND;TZID=America/Chicago:20230305T193000
DTSTAMP:20260423T184951
CREATED:20230110T215355Z
LAST-MODIFIED:20230110T215449Z
UID:10002131-1678039200-1678044600@www.flcduluth.org
SUMMARY:Confirmation
DESCRIPTION:
URL:https://www.flcduluth.org/event/confirmation-6/2023-03-05/
LOCATION:First Lutheran Church\, 1100 E. Superior St.\, Duluth\, MN\, 55802\, United States
CATEGORIES:Confirmation,Youth Ministry
END:VEVENT
BEGIN:VEVENT
DTSTART;TZID=America/Chicago:20230226T180000
DTEND;TZID=America/Chicago:20230226T193000
DTSTAMP:20260423T184951
CREATED:20230110T215355Z
LAST-MODIFIED:20230110T215449Z
UID:10002130-1677434400-1677439800@www.flcduluth.org
SUMMARY:Confirmation
DESCRIPTION:
URL:https://www.flcduluth.org/event/confirmation-6/2023-02-26/
LOCATION:First Lutheran Church\, 1100 E. Superior St.\, Duluth\, MN\, 55802\, United States
CATEGORIES:Confirmation,Youth Ministry
END:VEVENT
BEGIN:VEVENT
DTSTART;TZID=America/Chicago:20230205T180000
DTEND;TZID=America/Chicago:20230205T193000
DTSTAMP:20260423T184951
CREATED:20230110T215355Z
LAST-MODIFIED:20230110T215449Z
UID:10002127-1675620000-1675625400@www.flcduluth.org
SUMMARY:Confirmation
DESCRIPTION:
URL:https://www.flcduluth.org/event/confirmation-6/2023-02-05/
LOCATION:First Lutheran Church\, 1100 E. Superior St.\, Duluth\, MN\, 55802\, United States
CATEGORIES:Confirmation,Youth Ministry
END:VEVENT
BEGIN:VEVENT
DTSTART;TZID=America/Chicago:20230129T180000
DTEND;TZID=America/Chicago:20230129T193000
DTSTAMP:20260423T184951
CREATED:20230110T215355Z
LAST-MODIFIED:20230110T215449Z
UID:10002126-1675015200-1675020600@www.flcduluth.org
SUMMARY:Confirmation
DESCRIPTION:
URL:https://www.flcduluth.org/event/confirmation-6/2023-01-29/
LOCATION:First Lutheran Church\, 1100 E. Superior St.\, Duluth\, MN\, 55802\, United States
CATEGORIES:Confirmation,Youth Ministry
END:VEVENT
BEGIN:VEVENT
DTSTART;TZID=America/Chicago:20230122T180000
DTEND;TZID=America/Chicago:20230122T193000
DTSTAMP:20260423T184951
CREATED:20230110T215355Z
LAST-MODIFIED:20230110T215449Z
UID:10002125-1674410400-1674415800@www.flcduluth.org
SUMMARY:Confirmation
DESCRIPTION:
URL:https://www.flcduluth.org/event/confirmation-6/2023-01-22/
LOCATION:First Lutheran Church\, 1100 E. Superior St.\, Duluth\, MN\, 55802\, United States
CATEGORIES:Confirmation,Youth Ministry
END:VEVENT
BEGIN:VEVENT
DTSTART;TZID=America/Chicago:20230115T180000
DTEND;TZID=America/Chicago:20230115T193000
DTSTAMP:20260423T184951
CREATED:20230110T215355Z
LAST-MODIFIED:20230110T215449Z
UID:10002124-1673805600-1673811000@www.flcduluth.org
SUMMARY:Confirmation
DESCRIPTION:
URL:https://www.flcduluth.org/event/confirmation-6/2023-01-15/
LOCATION:First Lutheran Church\, 1100 E. Superior St.\, Duluth\, MN\, 55802\, United States
CATEGORIES:Confirmation,Youth Ministry
END:VEVENT
BEGIN:VEVENT
DTSTART;TZID=America/Chicago:20230108T180000
DTEND;TZID=America/Chicago:20230108T193000
DTSTAMP:20260423T184951
CREATED:20230110T215355Z
LAST-MODIFIED:20230110T215449Z
UID:10002123-1673200800-1673206200@www.flcduluth.org
SUMMARY:Confirmation
DESCRIPTION:
URL:https://www.flcduluth.org/event/confirmation-6/2023-01-08/
LOCATION:First Lutheran Church\, 1100 E. Superior St.\, Duluth\, MN\, 55802\, United States
CATEGORIES:Confirmation,Youth Ministry
END:VEVENT
BEGIN:VEVENT
DTSTART;TZID=America/Chicago:20221218T180000
DTEND;TZID=America/Chicago:20221218T193000
DTSTAMP:20260423T184951
CREATED:20221007T143620Z
LAST-MODIFIED:20221007T143620Z
UID:10001831-1671386400-1671391800@www.flcduluth.org
SUMMARY:Confirmation
DESCRIPTION:
URL:https://www.flcduluth.org/event/confirmation-5/2022-12-18/
LOCATION:MN
CATEGORIES:Confirmation
END:VEVENT
BEGIN:VEVENT
DTSTART;TZID=America/Chicago:20221211T180000
DTEND;TZID=America/Chicago:20221211T193000
DTSTAMP:20260423T184951
CREATED:20221007T143620Z
LAST-MODIFIED:20221007T143620Z
UID:10001830-1670781600-1670787000@www.flcduluth.org
SUMMARY:Confirmation
DESCRIPTION:
URL:https://www.flcduluth.org/event/confirmation-5/2022-12-11/
LOCATION:MN
CATEGORIES:Confirmation
END:VEVENT
BEGIN:VEVENT
DTSTART;TZID=America/Chicago:20221204T180000
DTEND;TZID=America/Chicago:20221204T193000
DTSTAMP:20260423T184951
CREATED:20221007T143620Z
LAST-MODIFIED:20221007T143620Z
UID:10001829-1670176800-1670182200@www.flcduluth.org
SUMMARY:Confirmation
DESCRIPTION:
URL:https://www.flcduluth.org/event/confirmation-5/2022-12-04/
LOCATION:MN
CATEGORIES:Confirmation
END:VEVENT
BEGIN:VEVENT
DTSTART;TZID=America/Chicago:20221113T180000
DTEND;TZID=America/Chicago:20221113T193000
DTSTAMP:20260423T184951
CREATED:20221007T143620Z
LAST-MODIFIED:20221007T143620Z
UID:10001827-1668362400-1668367800@www.flcduluth.org
SUMMARY:Confirmation
DESCRIPTION:
URL:https://www.flcduluth.org/event/confirmation-5/2022-11-13/
LOCATION:MN
CATEGORIES:Confirmation
END:VEVENT
BEGIN:VEVENT
DTSTART;TZID=America/Chicago:20221106T180000
DTEND;TZID=America/Chicago:20221106T193000
DTSTAMP:20260423T184951
CREATED:20221007T143620Z
LAST-MODIFIED:20221007T143620Z
UID:10001826-1667757600-1667763000@www.flcduluth.org
SUMMARY:Confirmation
DESCRIPTION:
URL:https://www.flcduluth.org/event/confirmation-5/2022-11-06/
LOCATION:MN
CATEGORIES:Confirmation
END:VEVENT
BEGIN:VEVENT
DTSTART;TZID=America/Chicago:20221030T180000
DTEND;TZID=America/Chicago:20221030T193000
DTSTAMP:20260423T184951
CREATED:20221007T143620Z
LAST-MODIFIED:20221007T143620Z
UID:10001825-1667152800-1667158200@www.flcduluth.org
SUMMARY:Confirmation
DESCRIPTION:
URL:https://www.flcduluth.org/event/confirmation-5/2022-10-30/
LOCATION:MN
CATEGORIES:Confirmation
END:VEVENT
BEGIN:VEVENT
DTSTART;TZID=America/Chicago:20221016T180000
DTEND;TZID=America/Chicago:20221016T193000
DTSTAMP:20260423T184951
CREATED:20221007T143620Z
LAST-MODIFIED:20221007T143620Z
UID:10001824-1665943200-1665948600@www.flcduluth.org
SUMMARY:Confirmation
DESCRIPTION:
URL:https://www.flcduluth.org/event/confirmation-5/2022-10-16/
LOCATION:MN
CATEGORIES:Confirmation
END:VEVENT
BEGIN:VEVENT
DTSTART;TZID=America/Chicago:20221009T180000
DTEND;TZID=America/Chicago:20221009T193000
DTSTAMP:20260423T184951
CREATED:20221007T143620Z
LAST-MODIFIED:20221007T143620Z
UID:10001823-1665338400-1665343800@www.flcduluth.org
SUMMARY:Confirmation
DESCRIPTION:
URL:https://www.flcduluth.org/event/confirmation-5/2022-10-09/
LOCATION:MN
CATEGORIES:Confirmation
END:VEVENT
BEGIN:VEVENT
DTSTART;TZID=America/Chicago:20221002T180000
DTEND;TZID=America/Chicago:20221002T193000
DTSTAMP:20260423T184951
CREATED:20221007T143620Z
LAST-MODIFIED:20221007T143620Z
UID:10001822-1664733600-1664739000@www.flcduluth.org
SUMMARY:Confirmation
DESCRIPTION:
URL:https://www.flcduluth.org/event/confirmation-5/2022-10-02/
LOCATION:MN
CATEGORIES:Confirmation
END:VEVENT
BEGIN:VEVENT
DTSTART;TZID=America/Chicago:20220522T180000
DTEND;TZID=America/Chicago:20220522T193000
DTSTAMP:20260423T184951
CREATED:20220120T214354Z
LAST-MODIFIED:20220310T181314Z
UID:10001505-1653242400-1653247800@www.flcduluth.org
SUMMARY:Confirmation
DESCRIPTION:In the Adult Education Room.
URL:https://www.flcduluth.org/event/confirmation-4/2022-05-22/
LOCATION:MN
CATEGORIES:Confirmation
END:VEVENT
BEGIN:VEVENT
DTSTART;TZID=America/Chicago:20220515T180000
DTEND;TZID=America/Chicago:20220515T193000
DTSTAMP:20260423T184951
CREATED:20220120T214354Z
LAST-MODIFIED:20220310T181314Z
UID:10001504-1652637600-1652643000@www.flcduluth.org
SUMMARY:Confirmation
DESCRIPTION:In the Adult Education Room.
URL:https://www.flcduluth.org/event/confirmation-4/2022-05-15/
LOCATION:MN
CATEGORIES:Confirmation
END:VEVENT
BEGIN:VEVENT
DTSTART;TZID=America/Chicago:20220508T180000
DTEND;TZID=America/Chicago:20220508T193000
DTSTAMP:20260423T184951
CREATED:20220120T214354Z
LAST-MODIFIED:20220310T181314Z
UID:10001503-1652032800-1652038200@www.flcduluth.org
SUMMARY:Confirmation
DESCRIPTION:In the Adult Education Room.
URL:https://www.flcduluth.org/event/confirmation-4/2022-05-08/
LOCATION:MN
CATEGORIES:Confirmation
END:VEVENT
END:VCALENDAR