BEGIN:VCALENDAR
VERSION:2.0
PRODID:-//First Lutheran Church - ECPv6.15.20//NONSGML v1.0//EN
CALSCALE:GREGORIAN
METHOD:PUBLISH
X-ORIGINAL-URL:https://www.flcduluth.org
X-WR-CALDESC:Events for First Lutheran Church
REFRESH-INTERVAL;VALUE=DURATION:PT1H
X-Robots-Tag:noindex
X-PUBLISHED-TTL:PT1H
BEGIN:VTIMEZONE
TZID:America/Chicago
BEGIN:DAYLIGHT
TZOFFSETFROM:-0600
TZOFFSETTO:-0500
TZNAME:CDT
DTSTART:20210314T080000
END:DAYLIGHT
BEGIN:STANDARD
TZOFFSETFROM:-0500
TZOFFSETTO:-0600
TZNAME:CST
DTSTART:20211107T070000
END:STANDARD
BEGIN:DAYLIGHT
TZOFFSETFROM:-0600
TZOFFSETTO:-0500
TZNAME:CDT
DTSTART:20220313T080000
END:DAYLIGHT
BEGIN:STANDARD
TZOFFSETFROM:-0500
TZOFFSETTO:-0600
TZNAME:CST
DTSTART:20221106T070000
END:STANDARD
BEGIN:DAYLIGHT
TZOFFSETFROM:-0600
TZOFFSETTO:-0500
TZNAME:CDT
DTSTART:20230312T080000
END:DAYLIGHT
BEGIN:STANDARD
TZOFFSETFROM:-0500
TZOFFSETTO:-0600
TZNAME:CST
DTSTART:20231105T070000
END:STANDARD
BEGIN:DAYLIGHT
TZOFFSETFROM:-0600
TZOFFSETTO:-0500
TZNAME:CDT
DTSTART:20240310T080000
END:DAYLIGHT
BEGIN:STANDARD
TZOFFSETFROM:-0500
TZOFFSETTO:-0600
TZNAME:CST
DTSTART:20241103T070000
END:STANDARD
END:VTIMEZONE
BEGIN:VEVENT
DTSTART;TZID=America/Chicago:20230909T100000
DTEND;TZID=America/Chicago:20230909T160000
DTSTAMP:20260423T050848
CREATED:20230620T184228Z
LAST-MODIFIED:20230620T184228Z
UID:10004398-1694253600-1694275200@www.flcduluth.org
SUMMARY:Cecile Swenson Funeral
DESCRIPTION:
URL:https://www.flcduluth.org/event/cecile-swenson-funeral/
CATEGORIES:Life Passages
END:VEVENT
BEGIN:VEVENT
DTSTART;VALUE=DATE:20230826
DTEND;VALUE=DATE:20230827
DTSTAMP:20260423T050848
CREATED:20230620T183801Z
LAST-MODIFIED:20230620T183801Z
UID:10004394-1693008000-1693094399@www.flcduluth.org
SUMMARY:Langr/Gregg Wedding
DESCRIPTION:
URL:https://www.flcduluth.org/event/langr-gregg-wedding/
CATEGORIES:Life Passages
END:VEVENT
BEGIN:VEVENT
DTSTART;TZID=America/Chicago:20230825T150000
DTEND;TZID=America/Chicago:20230825T190000
DTSTAMP:20260423T050848
CREATED:20230620T183854Z
LAST-MODIFIED:20230620T183854Z
UID:10004395-1692975600-1692990000@www.flcduluth.org
SUMMARY:Wedding Rehearsal
DESCRIPTION:
URL:https://www.flcduluth.org/event/wedding-rehearsal/
CATEGORIES:Life Passages
END:VEVENT
BEGIN:VEVENT
DTSTART;TZID=America/Chicago:20230719T100000
DTEND;TZID=America/Chicago:20230719T140000
DTSTAMP:20260423T050848
CREATED:20230620T182335Z
LAST-MODIFIED:20230620T182335Z
UID:10004388-1689760800-1689775200@www.flcduluth.org
SUMMARY:Kris Liljeblad Funeral
DESCRIPTION:
URL:https://www.flcduluth.org/event/kris-liljeblad-funeral/
CATEGORIES:Life Passages
END:VEVENT
BEGIN:VEVENT
DTSTART;TZID=America/Chicago:20230621T100000
DTEND;TZID=America/Chicago:20230621T140000
DTSTAMP:20260423T050848
CREATED:20230620T182115Z
LAST-MODIFIED:20230620T182115Z
UID:10004362-1687341600-1687356000@www.flcduluth.org
SUMMARY:Carol Anderson Funeral
DESCRIPTION:Visitation at 10:00am\, Funeral at 11:00am\, lunch following
URL:https://www.flcduluth.org/event/carol-anderson-funeral/
CATEGORIES:Life Passages
END:VEVENT
BEGIN:VEVENT
DTSTART;TZID=America/Chicago:20221001T130000
DTEND;TZID=America/Chicago:20221001T143000
DTSTAMP:20260423T050848
CREATED:20220913T195217Z
LAST-MODIFIED:20220913T195217Z
UID:10001768-1664629200-1664634600@www.flcduluth.org
SUMMARY:Musick Funeral
DESCRIPTION:
URL:https://www.flcduluth.org/event/musick-funeral/
CATEGORIES:Life Passages
END:VEVENT
BEGIN:VEVENT
DTSTART;TZID=America/Chicago:20220923T130000
DTEND;TZID=America/Chicago:20220923T150000
DTSTAMP:20260423T050848
CREATED:20220920T173922Z
LAST-MODIFIED:20220920T173922Z
UID:10001785-1663938000-1663945200@www.flcduluth.org
SUMMARY:Wicklund Funeral
DESCRIPTION:
URL:https://www.flcduluth.org/event/wicklund-funeral/
CATEGORIES:Life Passages
END:VEVENT
BEGIN:VEVENT
DTSTART;TZID=America/Chicago:20220518T100000
DTEND;TZID=America/Chicago:20220518T120000
DTSTAMP:20260423T050848
CREATED:20220511T211053Z
LAST-MODIFIED:20220511T211053Z
UID:10001691-1652868000-1652875200@www.flcduluth.org
SUMMARY:John Ringsred Funeral
DESCRIPTION:Visitation at 10:00am\, Funeral at 11:00am
URL:https://www.flcduluth.org/event/john-ringsred-funeral/
CATEGORIES:Life Passages
END:VEVENT
BEGIN:VEVENT
DTSTART;TZID=America/Chicago:20220423T100000
DTEND;TZID=America/Chicago:20220423T120000
DTSTAMP:20260423T050848
CREATED:20220330T194104Z
LAST-MODIFIED:20220330T194104Z
UID:10000541-1650708000-1650715200@www.flcduluth.org
SUMMARY:Marshall Moen Funeral
DESCRIPTION:Visitation at 10:00am \nFuneral at 11:00am
URL:https://www.flcduluth.org/event/marshall-moen-funeral/
CATEGORIES:Life Passages
END:VEVENT
BEGIN:VEVENT
DTSTART;TZID=America/Chicago:20220420T000000
DTEND;TZID=America/Chicago:20220420T000000
DTSTAMP:20260423T050848
CREATED:20220411T184416Z
LAST-MODIFIED:20220415T162558Z
UID:10001685-1650412800-1650412800@www.flcduluth.org
SUMMARY:Doug Sutherland Funeral
DESCRIPTION:
URL:https://www.flcduluth.org/event/doug-sutherland-funeral/
CATEGORIES:Life Passages
END:VEVENT
BEGIN:VEVENT
DTSTART;TZID=America/Chicago:20220325T100000
DTEND;TZID=America/Chicago:20220325T120000
DTSTAMP:20260423T050848
CREATED:20220301T191447Z
LAST-MODIFIED:20220301T191447Z
UID:10001570-1648202400-1648209600@www.flcduluth.org
SUMMARY:Haslerud Funeral
DESCRIPTION:Funeral for Barbara Haslerud \nTemporary Schedule: visitation at 10:00am\, funeral at 11:00am
URL:https://www.flcduluth.org/event/haslerud-funeral/
CATEGORIES:Life Passages
END:VEVENT
END:VCALENDAR