BEGIN:VCALENDAR
VERSION:2.0
PRODID:-//First Lutheran Church - ECPv6.15.20//NONSGML v1.0//EN
CALSCALE:GREGORIAN
METHOD:PUBLISH
X-ORIGINAL-URL:https://www.flcduluth.org
X-WR-CALDESC:Events for First Lutheran Church
REFRESH-INTERVAL;VALUE=DURATION:PT1H
X-Robots-Tag:noindex
X-PUBLISHED-TTL:PT1H
BEGIN:VTIMEZONE
TZID:America/Chicago
BEGIN:DAYLIGHT
TZOFFSETFROM:-0600
TZOFFSETTO:-0500
TZNAME:CDT
DTSTART:20220313T080000
END:DAYLIGHT
BEGIN:STANDARD
TZOFFSETFROM:-0500
TZOFFSETTO:-0600
TZNAME:CST
DTSTART:20221106T070000
END:STANDARD
BEGIN:DAYLIGHT
TZOFFSETFROM:-0600
TZOFFSETTO:-0500
TZNAME:CDT
DTSTART:20230312T080000
END:DAYLIGHT
BEGIN:STANDARD
TZOFFSETFROM:-0500
TZOFFSETTO:-0600
TZNAME:CST
DTSTART:20231105T070000
END:STANDARD
BEGIN:DAYLIGHT
TZOFFSETFROM:-0600
TZOFFSETTO:-0500
TZNAME:CDT
DTSTART:20240310T080000
END:DAYLIGHT
BEGIN:STANDARD
TZOFFSETFROM:-0500
TZOFFSETTO:-0600
TZNAME:CST
DTSTART:20241103T070000
END:STANDARD
END:VTIMEZONE
BEGIN:VEVENT
DTSTART;TZID=America/Chicago:20231228T073000
DTEND;TZID=America/Chicago:20231228T100000
DTSTAMP:20260423T050901
CREATED:20230110T220915Z
LAST-MODIFIED:20230620T184328Z
UID:10004424-1703748600-1703757600@www.flcduluth.org
SUMMARY:Men's Group
DESCRIPTION:
URL:https://www.flcduluth.org/event/mens-group-3/2023-12-28/
CATEGORIES:Men's Ministry
END:VEVENT
BEGIN:VEVENT
DTSTART;TZID=America/Chicago:20231221T073000
DTEND;TZID=America/Chicago:20231221T100000
DTSTAMP:20260423T050901
CREATED:20230110T220915Z
LAST-MODIFIED:20230620T184328Z
UID:10004423-1703143800-1703152800@www.flcduluth.org
SUMMARY:Men's Group
DESCRIPTION:
URL:https://www.flcduluth.org/event/mens-group-3/2023-12-21/
CATEGORIES:Men's Ministry
END:VEVENT
BEGIN:VEVENT
DTSTART;TZID=America/Chicago:20231214T073000
DTEND;TZID=America/Chicago:20231214T100000
DTSTAMP:20260423T050901
CREATED:20230110T220915Z
LAST-MODIFIED:20230620T184328Z
UID:10004422-1702539000-1702548000@www.flcduluth.org
SUMMARY:Men's Group
DESCRIPTION:
URL:https://www.flcduluth.org/event/mens-group-3/2023-12-14/
CATEGORIES:Men's Ministry
END:VEVENT
BEGIN:VEVENT
DTSTART;TZID=America/Chicago:20231207T073000
DTEND;TZID=America/Chicago:20231207T100000
DTSTAMP:20260423T050901
CREATED:20230110T220915Z
LAST-MODIFIED:20230620T184328Z
UID:10004421-1701934200-1701943200@www.flcduluth.org
SUMMARY:Men's Group
DESCRIPTION:
URL:https://www.flcduluth.org/event/mens-group-3/2023-12-07/
CATEGORIES:Men's Ministry
END:VEVENT
BEGIN:VEVENT
DTSTART;TZID=America/Chicago:20231130T073000
DTEND;TZID=America/Chicago:20231130T100000
DTSTAMP:20260423T050901
CREATED:20230110T220915Z
LAST-MODIFIED:20230620T184328Z
UID:10004420-1701329400-1701338400@www.flcduluth.org
SUMMARY:Men's Group
DESCRIPTION:
URL:https://www.flcduluth.org/event/mens-group-3/2023-11-30/
CATEGORIES:Men's Ministry
END:VEVENT
BEGIN:VEVENT
DTSTART;TZID=America/Chicago:20231123T073000
DTEND;TZID=America/Chicago:20231123T100000
DTSTAMP:20260423T050901
CREATED:20230110T220915Z
LAST-MODIFIED:20230620T184328Z
UID:10004419-1700724600-1700733600@www.flcduluth.org
SUMMARY:Men's Group
DESCRIPTION:
URL:https://www.flcduluth.org/event/mens-group-3/2023-11-23/
CATEGORIES:Men's Ministry
END:VEVENT
BEGIN:VEVENT
DTSTART;TZID=America/Chicago:20231116T073000
DTEND;TZID=America/Chicago:20231116T100000
DTSTAMP:20260423T050901
CREATED:20230110T220915Z
LAST-MODIFIED:20230620T184328Z
UID:10004418-1700119800-1700128800@www.flcduluth.org
SUMMARY:Men's Group
DESCRIPTION:
URL:https://www.flcduluth.org/event/mens-group-3/2023-11-16/
CATEGORIES:Men's Ministry
END:VEVENT
BEGIN:VEVENT
DTSTART;TZID=America/Chicago:20231109T073000
DTEND;TZID=America/Chicago:20231109T100000
DTSTAMP:20260423T050901
CREATED:20230110T220915Z
LAST-MODIFIED:20230620T184328Z
UID:10004417-1699515000-1699524000@www.flcduluth.org
SUMMARY:Men's Group
DESCRIPTION:
URL:https://www.flcduluth.org/event/mens-group-3/2023-11-09/
CATEGORIES:Men's Ministry
END:VEVENT
BEGIN:VEVENT
DTSTART;TZID=America/Chicago:20231102T073000
DTEND;TZID=America/Chicago:20231102T100000
DTSTAMP:20260423T050901
CREATED:20230110T220915Z
LAST-MODIFIED:20230620T184328Z
UID:10004416-1698910200-1698919200@www.flcduluth.org
SUMMARY:Men's Group
DESCRIPTION:
URL:https://www.flcduluth.org/event/mens-group-3/2023-11-02/
CATEGORIES:Men's Ministry
END:VEVENT
BEGIN:VEVENT
DTSTART;TZID=America/Chicago:20231026T073000
DTEND;TZID=America/Chicago:20231026T100000
DTSTAMP:20260423T050901
CREATED:20230110T220915Z
LAST-MODIFIED:20230620T184328Z
UID:10004415-1698305400-1698314400@www.flcduluth.org
SUMMARY:Men's Group
DESCRIPTION:
URL:https://www.flcduluth.org/event/mens-group-3/2023-10-26/
CATEGORIES:Men's Ministry
END:VEVENT
BEGIN:VEVENT
DTSTART;TZID=America/Chicago:20231019T073000
DTEND;TZID=America/Chicago:20231019T100000
DTSTAMP:20260423T050901
CREATED:20230110T220915Z
LAST-MODIFIED:20230620T184328Z
UID:10004414-1697700600-1697709600@www.flcduluth.org
SUMMARY:Men's Group
DESCRIPTION:
URL:https://www.flcduluth.org/event/mens-group-3/2023-10-19/
CATEGORIES:Men's Ministry
END:VEVENT
BEGIN:VEVENT
DTSTART;TZID=America/Chicago:20231012T073000
DTEND;TZID=America/Chicago:20231012T100000
DTSTAMP:20260423T050901
CREATED:20230110T220915Z
LAST-MODIFIED:20230620T184328Z
UID:10004413-1697095800-1697104800@www.flcduluth.org
SUMMARY:Men's Group
DESCRIPTION:
URL:https://www.flcduluth.org/event/mens-group-3/2023-10-12/
CATEGORIES:Men's Ministry
END:VEVENT
BEGIN:VEVENT
DTSTART;TZID=America/Chicago:20231005T073000
DTEND;TZID=America/Chicago:20231005T100000
DTSTAMP:20260423T050901
CREATED:20230110T220915Z
LAST-MODIFIED:20230620T184328Z
UID:10004412-1696491000-1696500000@www.flcduluth.org
SUMMARY:Men's Group
DESCRIPTION:
URL:https://www.flcduluth.org/event/mens-group-3/2023-10-05/
CATEGORIES:Men's Ministry
END:VEVENT
BEGIN:VEVENT
DTSTART;TZID=America/Chicago:20230928T073000
DTEND;TZID=America/Chicago:20230928T100000
DTSTAMP:20260423T050901
CREATED:20230110T220915Z
LAST-MODIFIED:20230620T184328Z
UID:10004411-1695886200-1695895200@www.flcduluth.org
SUMMARY:Men's Group
DESCRIPTION:
URL:https://www.flcduluth.org/event/mens-group-3/2023-09-28/
CATEGORIES:Men's Ministry
END:VEVENT
BEGIN:VEVENT
DTSTART;TZID=America/Chicago:20230921T073000
DTEND;TZID=America/Chicago:20230921T100000
DTSTAMP:20260423T050901
CREATED:20230110T220915Z
LAST-MODIFIED:20230620T184328Z
UID:10004410-1695281400-1695290400@www.flcduluth.org
SUMMARY:Men's Group
DESCRIPTION:
URL:https://www.flcduluth.org/event/mens-group-3/2023-09-21/
CATEGORIES:Men's Ministry
END:VEVENT
BEGIN:VEVENT
DTSTART;TZID=America/Chicago:20230914T073000
DTEND;TZID=America/Chicago:20230914T100000
DTSTAMP:20260423T050901
CREATED:20230110T220915Z
LAST-MODIFIED:20230620T184328Z
UID:10004409-1694676600-1694685600@www.flcduluth.org
SUMMARY:Men's Group
DESCRIPTION:
URL:https://www.flcduluth.org/event/mens-group-3/2023-09-14/
CATEGORIES:Men's Ministry
END:VEVENT
BEGIN:VEVENT
DTSTART;TZID=America/Chicago:20230907T073000
DTEND;TZID=America/Chicago:20230907T100000
DTSTAMP:20260423T050901
CREATED:20230110T220915Z
LAST-MODIFIED:20230620T184328Z
UID:10004408-1694071800-1694080800@www.flcduluth.org
SUMMARY:Men's Group
DESCRIPTION:
URL:https://www.flcduluth.org/event/mens-group-3/2023-09-07/
CATEGORIES:Men's Ministry
END:VEVENT
BEGIN:VEVENT
DTSTART;TZID=America/Chicago:20230831T073000
DTEND;TZID=America/Chicago:20230831T100000
DTSTAMP:20260423T050901
CREATED:20230110T220915Z
LAST-MODIFIED:20230620T184328Z
UID:10004407-1693467000-1693476000@www.flcduluth.org
SUMMARY:Men's Group
DESCRIPTION:
URL:https://www.flcduluth.org/event/mens-group-3/2023-08-31/
CATEGORIES:Men's Ministry
END:VEVENT
BEGIN:VEVENT
DTSTART;TZID=America/Chicago:20230824T073000
DTEND;TZID=America/Chicago:20230824T100000
DTSTAMP:20260423T050901
CREATED:20230110T220915Z
LAST-MODIFIED:20230620T184328Z
UID:10004406-1692862200-1692871200@www.flcduluth.org
SUMMARY:Men's Group
DESCRIPTION:
URL:https://www.flcduluth.org/event/mens-group-3/2023-08-24/
CATEGORIES:Men's Ministry
END:VEVENT
BEGIN:VEVENT
DTSTART;TZID=America/Chicago:20230817T073000
DTEND;TZID=America/Chicago:20230817T100000
DTSTAMP:20260423T050901
CREATED:20230110T220915Z
LAST-MODIFIED:20230620T184328Z
UID:10004405-1692257400-1692266400@www.flcduluth.org
SUMMARY:Men's Group
DESCRIPTION:
URL:https://www.flcduluth.org/event/mens-group-3/2023-08-17/
CATEGORIES:Men's Ministry
END:VEVENT
BEGIN:VEVENT
DTSTART;TZID=America/Chicago:20230810T073000
DTEND;TZID=America/Chicago:20230810T100000
DTSTAMP:20260423T050901
CREATED:20230110T220915Z
LAST-MODIFIED:20230620T184328Z
UID:10004404-1691652600-1691661600@www.flcduluth.org
SUMMARY:Men's Group
DESCRIPTION:
URL:https://www.flcduluth.org/event/mens-group-3/2023-08-10/
CATEGORIES:Men's Ministry
END:VEVENT
BEGIN:VEVENT
DTSTART;TZID=America/Chicago:20230803T073000
DTEND;TZID=America/Chicago:20230803T100000
DTSTAMP:20260423T050901
CREATED:20230110T220915Z
LAST-MODIFIED:20230620T184328Z
UID:10004403-1691047800-1691056800@www.flcduluth.org
SUMMARY:Men's Group
DESCRIPTION:
URL:https://www.flcduluth.org/event/mens-group-3/2023-08-03/
CATEGORIES:Men's Ministry
END:VEVENT
BEGIN:VEVENT
DTSTART;TZID=America/Chicago:20230727T073000
DTEND;TZID=America/Chicago:20230727T100000
DTSTAMP:20260423T050901
CREATED:20230110T220915Z
LAST-MODIFIED:20230620T184328Z
UID:10004402-1690443000-1690452000@www.flcduluth.org
SUMMARY:Men's Group
DESCRIPTION:
URL:https://www.flcduluth.org/event/mens-group-3/2023-07-27/
CATEGORIES:Men's Ministry
END:VEVENT
BEGIN:VEVENT
DTSTART;TZID=America/Chicago:20230720T073000
DTEND;TZID=America/Chicago:20230720T100000
DTSTAMP:20260423T050901
CREATED:20230110T220915Z
LAST-MODIFIED:20230620T184328Z
UID:10004401-1689838200-1689847200@www.flcduluth.org
SUMMARY:Men's Group
DESCRIPTION:
URL:https://www.flcduluth.org/event/mens-group-3/2023-07-20/
CATEGORIES:Men's Ministry
END:VEVENT
BEGIN:VEVENT
DTSTART;TZID=America/Chicago:20230713T073000
DTEND;TZID=America/Chicago:20230713T100000
DTSTAMP:20260423T050901
CREATED:20230110T220915Z
LAST-MODIFIED:20230620T184328Z
UID:10004400-1689233400-1689242400@www.flcduluth.org
SUMMARY:Men's Group
DESCRIPTION:
URL:https://www.flcduluth.org/event/mens-group-3/2023-07-13/
CATEGORIES:Men's Ministry
END:VEVENT
BEGIN:VEVENT
DTSTART;TZID=America/Chicago:20230706T073000
DTEND;TZID=America/Chicago:20230706T100000
DTSTAMP:20260423T050901
CREATED:20230110T220915Z
LAST-MODIFIED:20230620T184328Z
UID:10004399-1688628600-1688637600@www.flcduluth.org
SUMMARY:Men's Group
DESCRIPTION:
URL:https://www.flcduluth.org/event/mens-group-3/2023-07-06/
CATEGORIES:Men's Ministry
END:VEVENT
BEGIN:VEVENT
DTSTART;TZID=America/Chicago:20230629T073000
DTEND;TZID=America/Chicago:20230629T100000
DTSTAMP:20260423T050901
CREATED:20230110T220915Z
LAST-MODIFIED:20230620T184328Z
UID:10004237-1688023800-1688032800@www.flcduluth.org
SUMMARY:Men's Group
DESCRIPTION:
URL:https://www.flcduluth.org/event/mens-group-3/2023-06-29/
CATEGORIES:Men's Ministry
END:VEVENT
BEGIN:VEVENT
DTSTART;TZID=America/Chicago:20230622T073000
DTEND;TZID=America/Chicago:20230622T100000
DTSTAMP:20260423T050901
CREATED:20230110T220915Z
LAST-MODIFIED:20230620T184328Z
UID:10004236-1687419000-1687428000@www.flcduluth.org
SUMMARY:Men's Group
DESCRIPTION:
URL:https://www.flcduluth.org/event/mens-group-3/2023-06-22/
CATEGORIES:Men's Ministry
END:VEVENT
BEGIN:VEVENT
DTSTART;TZID=America/Chicago:20230615T073000
DTEND;TZID=America/Chicago:20230615T100000
DTSTAMP:20260423T050901
CREATED:20230110T220915Z
LAST-MODIFIED:20230620T184328Z
UID:10004235-1686814200-1686823200@www.flcduluth.org
SUMMARY:Men's Group
DESCRIPTION:
URL:https://www.flcduluth.org/event/mens-group-3/2023-06-15/
CATEGORIES:Men's Ministry
END:VEVENT
BEGIN:VEVENT
DTSTART;TZID=America/Chicago:20230608T073000
DTEND;TZID=America/Chicago:20230608T100000
DTSTAMP:20260423T050901
CREATED:20230110T220915Z
LAST-MODIFIED:20230620T184328Z
UID:10004234-1686209400-1686218400@www.flcduluth.org
SUMMARY:Men's Group
DESCRIPTION:
URL:https://www.flcduluth.org/event/mens-group-3/2023-06-08/
CATEGORIES:Men's Ministry
END:VEVENT
END:VCALENDAR