BEGIN:VCALENDAR
VERSION:2.0
PRODID:-//First Lutheran Church - ECPv6.15.20//NONSGML v1.0//EN
CALSCALE:GREGORIAN
METHOD:PUBLISH
X-WR-CALNAME:First Lutheran Church
X-ORIGINAL-URL:https://www.flcduluth.org
X-WR-CALDESC:Events for First Lutheran Church
REFRESH-INTERVAL;VALUE=DURATION:PT1H
X-Robots-Tag:noindex
X-PUBLISHED-TTL:PT1H
BEGIN:VTIMEZONE
TZID:America/Chicago
BEGIN:DAYLIGHT
TZOFFSETFROM:-0600
TZOFFSETTO:-0500
TZNAME:CDT
DTSTART:20200308T080000
END:DAYLIGHT
BEGIN:STANDARD
TZOFFSETFROM:-0500
TZOFFSETTO:-0600
TZNAME:CST
DTSTART:20201101T070000
END:STANDARD
BEGIN:DAYLIGHT
TZOFFSETFROM:-0600
TZOFFSETTO:-0500
TZNAME:CDT
DTSTART:20210314T080000
END:DAYLIGHT
BEGIN:STANDARD
TZOFFSETFROM:-0500
TZOFFSETTO:-0600
TZNAME:CST
DTSTART:20211107T070000
END:STANDARD
BEGIN:DAYLIGHT
TZOFFSETFROM:-0600
TZOFFSETTO:-0500
TZNAME:CDT
DTSTART:20220313T080000
END:DAYLIGHT
BEGIN:STANDARD
TZOFFSETFROM:-0500
TZOFFSETTO:-0600
TZNAME:CST
DTSTART:20221106T070000
END:STANDARD
END:VTIMEZONE
BEGIN:VEVENT
DTSTART;TZID=America/Chicago:20211209T070000
DTEND;TZID=America/Chicago:20211209T090000
DTSTAMP:20260424T101102
CREATED:20211006T213141Z
LAST-MODIFIED:20211006T213141Z
UID:10000942-1639033200-1639040400@www.flcduluth.org
SUMMARY:Men's Group
DESCRIPTION:
URL:https://www.flcduluth.org/event/mens-group/2021-12-09/
LOCATION:First Lutheran Church\, 1100 E. Superior St.\, Duluth\, MN\, 55802\, United States
CATEGORIES:Men's Ministry
END:VEVENT
BEGIN:VEVENT
DTSTART;TZID=America/Chicago:20211203T070000
DTEND;TZID=America/Chicago:20211203T083000
DTSTAMP:20260424T101102
CREATED:20211128T000738Z
LAST-MODIFIED:20211128T000738Z
UID:10000231-1638514800-1638520200@www.flcduluth.org
SUMMARY:Disciples Group
DESCRIPTION:
URL:https://www.flcduluth.org/event/disciples-group/2021-12-03/
LOCATION:MN
CATEGORIES:Men's Ministry
END:VEVENT
BEGIN:VEVENT
DTSTART;TZID=America/Chicago:20211202T070000
DTEND;TZID=America/Chicago:20211202T090000
DTSTAMP:20260424T101102
CREATED:20211006T213141Z
LAST-MODIFIED:20211006T213141Z
UID:10000941-1638428400-1638435600@www.flcduluth.org
SUMMARY:Men's Group
DESCRIPTION:
URL:https://www.flcduluth.org/event/mens-group/2021-12-02/
LOCATION:First Lutheran Church\, 1100 E. Superior St.\, Duluth\, MN\, 55802\, United States
CATEGORIES:Men's Ministry
END:VEVENT
BEGIN:VEVENT
DTSTART;TZID=America/Chicago:20211125T070000
DTEND;TZID=America/Chicago:20211125T090000
DTSTAMP:20260424T101102
CREATED:20211006T213141Z
LAST-MODIFIED:20211006T213141Z
UID:10000940-1637823600-1637830800@www.flcduluth.org
SUMMARY:Men's Group
DESCRIPTION:
URL:https://www.flcduluth.org/event/mens-group/2021-11-25/
LOCATION:First Lutheran Church\, 1100 E. Superior St.\, Duluth\, MN\, 55802\, United States
CATEGORIES:Men's Ministry
END:VEVENT
BEGIN:VEVENT
DTSTART;TZID=America/Chicago:20211118T070000
DTEND;TZID=America/Chicago:20211118T090000
DTSTAMP:20260424T101102
CREATED:20211006T213141Z
LAST-MODIFIED:20211006T213141Z
UID:10000939-1637218800-1637226000@www.flcduluth.org
SUMMARY:Men's Group
DESCRIPTION:
URL:https://www.flcduluth.org/event/mens-group/2021-11-18/
LOCATION:First Lutheran Church\, 1100 E. Superior St.\, Duluth\, MN\, 55802\, United States
CATEGORIES:Men's Ministry
END:VEVENT
BEGIN:VEVENT
DTSTART;TZID=America/Chicago:20211111T070000
DTEND;TZID=America/Chicago:20211111T090000
DTSTAMP:20260424T101102
CREATED:20211006T213141Z
LAST-MODIFIED:20211006T213141Z
UID:10000938-1636614000-1636621200@www.flcduluth.org
SUMMARY:Men's Group
DESCRIPTION:
URL:https://www.flcduluth.org/event/mens-group/2021-11-11/
LOCATION:First Lutheran Church\, 1100 E. Superior St.\, Duluth\, MN\, 55802\, United States
CATEGORIES:Men's Ministry
END:VEVENT
BEGIN:VEVENT
DTSTART;TZID=America/Chicago:20211104T070000
DTEND;TZID=America/Chicago:20211104T090000
DTSTAMP:20260424T101102
CREATED:20211006T213141Z
LAST-MODIFIED:20211006T213141Z
UID:10000937-1636009200-1636016400@www.flcduluth.org
SUMMARY:Men's Group
DESCRIPTION:
URL:https://www.flcduluth.org/event/mens-group/2021-11-04/
LOCATION:First Lutheran Church\, 1100 E. Superior St.\, Duluth\, MN\, 55802\, United States
CATEGORIES:Men's Ministry
END:VEVENT
BEGIN:VEVENT
DTSTART;TZID=America/Chicago:20211028T070000
DTEND;TZID=America/Chicago:20211028T090000
DTSTAMP:20260424T101102
CREATED:20211006T213141Z
LAST-MODIFIED:20211006T213141Z
UID:10000936-1635404400-1635411600@www.flcduluth.org
SUMMARY:Men's Group
DESCRIPTION:
URL:https://www.flcduluth.org/event/mens-group/2021-10-28/
LOCATION:First Lutheran Church\, 1100 E. Superior St.\, Duluth\, MN\, 55802\, United States
CATEGORIES:Men's Ministry
END:VEVENT
BEGIN:VEVENT
DTSTART;TZID=America/Chicago:20211021T070000
DTEND;TZID=America/Chicago:20211021T090000
DTSTAMP:20260424T101102
CREATED:20211006T213141Z
LAST-MODIFIED:20211006T213141Z
UID:10000935-1634799600-1634806800@www.flcduluth.org
SUMMARY:Men's Group
DESCRIPTION:
URL:https://www.flcduluth.org/event/mens-group/2021-10-21/
LOCATION:First Lutheran Church\, 1100 E. Superior St.\, Duluth\, MN\, 55802\, United States
CATEGORIES:Men's Ministry
END:VEVENT
BEGIN:VEVENT
DTSTART;TZID=America/Chicago:20211014T070000
DTEND;TZID=America/Chicago:20211014T090000
DTSTAMP:20260424T101102
CREATED:20211006T213141Z
LAST-MODIFIED:20211006T213141Z
UID:10000934-1634194800-1634202000@www.flcduluth.org
SUMMARY:Men's Group
DESCRIPTION:
URL:https://www.flcduluth.org/event/mens-group/2021-10-14/
LOCATION:First Lutheran Church\, 1100 E. Superior St.\, Duluth\, MN\, 55802\, United States
CATEGORIES:Men's Ministry
END:VEVENT
BEGIN:VEVENT
DTSTART;TZID=America/Chicago:20211007T070000
DTEND;TZID=America/Chicago:20211007T090000
DTSTAMP:20260424T101102
CREATED:20211006T213141Z
LAST-MODIFIED:20211006T213141Z
UID:10000933-1633590000-1633597200@www.flcduluth.org
SUMMARY:Men's Group
DESCRIPTION:
URL:https://www.flcduluth.org/event/mens-group/2021-10-07/
LOCATION:First Lutheran Church\, 1100 E. Superior St.\, Duluth\, MN\, 55802\, United States
CATEGORIES:Men's Ministry
END:VEVENT
END:VCALENDAR