BEGIN:VCALENDAR
VERSION:2.0
PRODID:-//First Lutheran Church - ECPv6.15.20//NONSGML v1.0//EN
CALSCALE:GREGORIAN
METHOD:PUBLISH
X-ORIGINAL-URL:https://www.flcduluth.org
X-WR-CALDESC:Events for First Lutheran Church
REFRESH-INTERVAL;VALUE=DURATION:PT1H
X-Robots-Tag:noindex
X-PUBLISHED-TTL:PT1H
BEGIN:VTIMEZONE
TZID:America/Chicago
BEGIN:DAYLIGHT
TZOFFSETFROM:-0600
TZOFFSETTO:-0500
TZNAME:CDT
DTSTART:20210314T080000
END:DAYLIGHT
BEGIN:STANDARD
TZOFFSETFROM:-0500
TZOFFSETTO:-0600
TZNAME:CST
DTSTART:20211107T070000
END:STANDARD
BEGIN:DAYLIGHT
TZOFFSETFROM:-0600
TZOFFSETTO:-0500
TZNAME:CDT
DTSTART:20220313T080000
END:DAYLIGHT
BEGIN:STANDARD
TZOFFSETFROM:-0500
TZOFFSETTO:-0600
TZNAME:CST
DTSTART:20221106T070000
END:STANDARD
BEGIN:DAYLIGHT
TZOFFSETFROM:-0600
TZOFFSETTO:-0500
TZNAME:CDT
DTSTART:20230312T080000
END:DAYLIGHT
BEGIN:STANDARD
TZOFFSETFROM:-0500
TZOFFSETTO:-0600
TZNAME:CST
DTSTART:20231105T070000
END:STANDARD
BEGIN:DAYLIGHT
TZOFFSETFROM:-0600
TZOFFSETTO:-0500
TZNAME:CDT
DTSTART:20240310T080000
END:DAYLIGHT
BEGIN:STANDARD
TZOFFSETFROM:-0500
TZOFFSETTO:-0600
TZNAME:CST
DTSTART:20241103T070000
END:STANDARD
END:VTIMEZONE
BEGIN:VEVENT
DTSTART;TZID=America/Chicago:20230420T073000
DTEND;TZID=America/Chicago:20230420T100000
DTSTAMP:20260423T095615
CREATED:20230110T220915Z
LAST-MODIFIED:20230620T184328Z
UID:10003009-1681975800-1681984800@www.flcduluth.org
SUMMARY:Men's Group
DESCRIPTION:
URL:https://www.flcduluth.org/event/mens-group-3/2023-04-20/
CATEGORIES:Men's Ministry
END:VEVENT
BEGIN:VEVENT
DTSTART;TZID=America/Chicago:20230413T073000
DTEND;TZID=America/Chicago:20230413T100000
DTSTAMP:20260423T095615
CREATED:20230110T220915Z
LAST-MODIFIED:20230620T184328Z
UID:10003008-1681371000-1681380000@www.flcduluth.org
SUMMARY:Men's Group
DESCRIPTION:
URL:https://www.flcduluth.org/event/mens-group-3/2023-04-13/
CATEGORIES:Men's Ministry
END:VEVENT
BEGIN:VEVENT
DTSTART;TZID=America/Chicago:20230406T073000
DTEND;TZID=America/Chicago:20230406T100000
DTSTAMP:20260423T095615
CREATED:20230110T220915Z
LAST-MODIFIED:20230620T184328Z
UID:10003007-1680766200-1680775200@www.flcduluth.org
SUMMARY:Men's Group
DESCRIPTION:
URL:https://www.flcduluth.org/event/mens-group-3/2023-04-06/
CATEGORIES:Men's Ministry
END:VEVENT
BEGIN:VEVENT
DTSTART;TZID=America/Chicago:20230330T073000
DTEND;TZID=America/Chicago:20230330T100000
DTSTAMP:20260423T095615
CREATED:20230110T220915Z
LAST-MODIFIED:20230620T184328Z
UID:10003006-1680161400-1680170400@www.flcduluth.org
SUMMARY:Men's Group
DESCRIPTION:
URL:https://www.flcduluth.org/event/mens-group-3/2023-03-30/
CATEGORIES:Men's Ministry
END:VEVENT
BEGIN:VEVENT
DTSTART;TZID=America/Chicago:20230323T073000
DTEND;TZID=America/Chicago:20230323T100000
DTSTAMP:20260423T095615
CREATED:20230110T220915Z
LAST-MODIFIED:20230620T184328Z
UID:10003005-1679556600-1679565600@www.flcduluth.org
SUMMARY:Men's Group
DESCRIPTION:
URL:https://www.flcduluth.org/event/mens-group-3/2023-03-23/
CATEGORIES:Men's Ministry
END:VEVENT
BEGIN:VEVENT
DTSTART;TZID=America/Chicago:20230316T073000
DTEND;TZID=America/Chicago:20230316T100000
DTSTAMP:20260423T095615
CREATED:20230110T220915Z
LAST-MODIFIED:20230620T184328Z
UID:10003004-1678951800-1678960800@www.flcduluth.org
SUMMARY:Men's Group
DESCRIPTION:
URL:https://www.flcduluth.org/event/mens-group-3/2023-03-16/
CATEGORIES:Men's Ministry
END:VEVENT
BEGIN:VEVENT
DTSTART;TZID=America/Chicago:20230309T073000
DTEND;TZID=America/Chicago:20230309T100000
DTSTAMP:20260423T095615
CREATED:20230110T220915Z
LAST-MODIFIED:20230620T184328Z
UID:10003003-1678347000-1678356000@www.flcduluth.org
SUMMARY:Men's Group
DESCRIPTION:
URL:https://www.flcduluth.org/event/mens-group-3/2023-03-09/
CATEGORIES:Men's Ministry
END:VEVENT
BEGIN:VEVENT
DTSTART;TZID=America/Chicago:20230302T073000
DTEND;TZID=America/Chicago:20230302T100000
DTSTAMP:20260423T095615
CREATED:20230110T220915Z
LAST-MODIFIED:20230620T184328Z
UID:10003002-1677742200-1677751200@www.flcduluth.org
SUMMARY:Men's Group
DESCRIPTION:
URL:https://www.flcduluth.org/event/mens-group-3/2023-03-02/
CATEGORIES:Men's Ministry
END:VEVENT
BEGIN:VEVENT
DTSTART;TZID=America/Chicago:20230223T073000
DTEND;TZID=America/Chicago:20230223T100000
DTSTAMP:20260423T095615
CREATED:20230110T220915Z
LAST-MODIFIED:20230620T184328Z
UID:10003001-1677137400-1677146400@www.flcduluth.org
SUMMARY:Men's Group
DESCRIPTION:
URL:https://www.flcduluth.org/event/mens-group-3/2023-02-23/
CATEGORIES:Men's Ministry
END:VEVENT
BEGIN:VEVENT
DTSTART;TZID=America/Chicago:20230216T073000
DTEND;TZID=America/Chicago:20230216T100000
DTSTAMP:20260423T095615
CREATED:20230110T220915Z
LAST-MODIFIED:20230620T184328Z
UID:10003000-1676532600-1676541600@www.flcduluth.org
SUMMARY:Men's Group
DESCRIPTION:
URL:https://www.flcduluth.org/event/mens-group-3/2023-02-16/
CATEGORIES:Men's Ministry
END:VEVENT
BEGIN:VEVENT
DTSTART;TZID=America/Chicago:20230209T073000
DTEND;TZID=America/Chicago:20230209T100000
DTSTAMP:20260423T095615
CREATED:20230110T220915Z
LAST-MODIFIED:20230620T184328Z
UID:10002999-1675927800-1675936800@www.flcduluth.org
SUMMARY:Men's Group
DESCRIPTION:
URL:https://www.flcduluth.org/event/mens-group-3/2023-02-09/
CATEGORIES:Men's Ministry
END:VEVENT
BEGIN:VEVENT
DTSTART;TZID=America/Chicago:20230202T073000
DTEND;TZID=America/Chicago:20230202T100000
DTSTAMP:20260423T095615
CREATED:20230110T220915Z
LAST-MODIFIED:20230620T184328Z
UID:10002998-1675323000-1675332000@www.flcduluth.org
SUMMARY:Men's Group
DESCRIPTION:
URL:https://www.flcduluth.org/event/mens-group-3/2023-02-02/
CATEGORIES:Men's Ministry
END:VEVENT
BEGIN:VEVENT
DTSTART;TZID=America/Chicago:20230126T073000
DTEND;TZID=America/Chicago:20230126T100000
DTSTAMP:20260423T095615
CREATED:20230110T220915Z
LAST-MODIFIED:20230620T184328Z
UID:10002997-1674718200-1674727200@www.flcduluth.org
SUMMARY:Men's Group
DESCRIPTION:
URL:https://www.flcduluth.org/event/mens-group-3/2023-01-26/
CATEGORIES:Men's Ministry
END:VEVENT
BEGIN:VEVENT
DTSTART;TZID=America/Chicago:20230119T073000
DTEND;TZID=America/Chicago:20230119T100000
DTSTAMP:20260423T095615
CREATED:20230110T220915Z
LAST-MODIFIED:20230620T184328Z
UID:10002996-1674113400-1674122400@www.flcduluth.org
SUMMARY:Men's Group
DESCRIPTION:
URL:https://www.flcduluth.org/event/mens-group-3/2023-01-19/
CATEGORIES:Men's Ministry
END:VEVENT
BEGIN:VEVENT
DTSTART;TZID=America/Chicago:20230112T073000
DTEND;TZID=America/Chicago:20230112T100000
DTSTAMP:20260423T095615
CREATED:20230110T220915Z
LAST-MODIFIED:20230620T184328Z
UID:10002995-1673508600-1673517600@www.flcduluth.org
SUMMARY:Men's Group
DESCRIPTION:
URL:https://www.flcduluth.org/event/mens-group-3/2023-01-12/
CATEGORIES:Men's Ministry
END:VEVENT
BEGIN:VEVENT
DTSTART;TZID=America/Chicago:20221229T080000
DTEND;TZID=America/Chicago:20221229T100000
DTSTAMP:20260423T095615
CREATED:20220113T180704Z
LAST-MODIFIED:20220808T171203Z
UID:10001311-1672300800-1672308000@www.flcduluth.org
SUMMARY:Men's Ministry Group
DESCRIPTION:
URL:https://www.flcduluth.org/event/mens-ministry-group/2022-12-29/
CATEGORIES:Men's Ministry
END:VEVENT
BEGIN:VEVENT
DTSTART;TZID=America/Chicago:20221222T080000
DTEND;TZID=America/Chicago:20221222T100000
DTSTAMP:20260423T095615
CREATED:20220113T180704Z
LAST-MODIFIED:20220808T171203Z
UID:10001310-1671696000-1671703200@www.flcduluth.org
SUMMARY:Men's Ministry Group
DESCRIPTION:
URL:https://www.flcduluth.org/event/mens-ministry-group/2022-12-22/
CATEGORIES:Men's Ministry
END:VEVENT
BEGIN:VEVENT
DTSTART;TZID=America/Chicago:20221219T190000
DTEND;TZID=America/Chicago:20221219T203000
DTSTAMP:20260423T095615
CREATED:20221103T193606Z
LAST-MODIFIED:20221103T193606Z
UID:10001887-1671476400-1671481800@www.flcduluth.org
SUMMARY:Men's Group
DESCRIPTION:
URL:https://www.flcduluth.org/event/mens-group-2/2022-12-19/
CATEGORIES:Men's Ministry
END:VEVENT
BEGIN:VEVENT
DTSTART;TZID=America/Chicago:20221215T080000
DTEND;TZID=America/Chicago:20221215T100000
DTSTAMP:20260423T095615
CREATED:20220113T180704Z
LAST-MODIFIED:20220808T171203Z
UID:10001309-1671091200-1671098400@www.flcduluth.org
SUMMARY:Men's Ministry Group
DESCRIPTION:
URL:https://www.flcduluth.org/event/mens-ministry-group/2022-12-15/
CATEGORIES:Men's Ministry
END:VEVENT
BEGIN:VEVENT
DTSTART;TZID=America/Chicago:20221208T080000
DTEND;TZID=America/Chicago:20221208T100000
DTSTAMP:20260423T095615
CREATED:20220113T180704Z
LAST-MODIFIED:20220808T171203Z
UID:10001308-1670486400-1670493600@www.flcduluth.org
SUMMARY:Men's Ministry Group
DESCRIPTION:
URL:https://www.flcduluth.org/event/mens-ministry-group/2022-12-08/
CATEGORIES:Men's Ministry
END:VEVENT
BEGIN:VEVENT
DTSTART;TZID=America/Chicago:20221205T190000
DTEND;TZID=America/Chicago:20221205T203000
DTSTAMP:20260423T095615
CREATED:20221103T193606Z
LAST-MODIFIED:20221103T193606Z
UID:10001886-1670266800-1670272200@www.flcduluth.org
SUMMARY:Men's Group
DESCRIPTION:
URL:https://www.flcduluth.org/event/mens-group-2/2022-12-05/
CATEGORIES:Men's Ministry
END:VEVENT
BEGIN:VEVENT
DTSTART;TZID=America/Chicago:20221201T080000
DTEND;TZID=America/Chicago:20221201T100000
DTSTAMP:20260423T095615
CREATED:20220113T180704Z
LAST-MODIFIED:20220808T171203Z
UID:10001307-1669881600-1669888800@www.flcduluth.org
SUMMARY:Men's Ministry Group
DESCRIPTION:
URL:https://www.flcduluth.org/event/mens-ministry-group/2022-12-01/
CATEGORIES:Men's Ministry
END:VEVENT
BEGIN:VEVENT
DTSTART;TZID=America/Chicago:20221124T080000
DTEND;TZID=America/Chicago:20221124T100000
DTSTAMP:20260423T095616
CREATED:20220113T180704Z
LAST-MODIFIED:20220808T171203Z
UID:10001306-1669276800-1669284000@www.flcduluth.org
SUMMARY:Men's Ministry Group
DESCRIPTION:
URL:https://www.flcduluth.org/event/mens-ministry-group/2022-11-24/
CATEGORIES:Men's Ministry
END:VEVENT
BEGIN:VEVENT
DTSTART;TZID=America/Chicago:20221121T190000
DTEND;TZID=America/Chicago:20221121T203000
DTSTAMP:20260423T095616
CREATED:20221103T193606Z
LAST-MODIFIED:20221103T193606Z
UID:10001885-1669057200-1669062600@www.flcduluth.org
SUMMARY:Men's Group
DESCRIPTION:
URL:https://www.flcduluth.org/event/mens-group-2/2022-11-21/
CATEGORIES:Men's Ministry
END:VEVENT
BEGIN:VEVENT
DTSTART;TZID=America/Chicago:20221117T080000
DTEND;TZID=America/Chicago:20221117T100000
DTSTAMP:20260423T095616
CREATED:20220113T180704Z
LAST-MODIFIED:20220808T171203Z
UID:10001305-1668672000-1668679200@www.flcduluth.org
SUMMARY:Men's Ministry Group
DESCRIPTION:
URL:https://www.flcduluth.org/event/mens-ministry-group/2022-11-17/
CATEGORIES:Men's Ministry
END:VEVENT
BEGIN:VEVENT
DTSTART;TZID=America/Chicago:20221110T080000
DTEND;TZID=America/Chicago:20221110T100000
DTSTAMP:20260423T095616
CREATED:20220113T180704Z
LAST-MODIFIED:20220808T171203Z
UID:10001304-1668067200-1668074400@www.flcduluth.org
SUMMARY:Men's Ministry Group
DESCRIPTION:
URL:https://www.flcduluth.org/event/mens-ministry-group/2022-11-10/
CATEGORIES:Men's Ministry
END:VEVENT
BEGIN:VEVENT
DTSTART;TZID=America/Chicago:20221107T190000
DTEND;TZID=America/Chicago:20221107T203000
DTSTAMP:20260423T095616
CREATED:20221103T193606Z
LAST-MODIFIED:20221103T193606Z
UID:10001884-1667847600-1667853000@www.flcduluth.org
SUMMARY:Men's Group
DESCRIPTION:
URL:https://www.flcduluth.org/event/mens-group-2/2022-11-07/
CATEGORIES:Men's Ministry
END:VEVENT
BEGIN:VEVENT
DTSTART;TZID=America/Chicago:20221103T080000
DTEND;TZID=America/Chicago:20221103T100000
DTSTAMP:20260423T095616
CREATED:20220113T180704Z
LAST-MODIFIED:20220808T171203Z
UID:10001303-1667462400-1667469600@www.flcduluth.org
SUMMARY:Men's Ministry Group
DESCRIPTION:
URL:https://www.flcduluth.org/event/mens-ministry-group/2022-11-03/
CATEGORIES:Men's Ministry
END:VEVENT
BEGIN:VEVENT
DTSTART;TZID=America/Chicago:20221027T080000
DTEND;TZID=America/Chicago:20221027T100000
DTSTAMP:20260423T095616
CREATED:20220113T180704Z
LAST-MODIFIED:20220808T171203Z
UID:10001302-1666857600-1666864800@www.flcduluth.org
SUMMARY:Men's Ministry Group
DESCRIPTION:
URL:https://www.flcduluth.org/event/mens-ministry-group/2022-10-27/
CATEGORIES:Men's Ministry
END:VEVENT
BEGIN:VEVENT
DTSTART;TZID=America/Chicago:20221020T080000
DTEND;TZID=America/Chicago:20221020T100000
DTSTAMP:20260423T095616
CREATED:20220113T180704Z
LAST-MODIFIED:20220808T171203Z
UID:10001301-1666252800-1666260000@www.flcduluth.org
SUMMARY:Men's Ministry Group
DESCRIPTION:
URL:https://www.flcduluth.org/event/mens-ministry-group/2022-10-20/
CATEGORIES:Men's Ministry
END:VEVENT
END:VCALENDAR