BEGIN:VCALENDAR
VERSION:2.0
PRODID:-//First Lutheran Church - ECPv6.15.20//NONSGML v1.0//EN
CALSCALE:GREGORIAN
METHOD:PUBLISH
X-ORIGINAL-URL:https://www.flcduluth.org
X-WR-CALDESC:Events for First Lutheran Church
REFRESH-INTERVAL;VALUE=DURATION:PT1H
X-Robots-Tag:noindex
X-PUBLISHED-TTL:PT1H
BEGIN:VTIMEZONE
TZID:America/Chicago
BEGIN:DAYLIGHT
TZOFFSETFROM:-0600
TZOFFSETTO:-0500
TZNAME:CDT
DTSTART:20210314T080000
END:DAYLIGHT
BEGIN:STANDARD
TZOFFSETFROM:-0500
TZOFFSETTO:-0600
TZNAME:CST
DTSTART:20211107T070000
END:STANDARD
BEGIN:DAYLIGHT
TZOFFSETFROM:-0600
TZOFFSETTO:-0500
TZNAME:CDT
DTSTART:20220313T080000
END:DAYLIGHT
BEGIN:STANDARD
TZOFFSETFROM:-0500
TZOFFSETTO:-0600
TZNAME:CST
DTSTART:20221106T070000
END:STANDARD
BEGIN:DAYLIGHT
TZOFFSETFROM:-0600
TZOFFSETTO:-0500
TZNAME:CDT
DTSTART:20230312T080000
END:DAYLIGHT
BEGIN:STANDARD
TZOFFSETFROM:-0500
TZOFFSETTO:-0600
TZNAME:CST
DTSTART:20231105T070000
END:STANDARD
END:VTIMEZONE
BEGIN:VEVENT
DTSTART;TZID=America/Chicago:20220609T080000
DTEND;TZID=America/Chicago:20220609T100000
DTSTAMP:20260423T225953
CREATED:20220113T180704Z
LAST-MODIFIED:20220808T171203Z
UID:10001282-1654761600-1654768800@www.flcduluth.org
SUMMARY:Men's Ministry Group
DESCRIPTION:
URL:https://www.flcduluth.org/event/mens-ministry-group/2022-06-09/
CATEGORIES:Men's Ministry
END:VEVENT
BEGIN:VEVENT
DTSTART;TZID=America/Chicago:20220602T080000
DTEND;TZID=America/Chicago:20220602T100000
DTSTAMP:20260423T225953
CREATED:20220113T180704Z
LAST-MODIFIED:20220808T171203Z
UID:10001281-1654156800-1654164000@www.flcduluth.org
SUMMARY:Men's Ministry Group
DESCRIPTION:
URL:https://www.flcduluth.org/event/mens-ministry-group/2022-06-02/
CATEGORIES:Men's Ministry
END:VEVENT
BEGIN:VEVENT
DTSTART;TZID=America/Chicago:20220526T080000
DTEND;TZID=America/Chicago:20220526T100000
DTSTAMP:20260423T225953
CREATED:20220113T180704Z
LAST-MODIFIED:20220808T171203Z
UID:10001280-1653552000-1653559200@www.flcduluth.org
SUMMARY:Men's Ministry Group
DESCRIPTION:
URL:https://www.flcduluth.org/event/mens-ministry-group/2022-05-26/
CATEGORIES:Men's Ministry
END:VEVENT
BEGIN:VEVENT
DTSTART;TZID=America/Chicago:20220519T080000
DTEND;TZID=America/Chicago:20220519T100000
DTSTAMP:20260423T225953
CREATED:20220113T180704Z
LAST-MODIFIED:20220808T171203Z
UID:10001279-1652947200-1652954400@www.flcduluth.org
SUMMARY:Men's Ministry Group
DESCRIPTION:
URL:https://www.flcduluth.org/event/mens-ministry-group/2022-05-19/
CATEGORIES:Men's Ministry
END:VEVENT
BEGIN:VEVENT
DTSTART;TZID=America/Chicago:20220512T080000
DTEND;TZID=America/Chicago:20220512T100000
DTSTAMP:20260423T225953
CREATED:20220113T180704Z
LAST-MODIFIED:20220808T171203Z
UID:10001278-1652342400-1652349600@www.flcduluth.org
SUMMARY:Men's Ministry Group
DESCRIPTION:
URL:https://www.flcduluth.org/event/mens-ministry-group/2022-05-12/
CATEGORIES:Men's Ministry
END:VEVENT
BEGIN:VEVENT
DTSTART;TZID=America/Chicago:20220505T080000
DTEND;TZID=America/Chicago:20220505T100000
DTSTAMP:20260423T225953
CREATED:20220113T180704Z
LAST-MODIFIED:20220808T171203Z
UID:10001277-1651737600-1651744800@www.flcduluth.org
SUMMARY:Men's Ministry Group
DESCRIPTION:
URL:https://www.flcduluth.org/event/mens-ministry-group/2022-05-05/
CATEGORIES:Men's Ministry
END:VEVENT
BEGIN:VEVENT
DTSTART;TZID=America/Chicago:20220501T113000
DTEND;TZID=America/Chicago:20220501T133000
DTSTAMP:20260423T225953
CREATED:20220113T181840Z
LAST-MODIFIED:20220504T180348Z
UID:10001423-1651404600-1651411800@www.flcduluth.org
SUMMARY:Faith Lab
DESCRIPTION:Click her for more information about Faith Lab.
URL:https://www.flcduluth.org/event/faith-lab-2022-02-06/2022-05-01/
CATEGORIES:Bible Study,Children's Ministry,Men's Ministry,Women's Ministry,Youth Ministry
END:VEVENT
BEGIN:VEVENT
DTSTART;TZID=America/Chicago:20220428T080000
DTEND;TZID=America/Chicago:20220428T100000
DTSTAMP:20260423T225953
CREATED:20220113T180704Z
LAST-MODIFIED:20220808T171203Z
UID:10001276-1651132800-1651140000@www.flcduluth.org
SUMMARY:Men's Ministry Group
DESCRIPTION:
URL:https://www.flcduluth.org/event/mens-ministry-group/2022-04-28/
CATEGORIES:Men's Ministry
END:VEVENT
BEGIN:VEVENT
DTSTART;TZID=America/Chicago:20220421T080000
DTEND;TZID=America/Chicago:20220421T100000
DTSTAMP:20260423T225953
CREATED:20220113T180704Z
LAST-MODIFIED:20220808T171203Z
UID:10001275-1650528000-1650535200@www.flcduluth.org
SUMMARY:Men's Ministry Group
DESCRIPTION:
URL:https://www.flcduluth.org/event/mens-ministry-group/2022-04-21/
CATEGORIES:Men's Ministry
END:VEVENT
BEGIN:VEVENT
DTSTART;TZID=America/Chicago:20220417T113000
DTEND;TZID=America/Chicago:20220417T133000
DTSTAMP:20260423T225953
CREATED:20221020T180359Z
LAST-MODIFIED:20221020T180359Z
UID:10001427-1650195000-1650202200@www.flcduluth.org
SUMMARY:Faith Lab
DESCRIPTION:Click her for more information about Faith Lab.
URL:https://www.flcduluth.org/event/faith-lab-2022-02-06/2022-04-17/
CATEGORIES:Bible Study,Children's Ministry,Men's Ministry,Women's Ministry,Youth Ministry
END:VEVENT
BEGIN:VEVENT
DTSTART;TZID=America/Chicago:20220414T080000
DTEND;TZID=America/Chicago:20220414T100000
DTSTAMP:20260423T225953
CREATED:20220113T180704Z
LAST-MODIFIED:20220808T171203Z
UID:10001274-1649923200-1649930400@www.flcduluth.org
SUMMARY:Men's Ministry Group
DESCRIPTION:
URL:https://www.flcduluth.org/event/mens-ministry-group/2022-04-14/
CATEGORIES:Men's Ministry
END:VEVENT
BEGIN:VEVENT
DTSTART;TZID=America/Chicago:20220407T080000
DTEND;TZID=America/Chicago:20220407T100000
DTSTAMP:20260423T225953
CREATED:20220113T180704Z
LAST-MODIFIED:20220808T171203Z
UID:10001273-1649318400-1649325600@www.flcduluth.org
SUMMARY:Men's Ministry Group
DESCRIPTION:
URL:https://www.flcduluth.org/event/mens-ministry-group/2022-04-07/
CATEGORIES:Men's Ministry
END:VEVENT
BEGIN:VEVENT
DTSTART;TZID=America/Chicago:20220403T113000
DTEND;TZID=America/Chicago:20220403T133000
DTSTAMP:20260423T225953
CREATED:20220113T181840Z
LAST-MODIFIED:20220504T180348Z
UID:10001422-1648985400-1648992600@www.flcduluth.org
SUMMARY:Faith Lab
DESCRIPTION:Click her for more information about Faith Lab.
URL:https://www.flcduluth.org/event/faith-lab-2022-02-06/2022-04-03/
CATEGORIES:Bible Study,Children's Ministry,Men's Ministry,Women's Ministry,Youth Ministry
END:VEVENT
BEGIN:VEVENT
DTSTART;TZID=America/Chicago:20220331T080000
DTEND;TZID=America/Chicago:20220331T100000
DTSTAMP:20260423T225953
CREATED:20220113T180704Z
LAST-MODIFIED:20220808T171203Z
UID:10001272-1648713600-1648720800@www.flcduluth.org
SUMMARY:Men's Ministry Group
DESCRIPTION:
URL:https://www.flcduluth.org/event/mens-ministry-group/2022-03-31/
CATEGORIES:Men's Ministry
END:VEVENT
BEGIN:VEVENT
DTSTART;TZID=America/Chicago:20220324T080000
DTEND;TZID=America/Chicago:20220324T100000
DTSTAMP:20260423T225953
CREATED:20220113T180704Z
LAST-MODIFIED:20220808T171203Z
UID:10001271-1648108800-1648116000@www.flcduluth.org
SUMMARY:Men's Ministry Group
DESCRIPTION:
URL:https://www.flcduluth.org/event/mens-ministry-group/2022-03-24/
CATEGORIES:Men's Ministry
END:VEVENT
BEGIN:VEVENT
DTSTART;TZID=America/Chicago:20220320T113000
DTEND;TZID=America/Chicago:20220320T133000
DTSTAMP:20260423T225953
CREATED:20221020T180359Z
LAST-MODIFIED:20221020T180359Z
UID:10001426-1647775800-1647783000@www.flcduluth.org
SUMMARY:Faith Lab
DESCRIPTION:Click her for more information about Faith Lab.
URL:https://www.flcduluth.org/event/faith-lab-2022-02-06/2022-03-20/
CATEGORIES:Bible Study,Children's Ministry,Men's Ministry,Women's Ministry,Youth Ministry
END:VEVENT
BEGIN:VEVENT
DTSTART;TZID=America/Chicago:20220317T080000
DTEND;TZID=America/Chicago:20220317T100000
DTSTAMP:20260423T225953
CREATED:20220113T180704Z
LAST-MODIFIED:20220808T171203Z
UID:10001270-1647504000-1647511200@www.flcduluth.org
SUMMARY:Men's Ministry Group
DESCRIPTION:
URL:https://www.flcduluth.org/event/mens-ministry-group/2022-03-17/
CATEGORIES:Men's Ministry
END:VEVENT
BEGIN:VEVENT
DTSTART;TZID=America/Chicago:20220310T080000
DTEND;TZID=America/Chicago:20220310T100000
DTSTAMP:20260423T225953
CREATED:20220113T180704Z
LAST-MODIFIED:20220808T171203Z
UID:10001269-1646899200-1646906400@www.flcduluth.org
SUMMARY:Men's Ministry Group
DESCRIPTION:
URL:https://www.flcduluth.org/event/mens-ministry-group/2022-03-10/
CATEGORIES:Men's Ministry
END:VEVENT
BEGIN:VEVENT
DTSTART;TZID=America/Chicago:20220306T113000
DTEND;TZID=America/Chicago:20220306T133000
DTSTAMP:20260423T225953
CREATED:20220113T181840Z
LAST-MODIFIED:20220504T180348Z
UID:10001421-1646566200-1646573400@www.flcduluth.org
SUMMARY:Faith Lab
DESCRIPTION:Click her for more information about Faith Lab.
URL:https://www.flcduluth.org/event/faith-lab-2022-02-06/2022-03-06/
CATEGORIES:Bible Study,Children's Ministry,Men's Ministry,Women's Ministry,Youth Ministry
END:VEVENT
BEGIN:VEVENT
DTSTART;TZID=America/Chicago:20220303T080000
DTEND;TZID=America/Chicago:20220303T100000
DTSTAMP:20260423T225953
CREATED:20220113T180704Z
LAST-MODIFIED:20220808T171203Z
UID:10001268-1646294400-1646301600@www.flcduluth.org
SUMMARY:Men's Ministry Group
DESCRIPTION:
URL:https://www.flcduluth.org/event/mens-ministry-group/2022-03-03/
CATEGORIES:Men's Ministry
END:VEVENT
BEGIN:VEVENT
DTSTART;TZID=America/Chicago:20220224T080000
DTEND;TZID=America/Chicago:20220224T100000
DTSTAMP:20260423T225953
CREATED:20220113T180704Z
LAST-MODIFIED:20220808T171203Z
UID:10001267-1645689600-1645696800@www.flcduluth.org
SUMMARY:Men's Ministry Group
DESCRIPTION:
URL:https://www.flcduluth.org/event/mens-ministry-group/2022-02-24/
CATEGORIES:Men's Ministry
END:VEVENT
BEGIN:VEVENT
DTSTART;TZID=America/Chicago:20220220T113000
DTEND;TZID=America/Chicago:20220220T133000
DTSTAMP:20260423T225953
CREATED:20221020T180359Z
LAST-MODIFIED:20221020T180359Z
UID:10001425-1645356600-1645363800@www.flcduluth.org
SUMMARY:Faith Lab
DESCRIPTION:Click her for more information about Faith Lab.
URL:https://www.flcduluth.org/event/faith-lab-2022-02-06/2022-02-20/
CATEGORIES:Bible Study,Children's Ministry,Men's Ministry,Women's Ministry,Youth Ministry
END:VEVENT
BEGIN:VEVENT
DTSTART;TZID=America/Chicago:20220217T080000
DTEND;TZID=America/Chicago:20220217T100000
DTSTAMP:20260423T225953
CREATED:20220113T180704Z
LAST-MODIFIED:20220808T171203Z
UID:10001266-1645084800-1645092000@www.flcduluth.org
SUMMARY:Men's Ministry Group
DESCRIPTION:
URL:https://www.flcduluth.org/event/mens-ministry-group/2022-02-17/
CATEGORIES:Men's Ministry
END:VEVENT
BEGIN:VEVENT
DTSTART;TZID=America/Chicago:20220210T080000
DTEND;TZID=America/Chicago:20220210T100000
DTSTAMP:20260423T225953
CREATED:20220113T180704Z
LAST-MODIFIED:20220808T171203Z
UID:10001265-1644480000-1644487200@www.flcduluth.org
SUMMARY:Men's Ministry Group
DESCRIPTION:
URL:https://www.flcduluth.org/event/mens-ministry-group/2022-02-10/
CATEGORIES:Men's Ministry
END:VEVENT
BEGIN:VEVENT
DTSTART;TZID=America/Chicago:20220206T113000
DTEND;TZID=America/Chicago:20220206T133000
DTSTAMP:20260423T225953
CREATED:20220113T181840Z
LAST-MODIFIED:20220504T180348Z
UID:10001420-1644147000-1644154200@www.flcduluth.org
SUMMARY:Faith Lab
DESCRIPTION:Click her for more information about Faith Lab.
URL:https://www.flcduluth.org/event/faith-lab-2022-02-06/2022-02-06/
CATEGORIES:Bible Study,Children's Ministry,Men's Ministry,Women's Ministry,Youth Ministry
END:VEVENT
BEGIN:VEVENT
DTSTART;TZID=America/Chicago:20220203T080000
DTEND;TZID=America/Chicago:20220203T100000
DTSTAMP:20260423T225953
CREATED:20220113T180704Z
LAST-MODIFIED:20220808T171203Z
UID:10001264-1643875200-1643882400@www.flcduluth.org
SUMMARY:Men's Ministry Group
DESCRIPTION:
URL:https://www.flcduluth.org/event/mens-ministry-group/2022-02-03/
CATEGORIES:Men's Ministry
END:VEVENT
BEGIN:VEVENT
DTSTART;TZID=America/Chicago:20220127T080000
DTEND;TZID=America/Chicago:20220127T100000
DTSTAMP:20260423T225953
CREATED:20220113T180704Z
LAST-MODIFIED:20220808T171203Z
UID:10001263-1643270400-1643277600@www.flcduluth.org
SUMMARY:Men's Ministry Group
DESCRIPTION:
URL:https://www.flcduluth.org/event/mens-ministry-group/2022-01-27/
CATEGORIES:Men's Ministry
END:VEVENT
BEGIN:VEVENT
DTSTART;TZID=America/Chicago:20220120T080000
DTEND;TZID=America/Chicago:20220120T100000
DTSTAMP:20260423T225953
CREATED:20220113T180704Z
LAST-MODIFIED:20220808T171203Z
UID:10001262-1642665600-1642672800@www.flcduluth.org
SUMMARY:Men's Ministry Group
DESCRIPTION:
URL:https://www.flcduluth.org/event/mens-ministry-group/2022-01-20/
CATEGORIES:Men's Ministry
END:VEVENT
BEGIN:VEVENT
DTSTART;TZID=America/Chicago:20220113T080000
DTEND;TZID=America/Chicago:20220113T100000
DTSTAMP:20260423T225953
CREATED:20220113T180704Z
LAST-MODIFIED:20220808T171203Z
UID:10001261-1642060800-1642068000@www.flcduluth.org
SUMMARY:Men's Ministry Group
DESCRIPTION:
URL:https://www.flcduluth.org/event/mens-ministry-group/2022-01-13/
CATEGORIES:Men's Ministry
END:VEVENT
BEGIN:VEVENT
DTSTART;TZID=America/Chicago:20220106T080000
DTEND;TZID=America/Chicago:20220106T100000
DTSTAMP:20260423T225953
CREATED:20220113T180704Z
LAST-MODIFIED:20220808T171203Z
UID:10001260-1641456000-1641463200@www.flcduluth.org
SUMMARY:Men's Ministry Group
DESCRIPTION:
URL:https://www.flcduluth.org/event/mens-ministry-group/2022-01-06/
CATEGORIES:Men's Ministry
END:VEVENT
END:VCALENDAR