BEGIN:VCALENDAR
VERSION:2.0
PRODID:-//First Lutheran Church - ECPv6.15.20//NONSGML v1.0//EN
CALSCALE:GREGORIAN
METHOD:PUBLISH
X-ORIGINAL-URL:https://www.flcduluth.org
X-WR-CALDESC:Events for First Lutheran Church
REFRESH-INTERVAL;VALUE=DURATION:PT1H
X-Robots-Tag:noindex
X-PUBLISHED-TTL:PT1H
BEGIN:VTIMEZONE
TZID:America/Chicago
BEGIN:DAYLIGHT
TZOFFSETFROM:-0600
TZOFFSETTO:-0500
TZNAME:CDT
DTSTART:20230312T080000
END:DAYLIGHT
BEGIN:STANDARD
TZOFFSETFROM:-0500
TZOFFSETTO:-0600
TZNAME:CST
DTSTART:20231105T070000
END:STANDARD
BEGIN:DAYLIGHT
TZOFFSETFROM:-0600
TZOFFSETTO:-0500
TZNAME:CDT
DTSTART:20240310T080000
END:DAYLIGHT
BEGIN:STANDARD
TZOFFSETFROM:-0500
TZOFFSETTO:-0600
TZNAME:CST
DTSTART:20241103T070000
END:STANDARD
BEGIN:DAYLIGHT
TZOFFSETFROM:-0600
TZOFFSETTO:-0500
TZNAME:CDT
DTSTART:20250309T080000
END:DAYLIGHT
BEGIN:STANDARD
TZOFFSETFROM:-0500
TZOFFSETTO:-0600
TZNAME:CST
DTSTART:20251102T070000
END:STANDARD
END:VTIMEZONE
BEGIN:VEVENT
DTSTART;TZID=America/Chicago:20240403T174500
DTEND;TZID=America/Chicago:20240403T190000
DTSTAMP:20260425T071610
CREATED:20230810T182835Z
LAST-MODIFIED:20240515T191229Z
UID:10004808-1712166300-1712170800@www.flcduluth.org
SUMMARY:Handbell Choir
DESCRIPTION:
URL:https://www.flcduluth.org/event/handbell-choir/2024-04-03/
CATEGORIES:Music Rehearsal
END:VEVENT
BEGIN:VEVENT
DTSTART;TZID=America/Chicago:20240403T191500
DTEND;TZID=America/Chicago:20240403T201500
DTSTAMP:20260425T071610
CREATED:20230810T182600Z
LAST-MODIFIED:20240515T191343Z
UID:10004676-1712171700-1712175300@www.flcduluth.org
SUMMARY:Soli Deo Gloria Choir
DESCRIPTION:
URL:https://www.flcduluth.org/event/soli-deo-gloria-choir/2024-04-03/
CATEGORIES:Music Rehearsal
END:VEVENT
BEGIN:VEVENT
DTSTART;TZID=America/Chicago:20240403T202000
DTEND;TZID=America/Chicago:20240403T210000
DTSTAMP:20260425T071610
CREATED:20230810T182721Z
LAST-MODIFIED:20240515T191459Z
UID:10004744-1712175600-1712178000@www.flcduluth.org
SUMMARY:Chamber Choir
DESCRIPTION:
URL:https://www.flcduluth.org/event/chamber-choir/2024-04-03/
CATEGORIES:Music Rehearsal
END:VEVENT
BEGIN:VEVENT
DTSTART;TZID=America/Chicago:20240410T174500
DTEND;TZID=America/Chicago:20240410T190000
DTSTAMP:20260425T071610
CREATED:20230810T182835Z
LAST-MODIFIED:20240515T191229Z
UID:10004809-1712771100-1712775600@www.flcduluth.org
SUMMARY:Handbell Choir
DESCRIPTION:
URL:https://www.flcduluth.org/event/handbell-choir/2024-04-10/
CATEGORIES:Music Rehearsal
END:VEVENT
BEGIN:VEVENT
DTSTART;TZID=America/Chicago:20240410T191500
DTEND;TZID=America/Chicago:20240410T201500
DTSTAMP:20260425T071610
CREATED:20230810T182600Z
LAST-MODIFIED:20240515T191343Z
UID:10004677-1712776500-1712780100@www.flcduluth.org
SUMMARY:Soli Deo Gloria Choir
DESCRIPTION:
URL:https://www.flcduluth.org/event/soli-deo-gloria-choir/2024-04-10/
CATEGORIES:Music Rehearsal
END:VEVENT
BEGIN:VEVENT
DTSTART;TZID=America/Chicago:20240410T202000
DTEND;TZID=America/Chicago:20240410T210000
DTSTAMP:20260425T071610
CREATED:20230810T182721Z
LAST-MODIFIED:20240515T191459Z
UID:10004745-1712780400-1712782800@www.flcduluth.org
SUMMARY:Chamber Choir
DESCRIPTION:
URL:https://www.flcduluth.org/event/chamber-choir/2024-04-10/
CATEGORIES:Music Rehearsal
END:VEVENT
BEGIN:VEVENT
DTSTART;TZID=America/Chicago:20240417T174500
DTEND;TZID=America/Chicago:20240417T190000
DTSTAMP:20260425T071610
CREATED:20230810T182835Z
LAST-MODIFIED:20240515T191229Z
UID:10004810-1713375900-1713380400@www.flcduluth.org
SUMMARY:Handbell Choir
DESCRIPTION:
URL:https://www.flcduluth.org/event/handbell-choir/2024-04-17/
CATEGORIES:Music Rehearsal
END:VEVENT
BEGIN:VEVENT
DTSTART;TZID=America/Chicago:20240417T191500
DTEND;TZID=America/Chicago:20240417T201500
DTSTAMP:20260425T071610
CREATED:20230810T182600Z
LAST-MODIFIED:20240515T191343Z
UID:10004678-1713381300-1713384900@www.flcduluth.org
SUMMARY:Soli Deo Gloria Choir
DESCRIPTION:
URL:https://www.flcduluth.org/event/soli-deo-gloria-choir/2024-04-17/
CATEGORIES:Music Rehearsal
END:VEVENT
BEGIN:VEVENT
DTSTART;TZID=America/Chicago:20240417T202000
DTEND;TZID=America/Chicago:20240417T210000
DTSTAMP:20260425T071610
CREATED:20230810T182721Z
LAST-MODIFIED:20240515T191459Z
UID:10004746-1713385200-1713387600@www.flcduluth.org
SUMMARY:Chamber Choir
DESCRIPTION:
URL:https://www.flcduluth.org/event/chamber-choir/2024-04-17/
CATEGORIES:Music Rehearsal
END:VEVENT
BEGIN:VEVENT
DTSTART;TZID=America/Chicago:20240421T153000
DTEND;TZID=America/Chicago:20240421T163000
DTSTAMP:20260425T071610
CREATED:20240118T201516Z
LAST-MODIFIED:20240118T201857Z
UID:10005669-1713713400-1713717000@www.flcduluth.org
SUMMARY:Flukes
DESCRIPTION:
URL:https://www.flcduluth.org/event/flukes-7/2024-04-21/
CATEGORIES:Music Rehearsal
END:VEVENT
BEGIN:VEVENT
DTSTART;TZID=America/Chicago:20240424T174500
DTEND;TZID=America/Chicago:20240424T190000
DTSTAMP:20260425T071610
CREATED:20230810T182835Z
LAST-MODIFIED:20240515T191229Z
UID:10004811-1713980700-1713985200@www.flcduluth.org
SUMMARY:Handbell Choir
DESCRIPTION:
URL:https://www.flcduluth.org/event/handbell-choir/2024-04-24/
CATEGORIES:Music Rehearsal
END:VEVENT
BEGIN:VEVENT
DTSTART;TZID=America/Chicago:20240424T191500
DTEND;TZID=America/Chicago:20240424T201500
DTSTAMP:20260425T071610
CREATED:20230810T182600Z
LAST-MODIFIED:20240515T191343Z
UID:10004679-1713986100-1713989700@www.flcduluth.org
SUMMARY:Soli Deo Gloria Choir
DESCRIPTION:
URL:https://www.flcduluth.org/event/soli-deo-gloria-choir/2024-04-24/
CATEGORIES:Music Rehearsal
END:VEVENT
BEGIN:VEVENT
DTSTART;TZID=America/Chicago:20240424T202000
DTEND;TZID=America/Chicago:20240424T210000
DTSTAMP:20260425T071610
CREATED:20230810T182721Z
LAST-MODIFIED:20240515T191459Z
UID:10004747-1713990000-1713992400@www.flcduluth.org
SUMMARY:Chamber Choir
DESCRIPTION:
URL:https://www.flcduluth.org/event/chamber-choir/2024-04-24/
CATEGORIES:Music Rehearsal
END:VEVENT
END:VCALENDAR