BEGIN:VCALENDAR
VERSION:2.0
PRODID:-//First Lutheran Church - ECPv6.15.20//NONSGML v1.0//EN
CALSCALE:GREGORIAN
METHOD:PUBLISH
X-ORIGINAL-URL:https://www.flcduluth.org
X-WR-CALDESC:Events for First Lutheran Church
REFRESH-INTERVAL;VALUE=DURATION:PT1H
X-Robots-Tag:noindex
X-PUBLISHED-TTL:PT1H
BEGIN:VTIMEZONE
TZID:America/Chicago
BEGIN:DAYLIGHT
TZOFFSETFROM:-0600
TZOFFSETTO:-0500
TZNAME:CDT
DTSTART:20230312T080000
END:DAYLIGHT
BEGIN:STANDARD
TZOFFSETFROM:-0500
TZOFFSETTO:-0600
TZNAME:CST
DTSTART:20231105T070000
END:STANDARD
BEGIN:DAYLIGHT
TZOFFSETFROM:-0600
TZOFFSETTO:-0500
TZNAME:CDT
DTSTART:20240310T080000
END:DAYLIGHT
BEGIN:STANDARD
TZOFFSETFROM:-0500
TZOFFSETTO:-0600
TZNAME:CST
DTSTART:20241103T070000
END:STANDARD
BEGIN:DAYLIGHT
TZOFFSETFROM:-0600
TZOFFSETTO:-0500
TZNAME:CDT
DTSTART:20250309T080000
END:DAYLIGHT
BEGIN:STANDARD
TZOFFSETFROM:-0500
TZOFFSETTO:-0600
TZNAME:CST
DTSTART:20251102T070000
END:STANDARD
BEGIN:DAYLIGHT
TZOFFSETFROM:-0600
TZOFFSETTO:-0500
TZNAME:CDT
DTSTART:20260308T080000
END:DAYLIGHT
BEGIN:STANDARD
TZOFFSETFROM:-0500
TZOFFSETTO:-0600
TZNAME:CST
DTSTART:20261101T070000
END:STANDARD
BEGIN:DAYLIGHT
TZOFFSETFROM:-0600
TZOFFSETTO:-0500
TZNAME:CDT
DTSTART:20270314T080000
END:DAYLIGHT
BEGIN:STANDARD
TZOFFSETFROM:-0500
TZOFFSETTO:-0600
TZNAME:CST
DTSTART:20271107T070000
END:STANDARD
END:VTIMEZONE
BEGIN:VEVENT
DTSTART;TZID=America/Chicago:20260422T174500
DTEND;TZID=America/Chicago:20260422T190000
DTSTAMP:20260423T095555
CREATED:20260204T183502Z
LAST-MODIFIED:20260204T183529Z
UID:10006530-1776879900-1776884400@www.flcduluth.org
SUMMARY:Handbells
DESCRIPTION:
URL:https://www.flcduluth.org/event/handbells-2/2026-04-22/
CATEGORIES:Music Rehearsal
END:VEVENT
BEGIN:VEVENT
DTSTART;TZID=America/Chicago:20260415T174500
DTEND;TZID=America/Chicago:20260415T190000
DTSTAMP:20260423T095555
CREATED:20260204T183502Z
LAST-MODIFIED:20260204T183529Z
UID:10006529-1776275100-1776279600@www.flcduluth.org
SUMMARY:Handbells
DESCRIPTION:
URL:https://www.flcduluth.org/event/handbells-2/2026-04-15/
CATEGORIES:Music Rehearsal
END:VEVENT
BEGIN:VEVENT
DTSTART;TZID=America/Chicago:20260408T174500
DTEND;TZID=America/Chicago:20260408T190000
DTSTAMP:20260423T095555
CREATED:20260204T183502Z
LAST-MODIFIED:20260204T183529Z
UID:10006528-1775670300-1775674800@www.flcduluth.org
SUMMARY:Handbells
DESCRIPTION:
URL:https://www.flcduluth.org/event/handbells-2/2026-04-08/
CATEGORIES:Music Rehearsal
END:VEVENT
BEGIN:VEVENT
DTSTART;TZID=America/Chicago:20260401T174500
DTEND;TZID=America/Chicago:20260401T190000
DTSTAMP:20260423T095555
CREATED:20260204T183502Z
LAST-MODIFIED:20260204T183529Z
UID:10006527-1775065500-1775070000@www.flcduluth.org
SUMMARY:Handbells
DESCRIPTION:
URL:https://www.flcduluth.org/event/handbells-2/2026-04-01/
CATEGORIES:Music Rehearsal
END:VEVENT
BEGIN:VEVENT
DTSTART;TZID=America/Chicago:20260325T174500
DTEND;TZID=America/Chicago:20260325T190000
DTSTAMP:20260423T095555
CREATED:20260204T183502Z
LAST-MODIFIED:20260204T183529Z
UID:10006526-1774460700-1774465200@www.flcduluth.org
SUMMARY:Handbells
DESCRIPTION:
URL:https://www.flcduluth.org/event/handbells-2/2026-03-25/
CATEGORIES:Music Rehearsal
END:VEVENT
BEGIN:VEVENT
DTSTART;TZID=America/Chicago:20260318T174500
DTEND;TZID=America/Chicago:20260318T190000
DTSTAMP:20260423T095555
CREATED:20260204T183502Z
LAST-MODIFIED:20260204T183529Z
UID:10006525-1773855900-1773860400@www.flcduluth.org
SUMMARY:Handbells
DESCRIPTION:
URL:https://www.flcduluth.org/event/handbells-2/2026-03-18/
CATEGORIES:Music Rehearsal
END:VEVENT
BEGIN:VEVENT
DTSTART;TZID=America/Chicago:20260311T174500
DTEND;TZID=America/Chicago:20260311T190000
DTSTAMP:20260423T095555
CREATED:20260204T183502Z
LAST-MODIFIED:20260204T183529Z
UID:10006524-1773251100-1773255600@www.flcduluth.org
SUMMARY:Handbells
DESCRIPTION:
URL:https://www.flcduluth.org/event/handbells-2/2026-03-11/
CATEGORIES:Music Rehearsal
END:VEVENT
BEGIN:VEVENT
DTSTART;TZID=America/Chicago:20260304T174500
DTEND;TZID=America/Chicago:20260304T190000
DTSTAMP:20260423T095555
CREATED:20260204T183502Z
LAST-MODIFIED:20260204T183529Z
UID:10006523-1772646300-1772650800@www.flcduluth.org
SUMMARY:Handbells
DESCRIPTION:
URL:https://www.flcduluth.org/event/handbells-2/2026-03-04/
CATEGORIES:Music Rehearsal
END:VEVENT
BEGIN:VEVENT
DTSTART;TZID=America/Chicago:20260225T174500
DTEND;TZID=America/Chicago:20260225T190000
DTSTAMP:20260423T095555
CREATED:20260204T183502Z
LAST-MODIFIED:20260204T183529Z
UID:10006522-1772041500-1772046000@www.flcduluth.org
SUMMARY:Handbells
DESCRIPTION:
URL:https://www.flcduluth.org/event/handbells-2/2026-02-25/
CATEGORIES:Music Rehearsal
END:VEVENT
BEGIN:VEVENT
DTSTART;TZID=America/Chicago:20260218T174500
DTEND;TZID=America/Chicago:20260218T190000
DTSTAMP:20260423T095555
CREATED:20260204T183502Z
LAST-MODIFIED:20260204T183529Z
UID:10006521-1771436700-1771441200@www.flcduluth.org
SUMMARY:Handbells
DESCRIPTION:
URL:https://www.flcduluth.org/event/handbells-2/2026-02-18/
CATEGORIES:Music Rehearsal
END:VEVENT
BEGIN:VEVENT
DTSTART;TZID=America/Chicago:20260211T174500
DTEND;TZID=America/Chicago:20260211T190000
DTSTAMP:20260423T095555
CREATED:20260204T183502Z
LAST-MODIFIED:20260204T183529Z
UID:10006520-1770831900-1770836400@www.flcduluth.org
SUMMARY:Handbells
DESCRIPTION:
URL:https://www.flcduluth.org/event/handbells-2/2026-02-11/
CATEGORIES:Music Rehearsal
END:VEVENT
BEGIN:VEVENT
DTSTART;TZID=America/Chicago:20260204T174500
DTEND;TZID=America/Chicago:20260204T190000
DTSTAMP:20260423T095555
CREATED:20260204T183502Z
LAST-MODIFIED:20260204T183529Z
UID:10006519-1770227100-1770231600@www.flcduluth.org
SUMMARY:Handbells
DESCRIPTION:
URL:https://www.flcduluth.org/event/handbells-2/2026-02-04/
CATEGORIES:Music Rehearsal
END:VEVENT
BEGIN:VEVENT
DTSTART;TZID=America/Chicago:20240519T153000
DTEND;TZID=America/Chicago:20240519T163000
DTSTAMP:20260423T095555
CREATED:20240118T201516Z
LAST-MODIFIED:20240118T201857Z
UID:10005670-1716132600-1716136200@www.flcduluth.org
SUMMARY:Flukes
DESCRIPTION:
URL:https://www.flcduluth.org/event/flukes-7/2024-05-19/
CATEGORIES:Music Rehearsal
END:VEVENT
BEGIN:VEVENT
DTSTART;TZID=America/Chicago:20240508T202000
DTEND;TZID=America/Chicago:20240508T210000
DTSTAMP:20260423T095555
CREATED:20230810T182721Z
LAST-MODIFIED:20240515T191459Z
UID:10004749-1715199600-1715202000@www.flcduluth.org
SUMMARY:Chamber Choir
DESCRIPTION:
URL:https://www.flcduluth.org/event/chamber-choir/2024-05-08/
CATEGORIES:Music Rehearsal
END:VEVENT
BEGIN:VEVENT
DTSTART;TZID=America/Chicago:20240508T191500
DTEND;TZID=America/Chicago:20240508T201500
DTSTAMP:20260423T095555
CREATED:20230810T182600Z
LAST-MODIFIED:20240515T191343Z
UID:10004681-1715195700-1715199300@www.flcduluth.org
SUMMARY:Soli Deo Gloria Choir
DESCRIPTION:
URL:https://www.flcduluth.org/event/soli-deo-gloria-choir/2024-05-08/
CATEGORIES:Music Rehearsal
END:VEVENT
BEGIN:VEVENT
DTSTART;TZID=America/Chicago:20240508T174500
DTEND;TZID=America/Chicago:20240508T190000
DTSTAMP:20260423T095555
CREATED:20230810T182835Z
LAST-MODIFIED:20240515T191229Z
UID:10004813-1715190300-1715194800@www.flcduluth.org
SUMMARY:Handbell Choir
DESCRIPTION:
URL:https://www.flcduluth.org/event/handbell-choir/2024-05-08/
CATEGORIES:Music Rehearsal
END:VEVENT
BEGIN:VEVENT
DTSTART;TZID=America/Chicago:20240501T202000
DTEND;TZID=America/Chicago:20240501T210000
DTSTAMP:20260423T095555
CREATED:20230810T182721Z
LAST-MODIFIED:20240515T191459Z
UID:10004748-1714594800-1714597200@www.flcduluth.org
SUMMARY:Chamber Choir
DESCRIPTION:
URL:https://www.flcduluth.org/event/chamber-choir/2024-05-01/
CATEGORIES:Music Rehearsal
END:VEVENT
BEGIN:VEVENT
DTSTART;TZID=America/Chicago:20240501T191500
DTEND;TZID=America/Chicago:20240501T201500
DTSTAMP:20260423T095555
CREATED:20230810T182600Z
LAST-MODIFIED:20240515T191343Z
UID:10004680-1714590900-1714594500@www.flcduluth.org
SUMMARY:Soli Deo Gloria Choir
DESCRIPTION:
URL:https://www.flcduluth.org/event/soli-deo-gloria-choir/2024-05-01/
CATEGORIES:Music Rehearsal
END:VEVENT
BEGIN:VEVENT
DTSTART;TZID=America/Chicago:20240501T174500
DTEND;TZID=America/Chicago:20240501T190000
DTSTAMP:20260423T095555
CREATED:20230810T182835Z
LAST-MODIFIED:20240515T191229Z
UID:10004812-1714585500-1714590000@www.flcduluth.org
SUMMARY:Handbell Choir
DESCRIPTION:
URL:https://www.flcduluth.org/event/handbell-choir/2024-05-01/
CATEGORIES:Music Rehearsal
END:VEVENT
BEGIN:VEVENT
DTSTART;TZID=America/Chicago:20240424T202000
DTEND;TZID=America/Chicago:20240424T210000
DTSTAMP:20260423T095555
CREATED:20230810T182721Z
LAST-MODIFIED:20240515T191459Z
UID:10004747-1713990000-1713992400@www.flcduluth.org
SUMMARY:Chamber Choir
DESCRIPTION:
URL:https://www.flcduluth.org/event/chamber-choir/2024-04-24/
CATEGORIES:Music Rehearsal
END:VEVENT
BEGIN:VEVENT
DTSTART;TZID=America/Chicago:20240424T191500
DTEND;TZID=America/Chicago:20240424T201500
DTSTAMP:20260423T095555
CREATED:20230810T182600Z
LAST-MODIFIED:20240515T191343Z
UID:10004679-1713986100-1713989700@www.flcduluth.org
SUMMARY:Soli Deo Gloria Choir
DESCRIPTION:
URL:https://www.flcduluth.org/event/soli-deo-gloria-choir/2024-04-24/
CATEGORIES:Music Rehearsal
END:VEVENT
BEGIN:VEVENT
DTSTART;TZID=America/Chicago:20240424T174500
DTEND;TZID=America/Chicago:20240424T190000
DTSTAMP:20260423T095555
CREATED:20230810T182835Z
LAST-MODIFIED:20240515T191229Z
UID:10004811-1713980700-1713985200@www.flcduluth.org
SUMMARY:Handbell Choir
DESCRIPTION:
URL:https://www.flcduluth.org/event/handbell-choir/2024-04-24/
CATEGORIES:Music Rehearsal
END:VEVENT
BEGIN:VEVENT
DTSTART;TZID=America/Chicago:20240421T153000
DTEND;TZID=America/Chicago:20240421T163000
DTSTAMP:20260423T095555
CREATED:20240118T201516Z
LAST-MODIFIED:20240118T201857Z
UID:10005669-1713713400-1713717000@www.flcduluth.org
SUMMARY:Flukes
DESCRIPTION:
URL:https://www.flcduluth.org/event/flukes-7/2024-04-21/
CATEGORIES:Music Rehearsal
END:VEVENT
BEGIN:VEVENT
DTSTART;TZID=America/Chicago:20240417T202000
DTEND;TZID=America/Chicago:20240417T210000
DTSTAMP:20260423T095555
CREATED:20230810T182721Z
LAST-MODIFIED:20240515T191459Z
UID:10004746-1713385200-1713387600@www.flcduluth.org
SUMMARY:Chamber Choir
DESCRIPTION:
URL:https://www.flcduluth.org/event/chamber-choir/2024-04-17/
CATEGORIES:Music Rehearsal
END:VEVENT
BEGIN:VEVENT
DTSTART;TZID=America/Chicago:20240417T191500
DTEND;TZID=America/Chicago:20240417T201500
DTSTAMP:20260423T095555
CREATED:20230810T182600Z
LAST-MODIFIED:20240515T191343Z
UID:10004678-1713381300-1713384900@www.flcduluth.org
SUMMARY:Soli Deo Gloria Choir
DESCRIPTION:
URL:https://www.flcduluth.org/event/soli-deo-gloria-choir/2024-04-17/
CATEGORIES:Music Rehearsal
END:VEVENT
BEGIN:VEVENT
DTSTART;TZID=America/Chicago:20240417T174500
DTEND;TZID=America/Chicago:20240417T190000
DTSTAMP:20260423T095555
CREATED:20230810T182835Z
LAST-MODIFIED:20240515T191229Z
UID:10004810-1713375900-1713380400@www.flcduluth.org
SUMMARY:Handbell Choir
DESCRIPTION:
URL:https://www.flcduluth.org/event/handbell-choir/2024-04-17/
CATEGORIES:Music Rehearsal
END:VEVENT
BEGIN:VEVENT
DTSTART;TZID=America/Chicago:20240410T202000
DTEND;TZID=America/Chicago:20240410T210000
DTSTAMP:20260423T095555
CREATED:20230810T182721Z
LAST-MODIFIED:20240515T191459Z
UID:10004745-1712780400-1712782800@www.flcduluth.org
SUMMARY:Chamber Choir
DESCRIPTION:
URL:https://www.flcduluth.org/event/chamber-choir/2024-04-10/
CATEGORIES:Music Rehearsal
END:VEVENT
BEGIN:VEVENT
DTSTART;TZID=America/Chicago:20240410T191500
DTEND;TZID=America/Chicago:20240410T201500
DTSTAMP:20260423T095555
CREATED:20230810T182600Z
LAST-MODIFIED:20240515T191343Z
UID:10004677-1712776500-1712780100@www.flcduluth.org
SUMMARY:Soli Deo Gloria Choir
DESCRIPTION:
URL:https://www.flcduluth.org/event/soli-deo-gloria-choir/2024-04-10/
CATEGORIES:Music Rehearsal
END:VEVENT
BEGIN:VEVENT
DTSTART;TZID=America/Chicago:20240410T174500
DTEND;TZID=America/Chicago:20240410T190000
DTSTAMP:20260423T095555
CREATED:20230810T182835Z
LAST-MODIFIED:20240515T191229Z
UID:10004809-1712771100-1712775600@www.flcduluth.org
SUMMARY:Handbell Choir
DESCRIPTION:
URL:https://www.flcduluth.org/event/handbell-choir/2024-04-10/
CATEGORIES:Music Rehearsal
END:VEVENT
BEGIN:VEVENT
DTSTART;TZID=America/Chicago:20240403T202000
DTEND;TZID=America/Chicago:20240403T210000
DTSTAMP:20260423T095555
CREATED:20230810T182721Z
LAST-MODIFIED:20240515T191459Z
UID:10004744-1712175600-1712178000@www.flcduluth.org
SUMMARY:Chamber Choir
DESCRIPTION:
URL:https://www.flcduluth.org/event/chamber-choir/2024-04-03/
CATEGORIES:Music Rehearsal
END:VEVENT
END:VCALENDAR