BEGIN:VCALENDAR
VERSION:2.0
PRODID:-//First Lutheran Church - ECPv6.15.20//NONSGML v1.0//EN
CALSCALE:GREGORIAN
METHOD:PUBLISH
X-WR-CALNAME:First Lutheran Church
X-ORIGINAL-URL:https://www.flcduluth.org
X-WR-CALDESC:Events for First Lutheran Church
REFRESH-INTERVAL;VALUE=DURATION:PT1H
X-Robots-Tag:noindex
X-PUBLISHED-TTL:PT1H
BEGIN:VTIMEZONE
TZID:America/Chicago
BEGIN:DAYLIGHT
TZOFFSETFROM:-0600
TZOFFSETTO:-0500
TZNAME:CDT
DTSTART:20220313T080000
END:DAYLIGHT
BEGIN:STANDARD
TZOFFSETFROM:-0500
TZOFFSETTO:-0600
TZNAME:CST
DTSTART:20221106T070000
END:STANDARD
BEGIN:DAYLIGHT
TZOFFSETFROM:-0600
TZOFFSETTO:-0500
TZNAME:CDT
DTSTART:20230312T080000
END:DAYLIGHT
BEGIN:STANDARD
TZOFFSETFROM:-0500
TZOFFSETTO:-0600
TZNAME:CST
DTSTART:20231105T070000
END:STANDARD
BEGIN:DAYLIGHT
TZOFFSETFROM:-0600
TZOFFSETTO:-0500
TZNAME:CDT
DTSTART:20240310T080000
END:DAYLIGHT
BEGIN:STANDARD
TZOFFSETFROM:-0500
TZOFFSETTO:-0600
TZNAME:CST
DTSTART:20241103T070000
END:STANDARD
END:VTIMEZONE
BEGIN:VEVENT
DTSTART;TZID=America/Chicago:20230913T202000
DTEND;TZID=America/Chicago:20230913T210000
DTSTAMP:20260424T110658
CREATED:20230810T182721Z
LAST-MODIFIED:20240515T191459Z
UID:10004715-1694636400-1694638800@www.flcduluth.org
SUMMARY:Chamber Choir
DESCRIPTION:
URL:https://www.flcduluth.org/event/chamber-choir/2023-09-13/
CATEGORIES:Music Rehearsal
END:VEVENT
BEGIN:VEVENT
DTSTART;TZID=America/Chicago:20230913T191500
DTEND;TZID=America/Chicago:20230913T201500
DTSTAMP:20260424T110658
CREATED:20230810T182600Z
LAST-MODIFIED:20240515T191343Z
UID:10004647-1694632500-1694636100@www.flcduluth.org
SUMMARY:Soli Deo Gloria Choir
DESCRIPTION:
URL:https://www.flcduluth.org/event/soli-deo-gloria-choir/2023-09-13/
CATEGORIES:Music Rehearsal
END:VEVENT
BEGIN:VEVENT
DTSTART;TZID=America/Chicago:20230913T174500
DTEND;TZID=America/Chicago:20230913T190000
DTSTAMP:20260424T110658
CREATED:20230810T182835Z
LAST-MODIFIED:20240515T191229Z
UID:10004779-1694627100-1694631600@www.flcduluth.org
SUMMARY:Handbell Choir
DESCRIPTION:
URL:https://www.flcduluth.org/event/handbell-choir/2023-09-13/
CATEGORIES:Music Rehearsal
END:VEVENT
BEGIN:VEVENT
DTSTART;TZID=America/Chicago:20230906T202000
DTEND;TZID=America/Chicago:20230906T210000
DTSTAMP:20260424T110658
CREATED:20230810T182721Z
LAST-MODIFIED:20240515T191459Z
UID:10004714-1694031600-1694034000@www.flcduluth.org
SUMMARY:Chamber Choir
DESCRIPTION:
URL:https://www.flcduluth.org/event/chamber-choir/2023-09-06/
CATEGORIES:Music Rehearsal
END:VEVENT
BEGIN:VEVENT
DTSTART;TZID=America/Chicago:20230906T191500
DTEND;TZID=America/Chicago:20230906T201500
DTSTAMP:20260424T110658
CREATED:20230810T182600Z
LAST-MODIFIED:20240515T191343Z
UID:10004646-1694027700-1694031300@www.flcduluth.org
SUMMARY:Soli Deo Gloria Choir
DESCRIPTION:
URL:https://www.flcduluth.org/event/soli-deo-gloria-choir/2023-09-06/
CATEGORIES:Music Rehearsal
END:VEVENT
BEGIN:VEVENT
DTSTART;TZID=America/Chicago:20230906T174500
DTEND;TZID=America/Chicago:20230906T190000
DTSTAMP:20260424T110658
CREATED:20230810T182835Z
LAST-MODIFIED:20240515T191229Z
UID:10004778-1694022300-1694026800@www.flcduluth.org
SUMMARY:Handbell Choir
DESCRIPTION:
URL:https://www.flcduluth.org/event/handbell-choir/2023-09-06/
CATEGORIES:Music Rehearsal
END:VEVENT
BEGIN:VEVENT
DTSTART;TZID=America/Chicago:20230903T153000
DTEND;TZID=America/Chicago:20230903T170000
DTSTAMP:20260424T110658
CREATED:20230829T193521Z
LAST-MODIFIED:20230829T193521Z
UID:10005114-1693755000-1693760400@www.flcduluth.org
SUMMARY:Flukes
DESCRIPTION:
URL:https://www.flcduluth.org/event/flukes-5/2023-09-03/
CATEGORIES:Music Rehearsal
END:VEVENT
BEGIN:VEVENT
DTSTART;TZID=America/Chicago:20230716T180000
DTEND;TZID=America/Chicago:20230716T210000
DTSTAMP:20260424T110658
CREATED:20230706T191039Z
LAST-MODIFIED:20230706T191039Z
UID:10004514-1689530400-1689541200@www.flcduluth.org
SUMMARY:Private Music Rehearsal
DESCRIPTION:
URL:https://www.flcduluth.org/event/private-music-rehearsal-5/
CATEGORIES:Music Rehearsal
END:VEVENT
BEGIN:VEVENT
DTSTART;TZID=America/Chicago:20230524T193000
DTEND;TZID=America/Chicago:20230524T210000
DTSTAMP:20260424T110658
CREATED:20230110T221850Z
LAST-MODIFIED:20230110T221850Z
UID:10003087-1684956600-1684962000@www.flcduluth.org
SUMMARY:Choir Rehearsal
DESCRIPTION:
URL:https://www.flcduluth.org/event/choir-rehearsal-6/2023-05-24/
CATEGORIES:Music Rehearsal
END:VEVENT
BEGIN:VEVENT
DTSTART;TZID=America/Chicago:20230524T180000
DTEND;TZID=America/Chicago:20230524T193000
DTSTAMP:20260424T110658
CREATED:20230110T221754Z
LAST-MODIFIED:20230110T221754Z
UID:10003067-1684951200-1684956600@www.flcduluth.org
SUMMARY:Choir Rehearsal
DESCRIPTION:
URL:https://www.flcduluth.org/event/choir-rehearsal-5/2023-05-24/
CATEGORIES:Music Rehearsal
END:VEVENT
BEGIN:VEVENT
DTSTART;TZID=America/Chicago:20230524T174500
DTEND;TZID=America/Chicago:20230524T184500
DTSTAMP:20260424T110658
CREATED:20230201T214837Z
LAST-MODIFIED:20230526T163437Z
UID:10003047-1684950300-1684953900@www.flcduluth.org
SUMMARY:Bells Practice
DESCRIPTION:
URL:https://www.flcduluth.org/event/bells-practice-2/2023-05-24/
CATEGORIES:Music Rehearsal
END:VEVENT
BEGIN:VEVENT
DTSTART;TZID=America/Chicago:20230521T153000
DTEND;TZID=America/Chicago:20230521T170000
DTSTAMP:20260424T110658
CREATED:20230201T214628Z
LAST-MODIFIED:20230201T214628Z
UID:10004109-1684683000-1684688400@www.flcduluth.org
SUMMARY:Flukes
DESCRIPTION:
URL:https://www.flcduluth.org/event/flukes-4/2023-05-21/
CATEGORIES:Music Rehearsal
END:VEVENT
BEGIN:VEVENT
DTSTART;TZID=America/Chicago:20230517T193000
DTEND;TZID=America/Chicago:20230517T210000
DTSTAMP:20260424T110658
CREATED:20230110T221850Z
LAST-MODIFIED:20230110T221850Z
UID:10003086-1684351800-1684357200@www.flcduluth.org
SUMMARY:Choir Rehearsal
DESCRIPTION:
URL:https://www.flcduluth.org/event/choir-rehearsal-6/2023-05-17/
CATEGORIES:Music Rehearsal
END:VEVENT
BEGIN:VEVENT
DTSTART;TZID=America/Chicago:20230517T180000
DTEND;TZID=America/Chicago:20230517T193000
DTSTAMP:20260424T110658
CREATED:20230110T221754Z
LAST-MODIFIED:20230110T221754Z
UID:10003066-1684346400-1684351800@www.flcduluth.org
SUMMARY:Choir Rehearsal
DESCRIPTION:
URL:https://www.flcduluth.org/event/choir-rehearsal-5/2023-05-17/
CATEGORIES:Music Rehearsal
END:VEVENT
BEGIN:VEVENT
DTSTART;TZID=America/Chicago:20230517T174500
DTEND;TZID=America/Chicago:20230517T184500
DTSTAMP:20260424T110658
CREATED:20230201T214837Z
LAST-MODIFIED:20230526T163437Z
UID:10003046-1684345500-1684349100@www.flcduluth.org
SUMMARY:Bells Practice
DESCRIPTION:
URL:https://www.flcduluth.org/event/bells-practice-2/2023-05-17/
CATEGORIES:Music Rehearsal
END:VEVENT
BEGIN:VEVENT
DTSTART;TZID=America/Chicago:20230516T180000
DTEND;TZID=America/Chicago:20230516T220000
DTSTAMP:20260424T110658
CREATED:20230419T143102Z
LAST-MODIFIED:20230419T143102Z
UID:10004241-1684260000-1684274400@www.flcduluth.org
SUMMARY:Loon Rehearsal
DESCRIPTION:
URL:https://www.flcduluth.org/event/loon-rehearsal/2023-05-16/
CATEGORIES:Music Rehearsal,Outside Group
END:VEVENT
BEGIN:VEVENT
DTSTART;TZID=America/Chicago:20230514T180000
DTEND;TZID=America/Chicago:20230514T220000
DTSTAMP:20260424T110658
CREATED:20230419T143903Z
LAST-MODIFIED:20230419T143903Z
UID:10004246-1684087200-1684101600@www.flcduluth.org
SUMMARY:Loon Rehearsal
DESCRIPTION:
URL:https://www.flcduluth.org/event/loon-rehearsal-3/
CATEGORIES:Music Rehearsal,Outside Group
END:VEVENT
BEGIN:VEVENT
DTSTART;TZID=America/Chicago:20230510T193000
DTEND;TZID=America/Chicago:20230510T210000
DTSTAMP:20260424T110658
CREATED:20230110T221850Z
LAST-MODIFIED:20230110T221850Z
UID:10003085-1683747000-1683752400@www.flcduluth.org
SUMMARY:Choir Rehearsal
DESCRIPTION:
URL:https://www.flcduluth.org/event/choir-rehearsal-6/2023-05-10/
CATEGORIES:Music Rehearsal
END:VEVENT
BEGIN:VEVENT
DTSTART;TZID=America/Chicago:20230510T180000
DTEND;TZID=America/Chicago:20230510T193000
DTSTAMP:20260424T110658
CREATED:20230110T221754Z
LAST-MODIFIED:20230110T221754Z
UID:10003065-1683741600-1683747000@www.flcduluth.org
SUMMARY:Choir Rehearsal
DESCRIPTION:
URL:https://www.flcduluth.org/event/choir-rehearsal-5/2023-05-10/
CATEGORIES:Music Rehearsal
END:VEVENT
BEGIN:VEVENT
DTSTART;TZID=America/Chicago:20230510T174500
DTEND;TZID=America/Chicago:20230510T184500
DTSTAMP:20260424T110658
CREATED:20230201T214837Z
LAST-MODIFIED:20230526T163437Z
UID:10003045-1683740700-1683744300@www.flcduluth.org
SUMMARY:Bells Practice
DESCRIPTION:
URL:https://www.flcduluth.org/event/bells-practice-2/2023-05-10/
CATEGORIES:Music Rehearsal
END:VEVENT
BEGIN:VEVENT
DTSTART;TZID=America/Chicago:20230509T180000
DTEND;TZID=America/Chicago:20230509T220000
DTSTAMP:20260424T110658
CREATED:20230419T143102Z
LAST-MODIFIED:20230419T143102Z
UID:10004240-1683655200-1683669600@www.flcduluth.org
SUMMARY:Loon Rehearsal
DESCRIPTION:
URL:https://www.flcduluth.org/event/loon-rehearsal/2023-05-09/
CATEGORIES:Music Rehearsal,Outside Group
END:VEVENT
BEGIN:VEVENT
DTSTART;TZID=America/Chicago:20230507T180000
DTEND;TZID=America/Chicago:20230507T220000
DTSTAMP:20260424T110658
CREATED:20230419T143404Z
LAST-MODIFIED:20230419T143404Z
UID:10004243-1683482400-1683496800@www.flcduluth.org
SUMMARY:Loon Rehearsal
DESCRIPTION:
URL:https://www.flcduluth.org/event/loon-rehearsal-2/
CATEGORIES:Music Rehearsal,Outside Group
END:VEVENT
BEGIN:VEVENT
DTSTART;TZID=America/Chicago:20230507T153000
DTEND;TZID=America/Chicago:20230507T170000
DTSTAMP:20260424T110658
CREATED:20230201T212623Z
LAST-MODIFIED:20230201T212623Z
UID:10003958-1683473400-1683478800@www.flcduluth.org
SUMMARY:Flukes
DESCRIPTION:
URL:https://www.flcduluth.org/event/flukes-3/2023-05-07/
CATEGORIES:Music Rehearsal
END:VEVENT
BEGIN:VEVENT
DTSTART;TZID=America/Chicago:20230503T193000
DTEND;TZID=America/Chicago:20230503T210000
DTSTAMP:20260424T110658
CREATED:20230110T221850Z
LAST-MODIFIED:20230110T221850Z
UID:10003084-1683142200-1683147600@www.flcduluth.org
SUMMARY:Choir Rehearsal
DESCRIPTION:
URL:https://www.flcduluth.org/event/choir-rehearsal-6/2023-05-03/
CATEGORIES:Music Rehearsal
END:VEVENT
BEGIN:VEVENT
DTSTART;TZID=America/Chicago:20230503T180000
DTEND;TZID=America/Chicago:20230503T193000
DTSTAMP:20260424T110658
CREATED:20230110T221754Z
LAST-MODIFIED:20230110T221754Z
UID:10003064-1683136800-1683142200@www.flcduluth.org
SUMMARY:Choir Rehearsal
DESCRIPTION:
URL:https://www.flcduluth.org/event/choir-rehearsal-5/2023-05-03/
CATEGORIES:Music Rehearsal
END:VEVENT
BEGIN:VEVENT
DTSTART;TZID=America/Chicago:20230503T174500
DTEND;TZID=America/Chicago:20230503T184500
DTSTAMP:20260424T110658
CREATED:20230201T214837Z
LAST-MODIFIED:20230526T163437Z
UID:10003044-1683135900-1683139500@www.flcduluth.org
SUMMARY:Bells Practice
DESCRIPTION:
URL:https://www.flcduluth.org/event/bells-practice-2/2023-05-03/
CATEGORIES:Music Rehearsal
END:VEVENT
BEGIN:VEVENT
DTSTART;TZID=America/Chicago:20230502T180000
DTEND;TZID=America/Chicago:20230502T220000
DTSTAMP:20260424T110658
CREATED:20230419T143102Z
LAST-MODIFIED:20230419T143102Z
UID:10004239-1683050400-1683064800@www.flcduluth.org
SUMMARY:Loon Rehearsal
DESCRIPTION:
URL:https://www.flcduluth.org/event/loon-rehearsal/2023-05-02/
CATEGORIES:Music Rehearsal,Outside Group
END:VEVENT
BEGIN:VEVENT
DTSTART;TZID=America/Chicago:20230426T193000
DTEND;TZID=America/Chicago:20230426T210000
DTSTAMP:20260424T110658
CREATED:20230110T221850Z
LAST-MODIFIED:20230110T221850Z
UID:10003083-1682537400-1682542800@www.flcduluth.org
SUMMARY:Choir Rehearsal
DESCRIPTION:
URL:https://www.flcduluth.org/event/choir-rehearsal-6/2023-04-26/
CATEGORIES:Music Rehearsal
END:VEVENT
BEGIN:VEVENT
DTSTART;TZID=America/Chicago:20230426T180000
DTEND;TZID=America/Chicago:20230426T193000
DTSTAMP:20260424T110658
CREATED:20230110T221754Z
LAST-MODIFIED:20230110T221754Z
UID:10003063-1682532000-1682537400@www.flcduluth.org
SUMMARY:Choir Rehearsal
DESCRIPTION:
URL:https://www.flcduluth.org/event/choir-rehearsal-5/2023-04-26/
CATEGORIES:Music Rehearsal
END:VEVENT
BEGIN:VEVENT
DTSTART;TZID=America/Chicago:20230426T174500
DTEND;TZID=America/Chicago:20230426T184500
DTSTAMP:20260424T110658
CREATED:20230201T214837Z
LAST-MODIFIED:20230526T163437Z
UID:10003043-1682531100-1682534700@www.flcduluth.org
SUMMARY:Bells Practice
DESCRIPTION:
URL:https://www.flcduluth.org/event/bells-practice-2/2023-04-26/
CATEGORIES:Music Rehearsal
END:VEVENT
END:VCALENDAR