BEGIN:VCALENDAR
VERSION:2.0
PRODID:-//First Lutheran Church - ECPv6.15.20//NONSGML v1.0//EN
CALSCALE:GREGORIAN
METHOD:PUBLISH
X-ORIGINAL-URL:https://www.flcduluth.org
X-WR-CALDESC:Events for First Lutheran Church
REFRESH-INTERVAL;VALUE=DURATION:PT1H
X-Robots-Tag:noindex
X-PUBLISHED-TTL:PT1H
BEGIN:VTIMEZONE
TZID:America/Chicago
BEGIN:DAYLIGHT
TZOFFSETFROM:-0600
TZOFFSETTO:-0500
TZNAME:CDT
DTSTART:20220313T080000
END:DAYLIGHT
BEGIN:STANDARD
TZOFFSETFROM:-0500
TZOFFSETTO:-0600
TZNAME:CST
DTSTART:20221106T070000
END:STANDARD
BEGIN:DAYLIGHT
TZOFFSETFROM:-0600
TZOFFSETTO:-0500
TZNAME:CDT
DTSTART:20230312T080000
END:DAYLIGHT
BEGIN:STANDARD
TZOFFSETFROM:-0500
TZOFFSETTO:-0600
TZNAME:CST
DTSTART:20231105T070000
END:STANDARD
BEGIN:DAYLIGHT
TZOFFSETFROM:-0600
TZOFFSETTO:-0500
TZNAME:CDT
DTSTART:20240310T080000
END:DAYLIGHT
BEGIN:STANDARD
TZOFFSETFROM:-0500
TZOFFSETTO:-0600
TZNAME:CST
DTSTART:20241103T070000
END:STANDARD
END:VTIMEZONE
BEGIN:VEVENT
DTSTART;TZID=America/Chicago:20230405T193000
DTEND;TZID=America/Chicago:20230405T210000
DTSTAMP:20260424T184303
CREATED:20230110T221850Z
LAST-MODIFIED:20230110T221850Z
UID:10003080-1680723000-1680728400@www.flcduluth.org
SUMMARY:Choir Rehearsal
DESCRIPTION:
URL:https://www.flcduluth.org/event/choir-rehearsal-6/2023-04-05/
CATEGORIES:Music Rehearsal
END:VEVENT
BEGIN:VEVENT
DTSTART;TZID=America/Chicago:20230405T180000
DTEND;TZID=America/Chicago:20230405T193000
DTSTAMP:20260424T184303
CREATED:20230110T221754Z
LAST-MODIFIED:20230110T221754Z
UID:10003060-1680717600-1680723000@www.flcduluth.org
SUMMARY:Choir Rehearsal
DESCRIPTION:
URL:https://www.flcduluth.org/event/choir-rehearsal-5/2023-04-05/
CATEGORIES:Music Rehearsal
END:VEVENT
BEGIN:VEVENT
DTSTART;TZID=America/Chicago:20230403T180000
DTEND;TZID=America/Chicago:20230403T220000
DTSTAMP:20260424T184303
CREATED:20230209T202505Z
LAST-MODIFIED:20230209T202505Z
UID:10004220-1680544800-1680559200@www.flcduluth.org
SUMMARY:Choir Rehearsal
DESCRIPTION:
URL:https://www.flcduluth.org/event/choir-rehearsal-9/
CATEGORIES:Music Rehearsal
END:VEVENT
BEGIN:VEVENT
DTSTART;TZID=America/Chicago:20230402T180000
DTEND;TZID=America/Chicago:20230402T220000
DTSTAMP:20260424T184303
CREATED:20230209T202305Z
LAST-MODIFIED:20230209T202305Z
UID:10004219-1680458400-1680472800@www.flcduluth.org
SUMMARY:Choir Rehearsal
DESCRIPTION:
URL:https://www.flcduluth.org/event/choir-rehearsal-8/2023-04-02/2/
CATEGORIES:Music Rehearsal
END:VEVENT
BEGIN:VEVENT
DTSTART;TZID=America/Chicago:20230402T153000
DTEND;TZID=America/Chicago:20230402T170000
DTSTAMP:20260424T184303
CREATED:20230201T212623Z
LAST-MODIFIED:20230201T212623Z
UID:10003957-1680449400-1680454800@www.flcduluth.org
SUMMARY:Flukes
DESCRIPTION:
URL:https://www.flcduluth.org/event/flukes-3/2023-04-02/
CATEGORIES:Music Rehearsal
END:VEVENT
BEGIN:VEVENT
DTSTART;TZID=America/Chicago:20230402T120000
DTEND;TZID=America/Chicago:20230402T150000
DTSTAMP:20260424T184303
CREATED:20230209T202305Z
LAST-MODIFIED:20230209T202305Z
UID:10004218-1680436800-1680447600@www.flcduluth.org
SUMMARY:Choir Rehearsal
DESCRIPTION:
URL:https://www.flcduluth.org/event/choir-rehearsal-8/2023-04-02/1/
CATEGORIES:Music Rehearsal
END:VEVENT
BEGIN:VEVENT
DTSTART;TZID=America/Chicago:20230330T174500
DTEND;TZID=America/Chicago:20230330T184500
DTSTAMP:20260424T184303
CREATED:20230201T214927Z
LAST-MODIFIED:20230201T214927Z
UID:10004189-1680198300-1680201900@www.flcduluth.org
SUMMARY:Bells Practice
DESCRIPTION:
URL:https://www.flcduluth.org/event/bells-practice-3/2023-03-30/
CATEGORIES:Music Rehearsal
END:VEVENT
BEGIN:VEVENT
DTSTART;TZID=America/Chicago:20230329T193000
DTEND;TZID=America/Chicago:20230329T210000
DTSTAMP:20260424T184303
CREATED:20230110T221850Z
LAST-MODIFIED:20230110T221850Z
UID:10003079-1680118200-1680123600@www.flcduluth.org
SUMMARY:Choir Rehearsal
DESCRIPTION:
URL:https://www.flcduluth.org/event/choir-rehearsal-6/2023-03-29/
CATEGORIES:Music Rehearsal
END:VEVENT
BEGIN:VEVENT
DTSTART;TZID=America/Chicago:20230329T180000
DTEND;TZID=America/Chicago:20230329T193000
DTSTAMP:20260424T184303
CREATED:20230110T221754Z
LAST-MODIFIED:20230110T221754Z
UID:10003059-1680112800-1680118200@www.flcduluth.org
SUMMARY:Choir Rehearsal
DESCRIPTION:
URL:https://www.flcduluth.org/event/choir-rehearsal-5/2023-03-29/
CATEGORIES:Music Rehearsal
END:VEVENT
BEGIN:VEVENT
DTSTART;TZID=America/Chicago:20230328T180000
DTEND;TZID=America/Chicago:20230328T220000
DTSTAMP:20260424T184303
CREATED:20230209T201959Z
LAST-MODIFIED:20230209T201959Z
UID:10004215-1680026400-1680040800@www.flcduluth.org
SUMMARY:Choir Rehearsal
DESCRIPTION:
URL:https://www.flcduluth.org/event/choir-rehearsal-7/
CATEGORIES:Music Rehearsal
END:VEVENT
BEGIN:VEVENT
DTSTART;TZID=America/Chicago:20230326T120000
DTEND;TZID=America/Chicago:20230326T170000
DTSTAMP:20260424T184303
CREATED:20230209T201909Z
LAST-MODIFIED:20230209T201909Z
UID:10004214-1679832000-1679850000@www.flcduluth.org
SUMMARY:Arrowhead Chorale Concert
DESCRIPTION:
URL:https://www.flcduluth.org/event/arrowhead-chorale-concert-4/
CATEGORIES:Music Rehearsal,Outside Group
END:VEVENT
BEGIN:VEVENT
DTSTART;TZID=America/Chicago:20230325T170000
DTEND;TZID=America/Chicago:20230325T220000
DTSTAMP:20260424T184303
CREATED:20230209T201804Z
LAST-MODIFIED:20230209T201804Z
UID:10004213-1679763600-1679781600@www.flcduluth.org
SUMMARY:Arrowhead Chorale Concert
DESCRIPTION:
URL:https://www.flcduluth.org/event/arrowhead-chorale-concert-3/
CATEGORIES:Music Rehearsal,Outside Group
END:VEVENT
BEGIN:VEVENT
DTSTART;TZID=America/Chicago:20230324T170000
DTEND;TZID=America/Chicago:20230324T220000
DTSTAMP:20260424T184303
CREATED:20230209T201710Z
LAST-MODIFIED:20230209T201710Z
UID:10004212-1679677200-1679695200@www.flcduluth.org
SUMMARY:Arrowhead Chorale Dress Rehearsal
DESCRIPTION:
URL:https://www.flcduluth.org/event/arrowhead-chorale-dress-rehearsal-2/
CATEGORIES:Music Rehearsal,Outside Group
END:VEVENT
BEGIN:VEVENT
DTSTART;TZID=America/Chicago:20230323T174500
DTEND;TZID=America/Chicago:20230323T184500
DTSTAMP:20260424T184303
CREATED:20230201T214927Z
LAST-MODIFIED:20230201T214927Z
UID:10004188-1679593500-1679597100@www.flcduluth.org
SUMMARY:Bells Practice
DESCRIPTION:
URL:https://www.flcduluth.org/event/bells-practice-3/2023-03-23/
CATEGORIES:Music Rehearsal
END:VEVENT
BEGIN:VEVENT
DTSTART;TZID=America/Chicago:20230323T170000
DTEND;TZID=America/Chicago:20230323T220000
DTSTAMP:20260424T184303
CREATED:20230209T201606Z
LAST-MODIFIED:20230209T201606Z
UID:10004211-1679590800-1679608800@www.flcduluth.org
SUMMARY:Arrowhead Chorale Dress Rehearsal
DESCRIPTION:
URL:https://www.flcduluth.org/event/arrowhead-chorale-dress-rehearsal/
CATEGORIES:Music Rehearsal,Outside Group
END:VEVENT
BEGIN:VEVENT
DTSTART;TZID=America/Chicago:20230322T193000
DTEND;TZID=America/Chicago:20230322T210000
DTSTAMP:20260424T184303
CREATED:20230110T221850Z
LAST-MODIFIED:20230110T221850Z
UID:10003078-1679513400-1679518800@www.flcduluth.org
SUMMARY:Choir Rehearsal
DESCRIPTION:
URL:https://www.flcduluth.org/event/choir-rehearsal-6/2023-03-22/
CATEGORIES:Music Rehearsal
END:VEVENT
BEGIN:VEVENT
DTSTART;TZID=America/Chicago:20230322T180000
DTEND;TZID=America/Chicago:20230322T193000
DTSTAMP:20260424T184303
CREATED:20230110T221754Z
LAST-MODIFIED:20230110T221754Z
UID:10003058-1679508000-1679513400@www.flcduluth.org
SUMMARY:Choir Rehearsal
DESCRIPTION:
URL:https://www.flcduluth.org/event/choir-rehearsal-5/2023-03-22/
CATEGORIES:Music Rehearsal
END:VEVENT
BEGIN:VEVENT
DTSTART;TZID=America/Chicago:20230321T180000
DTEND;TZID=America/Chicago:20230321T203000
DTSTAMP:20260424T184303
CREATED:20230110T224804Z
LAST-MODIFIED:20230110T224804Z
UID:10003771-1679421600-1679430600@www.flcduluth.org
SUMMARY:Arrowhead Chorale Rehearsal
DESCRIPTION:
URL:https://www.flcduluth.org/event/arrowhead-chorale-rehearsal/2023-03-21/
CATEGORIES:Music Rehearsal,Outside Group
END:VEVENT
BEGIN:VEVENT
DTSTART;TZID=America/Chicago:20230319T153000
DTEND;TZID=America/Chicago:20230319T170000
DTSTAMP:20260424T184303
CREATED:20230201T214628Z
LAST-MODIFIED:20230201T214628Z
UID:10004107-1679239800-1679245200@www.flcduluth.org
SUMMARY:Flukes
DESCRIPTION:
URL:https://www.flcduluth.org/event/flukes-4/2023-03-19/
CATEGORIES:Music Rehearsal
END:VEVENT
BEGIN:VEVENT
DTSTART;TZID=America/Chicago:20230316T174500
DTEND;TZID=America/Chicago:20230316T184500
DTSTAMP:20260424T184303
CREATED:20230201T214927Z
LAST-MODIFIED:20230201T214927Z
UID:10004187-1678988700-1678992300@www.flcduluth.org
SUMMARY:Bells Practice
DESCRIPTION:
URL:https://www.flcduluth.org/event/bells-practice-3/2023-03-16/
CATEGORIES:Music Rehearsal
END:VEVENT
BEGIN:VEVENT
DTSTART;TZID=America/Chicago:20230315T193000
DTEND;TZID=America/Chicago:20230315T210000
DTSTAMP:20260424T184303
CREATED:20230110T221850Z
LAST-MODIFIED:20230110T221850Z
UID:10003077-1678908600-1678914000@www.flcduluth.org
SUMMARY:Choir Rehearsal
DESCRIPTION:
URL:https://www.flcduluth.org/event/choir-rehearsal-6/2023-03-15/
CATEGORIES:Music Rehearsal
END:VEVENT
BEGIN:VEVENT
DTSTART;TZID=America/Chicago:20230315T180000
DTEND;TZID=America/Chicago:20230315T193000
DTSTAMP:20260424T184303
CREATED:20230110T221754Z
LAST-MODIFIED:20230110T221754Z
UID:10003057-1678903200-1678908600@www.flcduluth.org
SUMMARY:Choir Rehearsal
DESCRIPTION:
URL:https://www.flcduluth.org/event/choir-rehearsal-5/2023-03-15/
CATEGORIES:Music Rehearsal
END:VEVENT
BEGIN:VEVENT
DTSTART;TZID=America/Chicago:20230314T180000
DTEND;TZID=America/Chicago:20230314T203000
DTSTAMP:20260424T184303
CREATED:20230110T224804Z
LAST-MODIFIED:20230110T224804Z
UID:10003770-1678816800-1678825800@www.flcduluth.org
SUMMARY:Arrowhead Chorale Rehearsal
DESCRIPTION:
URL:https://www.flcduluth.org/event/arrowhead-chorale-rehearsal/2023-03-14/
CATEGORIES:Music Rehearsal,Outside Group
END:VEVENT
BEGIN:VEVENT
DTSTART;TZID=America/Chicago:20230309T174500
DTEND;TZID=America/Chicago:20230309T184500
DTSTAMP:20260424T184303
CREATED:20230201T214927Z
LAST-MODIFIED:20230201T214927Z
UID:10004186-1678383900-1678387500@www.flcduluth.org
SUMMARY:Bells Practice
DESCRIPTION:
URL:https://www.flcduluth.org/event/bells-practice-3/2023-03-09/
CATEGORIES:Music Rehearsal
END:VEVENT
BEGIN:VEVENT
DTSTART;TZID=America/Chicago:20230308T193000
DTEND;TZID=America/Chicago:20230308T210000
DTSTAMP:20260424T184303
CREATED:20230110T221850Z
LAST-MODIFIED:20230110T221850Z
UID:10003076-1678303800-1678309200@www.flcduluth.org
SUMMARY:Choir Rehearsal
DESCRIPTION:
URL:https://www.flcduluth.org/event/choir-rehearsal-6/2023-03-08/
CATEGORIES:Music Rehearsal
END:VEVENT
BEGIN:VEVENT
DTSTART;TZID=America/Chicago:20230308T180000
DTEND;TZID=America/Chicago:20230308T193000
DTSTAMP:20260424T184303
CREATED:20230110T221754Z
LAST-MODIFIED:20230110T221754Z
UID:10003056-1678298400-1678303800@www.flcduluth.org
SUMMARY:Choir Rehearsal
DESCRIPTION:
URL:https://www.flcduluth.org/event/choir-rehearsal-5/2023-03-08/
CATEGORIES:Music Rehearsal
END:VEVENT
BEGIN:VEVENT
DTSTART;TZID=America/Chicago:20230307T180000
DTEND;TZID=America/Chicago:20230307T203000
DTSTAMP:20260424T184303
CREATED:20230110T224804Z
LAST-MODIFIED:20230110T224804Z
UID:10003769-1678212000-1678221000@www.flcduluth.org
SUMMARY:Arrowhead Chorale Rehearsal
DESCRIPTION:
URL:https://www.flcduluth.org/event/arrowhead-chorale-rehearsal/2023-03-07/
CATEGORIES:Music Rehearsal,Outside Group
END:VEVENT
BEGIN:VEVENT
DTSTART;TZID=America/Chicago:20230305T153000
DTEND;TZID=America/Chicago:20230305T170000
DTSTAMP:20260424T184303
CREATED:20230201T212623Z
LAST-MODIFIED:20230201T212623Z
UID:10003956-1678030200-1678035600@www.flcduluth.org
SUMMARY:Flukes
DESCRIPTION:
URL:https://www.flcduluth.org/event/flukes-3/2023-03-05/
CATEGORIES:Music Rehearsal
END:VEVENT
BEGIN:VEVENT
DTSTART;TZID=America/Chicago:20230302T174500
DTEND;TZID=America/Chicago:20230302T184500
DTSTAMP:20260424T184303
CREATED:20230201T214927Z
LAST-MODIFIED:20230201T214927Z
UID:10004185-1677779100-1677782700@www.flcduluth.org
SUMMARY:Bells Practice
DESCRIPTION:
URL:https://www.flcduluth.org/event/bells-practice-3/2023-03-02/
CATEGORIES:Music Rehearsal
END:VEVENT
BEGIN:VEVENT
DTSTART;TZID=America/Chicago:20230301T193000
DTEND;TZID=America/Chicago:20230301T210000
DTSTAMP:20260424T184303
CREATED:20230110T221850Z
LAST-MODIFIED:20230110T221850Z
UID:10003075-1677699000-1677704400@www.flcduluth.org
SUMMARY:Choir Rehearsal
DESCRIPTION:
URL:https://www.flcduluth.org/event/choir-rehearsal-6/2023-03-01/
CATEGORIES:Music Rehearsal
END:VEVENT
END:VCALENDAR