BEGIN:VCALENDAR
VERSION:2.0
PRODID:-//First Lutheran Church - ECPv6.15.20//NONSGML v1.0//EN
CALSCALE:GREGORIAN
METHOD:PUBLISH
X-WR-CALNAME:First Lutheran Church
X-ORIGINAL-URL:https://www.flcduluth.org
X-WR-CALDESC:Events for First Lutheran Church
REFRESH-INTERVAL;VALUE=DURATION:PT1H
X-Robots-Tag:noindex
X-PUBLISHED-TTL:PT1H
BEGIN:VTIMEZONE
TZID:America/Chicago
BEGIN:DAYLIGHT
TZOFFSETFROM:-0600
TZOFFSETTO:-0500
TZNAME:CDT
DTSTART:20220313T080000
END:DAYLIGHT
BEGIN:STANDARD
TZOFFSETFROM:-0500
TZOFFSETTO:-0600
TZNAME:CST
DTSTART:20221106T070000
END:STANDARD
BEGIN:DAYLIGHT
TZOFFSETFROM:-0600
TZOFFSETTO:-0500
TZNAME:CDT
DTSTART:20230312T080000
END:DAYLIGHT
BEGIN:STANDARD
TZOFFSETFROM:-0500
TZOFFSETTO:-0600
TZNAME:CST
DTSTART:20231105T070000
END:STANDARD
BEGIN:DAYLIGHT
TZOFFSETFROM:-0600
TZOFFSETTO:-0500
TZNAME:CDT
DTSTART:20240310T080000
END:DAYLIGHT
BEGIN:STANDARD
TZOFFSETFROM:-0500
TZOFFSETTO:-0600
TZNAME:CST
DTSTART:20241103T070000
END:STANDARD
END:VTIMEZONE
BEGIN:VEVENT
DTSTART;TZID=America/Chicago:20230219T153000
DTEND;TZID=America/Chicago:20230219T170000
DTSTAMP:20260425T110044
CREATED:20230201T214628Z
LAST-MODIFIED:20230201T214628Z
UID:10004106-1676820600-1676826000@www.flcduluth.org
SUMMARY:Flukes
DESCRIPTION:
URL:https://www.flcduluth.org/event/flukes-4/2023-02-19/
CATEGORIES:Music Rehearsal
END:VEVENT
BEGIN:VEVENT
DTSTART;TZID=America/Chicago:20230215T193000
DTEND;TZID=America/Chicago:20230215T210000
DTSTAMP:20260425T110044
CREATED:20230110T221850Z
LAST-MODIFIED:20230110T221850Z
UID:10003073-1676489400-1676494800@www.flcduluth.org
SUMMARY:Choir Rehearsal
DESCRIPTION:
URL:https://www.flcduluth.org/event/choir-rehearsal-6/2023-02-15/
CATEGORIES:Music Rehearsal
END:VEVENT
BEGIN:VEVENT
DTSTART;TZID=America/Chicago:20230215T180000
DTEND;TZID=America/Chicago:20230215T193000
DTSTAMP:20260425T110044
CREATED:20230110T221754Z
LAST-MODIFIED:20230110T221754Z
UID:10003053-1676484000-1676489400@www.flcduluth.org
SUMMARY:Choir Rehearsal
DESCRIPTION:
URL:https://www.flcduluth.org/event/choir-rehearsal-5/2023-02-15/
CATEGORIES:Music Rehearsal
END:VEVENT
BEGIN:VEVENT
DTSTART;TZID=America/Chicago:20230215T174500
DTEND;TZID=America/Chicago:20230215T184500
DTSTAMP:20260425T110044
CREATED:20230110T221642Z
LAST-MODIFIED:20230110T221642Z
UID:10003033-1676483100-1676486700@www.flcduluth.org
SUMMARY:Bells Practice
DESCRIPTION:
URL:https://www.flcduluth.org/event/bells-practice/2023-02-15/
CATEGORIES:Music Rehearsal
END:VEVENT
BEGIN:VEVENT
DTSTART;TZID=America/Chicago:20230214T180000
DTEND;TZID=America/Chicago:20230214T203000
DTSTAMP:20260425T110044
CREATED:20230110T224804Z
LAST-MODIFIED:20230110T224804Z
UID:10003766-1676397600-1676406600@www.flcduluth.org
SUMMARY:Arrowhead Chorale Rehearsal
DESCRIPTION:
URL:https://www.flcduluth.org/event/arrowhead-chorale-rehearsal/2023-02-14/
CATEGORIES:Music Rehearsal,Outside Group
END:VEVENT
BEGIN:VEVENT
DTSTART;TZID=America/Chicago:20230208T193000
DTEND;TZID=America/Chicago:20230208T210000
DTSTAMP:20260425T110044
CREATED:20230110T221850Z
LAST-MODIFIED:20230110T221850Z
UID:10003072-1675884600-1675890000@www.flcduluth.org
SUMMARY:Choir Rehearsal
DESCRIPTION:
URL:https://www.flcduluth.org/event/choir-rehearsal-6/2023-02-08/
CATEGORIES:Music Rehearsal
END:VEVENT
BEGIN:VEVENT
DTSTART;TZID=America/Chicago:20230208T180000
DTEND;TZID=America/Chicago:20230208T193000
DTSTAMP:20260425T110044
CREATED:20230110T221754Z
LAST-MODIFIED:20230110T221754Z
UID:10003052-1675879200-1675884600@www.flcduluth.org
SUMMARY:Choir Rehearsal
DESCRIPTION:
URL:https://www.flcduluth.org/event/choir-rehearsal-5/2023-02-08/
CATEGORIES:Music Rehearsal
END:VEVENT
BEGIN:VEVENT
DTSTART;TZID=America/Chicago:20230208T174500
DTEND;TZID=America/Chicago:20230208T184500
DTSTAMP:20260425T110044
CREATED:20230110T221642Z
LAST-MODIFIED:20230110T221642Z
UID:10003032-1675878300-1675881900@www.flcduluth.org
SUMMARY:Bells Practice
DESCRIPTION:
URL:https://www.flcduluth.org/event/bells-practice/2023-02-08/
CATEGORIES:Music Rehearsal
END:VEVENT
BEGIN:VEVENT
DTSTART;TZID=America/Chicago:20230207T180000
DTEND;TZID=America/Chicago:20230207T203000
DTSTAMP:20260425T110044
CREATED:20230110T224804Z
LAST-MODIFIED:20230110T224804Z
UID:10003765-1675792800-1675801800@www.flcduluth.org
SUMMARY:Arrowhead Chorale Rehearsal
DESCRIPTION:
URL:https://www.flcduluth.org/event/arrowhead-chorale-rehearsal/2023-02-07/
CATEGORIES:Music Rehearsal,Outside Group
END:VEVENT
BEGIN:VEVENT
DTSTART;TZID=America/Chicago:20230205T153000
DTEND;TZID=America/Chicago:20230205T170000
DTSTAMP:20260425T110044
CREATED:20230201T212623Z
LAST-MODIFIED:20230201T212623Z
UID:10003955-1675611000-1675616400@www.flcduluth.org
SUMMARY:Flukes
DESCRIPTION:
URL:https://www.flcduluth.org/event/flukes-3/2023-02-05/
CATEGORIES:Music Rehearsal
END:VEVENT
BEGIN:VEVENT
DTSTART;TZID=America/Chicago:20230204T110000
DTEND;TZID=America/Chicago:20230204T150000
DTSTAMP:20260425T110044
CREATED:20230201T212453Z
LAST-MODIFIED:20230201T212453Z
UID:10003954-1675508400-1675522800@www.flcduluth.org
SUMMARY:Private Music Rehearsal
DESCRIPTION:
URL:https://www.flcduluth.org/event/private-music-rehearsal-4/
CATEGORIES:Music Rehearsal
END:VEVENT
BEGIN:VEVENT
DTSTART;TZID=America/Chicago:20230203T183000
DTEND;TZID=America/Chicago:20230203T200000
DTSTAMP:20260425T110044
CREATED:20230201T212408Z
LAST-MODIFIED:20230201T212408Z
UID:10003953-1675449000-1675454400@www.flcduluth.org
SUMMARY:Private Music Rehearsal
DESCRIPTION:
URL:https://www.flcduluth.org/event/private-music-rehearsal-3/
CATEGORIES:Music Rehearsal
END:VEVENT
BEGIN:VEVENT
DTSTART;TZID=America/Chicago:20230201T193000
DTEND;TZID=America/Chicago:20230201T210000
DTSTAMP:20260425T110044
CREATED:20230110T221850Z
LAST-MODIFIED:20230110T221850Z
UID:10003071-1675279800-1675285200@www.flcduluth.org
SUMMARY:Choir Rehearsal
DESCRIPTION:
URL:https://www.flcduluth.org/event/choir-rehearsal-6/2023-02-01/
CATEGORIES:Music Rehearsal
END:VEVENT
BEGIN:VEVENT
DTSTART;TZID=America/Chicago:20230201T180000
DTEND;TZID=America/Chicago:20230201T193000
DTSTAMP:20260425T110044
CREATED:20230110T221754Z
LAST-MODIFIED:20230110T221754Z
UID:10003051-1675274400-1675279800@www.flcduluth.org
SUMMARY:Choir Rehearsal
DESCRIPTION:
URL:https://www.flcduluth.org/event/choir-rehearsal-5/2023-02-01/
CATEGORIES:Music Rehearsal
END:VEVENT
BEGIN:VEVENT
DTSTART;TZID=America/Chicago:20230201T174500
DTEND;TZID=America/Chicago:20230201T184500
DTSTAMP:20260425T110044
CREATED:20230110T221642Z
LAST-MODIFIED:20230110T221642Z
UID:10003031-1675273500-1675277100@www.flcduluth.org
SUMMARY:Bells Practice
DESCRIPTION:
URL:https://www.flcduluth.org/event/bells-practice/2023-02-01/
CATEGORIES:Music Rehearsal
END:VEVENT
BEGIN:VEVENT
DTSTART;TZID=America/Chicago:20230131T180000
DTEND;TZID=America/Chicago:20230131T203000
DTSTAMP:20260425T110044
CREATED:20230110T224804Z
LAST-MODIFIED:20230110T224804Z
UID:10003764-1675188000-1675197000@www.flcduluth.org
SUMMARY:Arrowhead Chorale Rehearsal
DESCRIPTION:
URL:https://www.flcduluth.org/event/arrowhead-chorale-rehearsal/2023-01-31/
CATEGORIES:Music Rehearsal,Outside Group
END:VEVENT
BEGIN:VEVENT
DTSTART;TZID=America/Chicago:20230130T183000
DTEND;TZID=America/Chicago:20230130T210000
DTSTAMP:20260425T110044
CREATED:20230110T224505Z
LAST-MODIFIED:20230110T224505Z
UID:10003760-1675103400-1675112400@www.flcduluth.org
SUMMARY:Private Music Rehearsal
DESCRIPTION:
URL:https://www.flcduluth.org/event/private-music-rehearsal-2/
CATEGORIES:Music Rehearsal,Outside Group
END:VEVENT
BEGIN:VEVENT
DTSTART;TZID=America/Chicago:20230125T193000
DTEND;TZID=America/Chicago:20230125T210000
DTSTAMP:20260425T110044
CREATED:20230110T221850Z
LAST-MODIFIED:20230110T221850Z
UID:10003070-1674675000-1674680400@www.flcduluth.org
SUMMARY:Choir Rehearsal
DESCRIPTION:
URL:https://www.flcduluth.org/event/choir-rehearsal-6/2023-01-25/
CATEGORIES:Music Rehearsal
END:VEVENT
BEGIN:VEVENT
DTSTART;TZID=America/Chicago:20230125T180000
DTEND;TZID=America/Chicago:20230125T193000
DTSTAMP:20260425T110044
CREATED:20230110T221754Z
LAST-MODIFIED:20230110T221754Z
UID:10003050-1674669600-1674675000@www.flcduluth.org
SUMMARY:Choir Rehearsal
DESCRIPTION:
URL:https://www.flcduluth.org/event/choir-rehearsal-5/2023-01-25/
CATEGORIES:Music Rehearsal
END:VEVENT
BEGIN:VEVENT
DTSTART;TZID=America/Chicago:20230125T174500
DTEND;TZID=America/Chicago:20230125T184500
DTSTAMP:20260425T110044
CREATED:20230110T221642Z
LAST-MODIFIED:20230110T221642Z
UID:10003030-1674668700-1674672300@www.flcduluth.org
SUMMARY:Bells Practice
DESCRIPTION:
URL:https://www.flcduluth.org/event/bells-practice/2023-01-25/
CATEGORIES:Music Rehearsal
END:VEVENT
BEGIN:VEVENT
DTSTART;TZID=America/Chicago:20230124T180000
DTEND;TZID=America/Chicago:20230124T203000
DTSTAMP:20260425T110044
CREATED:20230110T224804Z
LAST-MODIFIED:20230110T224804Z
UID:10003763-1674583200-1674592200@www.flcduluth.org
SUMMARY:Arrowhead Chorale Rehearsal
DESCRIPTION:
URL:https://www.flcduluth.org/event/arrowhead-chorale-rehearsal/2023-01-24/
CATEGORIES:Music Rehearsal,Outside Group
END:VEVENT
BEGIN:VEVENT
DTSTART;TZID=America/Chicago:20230120T183000
DTEND;TZID=America/Chicago:20230120T213000
DTSTAMP:20260425T110044
CREATED:20230110T223623Z
LAST-MODIFIED:20230110T223623Z
UID:10003692-1674239400-1674250200@www.flcduluth.org
SUMMARY:Private Music Rehearsal
DESCRIPTION:
URL:https://www.flcduluth.org/event/private-music-rehearsal/
CATEGORIES:Music Rehearsal,Outside Group
END:VEVENT
BEGIN:VEVENT
DTSTART;TZID=America/Chicago:20230118T193000
DTEND;TZID=America/Chicago:20230118T210000
DTSTAMP:20260425T110044
CREATED:20230110T221850Z
LAST-MODIFIED:20230110T221850Z
UID:10003069-1674070200-1674075600@www.flcduluth.org
SUMMARY:Choir Rehearsal
DESCRIPTION:
URL:https://www.flcduluth.org/event/choir-rehearsal-6/2023-01-18/
CATEGORIES:Music Rehearsal
END:VEVENT
BEGIN:VEVENT
DTSTART;TZID=America/Chicago:20230118T180000
DTEND;TZID=America/Chicago:20230118T193000
DTSTAMP:20260425T110044
CREATED:20230110T221754Z
LAST-MODIFIED:20230110T221754Z
UID:10003049-1674064800-1674070200@www.flcduluth.org
SUMMARY:Choir Rehearsal
DESCRIPTION:
URL:https://www.flcduluth.org/event/choir-rehearsal-5/2023-01-18/
CATEGORIES:Music Rehearsal
END:VEVENT
BEGIN:VEVENT
DTSTART;TZID=America/Chicago:20230118T174500
DTEND;TZID=America/Chicago:20230118T184500
DTSTAMP:20260425T110044
CREATED:20230110T221642Z
LAST-MODIFIED:20230110T221642Z
UID:10003029-1674063900-1674067500@www.flcduluth.org
SUMMARY:Bells Practice
DESCRIPTION:
URL:https://www.flcduluth.org/event/bells-practice/2023-01-18/
CATEGORIES:Music Rehearsal
END:VEVENT
BEGIN:VEVENT
DTSTART;TZID=America/Chicago:20230117T180000
DTEND;TZID=America/Chicago:20230117T203000
DTSTAMP:20260425T110044
CREATED:20230110T224804Z
LAST-MODIFIED:20230110T224804Z
UID:10003762-1673978400-1673987400@www.flcduluth.org
SUMMARY:Arrowhead Chorale Rehearsal
DESCRIPTION:
URL:https://www.flcduluth.org/event/arrowhead-chorale-rehearsal/2023-01-17/
CATEGORIES:Music Rehearsal,Outside Group
END:VEVENT
BEGIN:VEVENT
DTSTART;TZID=America/Chicago:20230115T153000
DTEND;TZID=America/Chicago:20230115T164500
DTSTAMP:20260425T110044
CREATED:20230110T224417Z
LAST-MODIFIED:20230110T224417Z
UID:10003759-1673796600-1673801100@www.flcduluth.org
SUMMARY:Flukes
DESCRIPTION:
URL:https://www.flcduluth.org/event/flukes-2/
CATEGORIES:Music Rehearsal
END:VEVENT
BEGIN:VEVENT
DTSTART;TZID=America/Chicago:20230112T190000
DTEND;TZID=America/Chicago:20230112T210000
DTSTAMP:20260425T110044
CREATED:20230110T221209Z
LAST-MODIFIED:20230110T221209Z
UID:10003027-1673550000-1673557200@www.flcduluth.org
SUMMARY:Jazz Concert Rehearsal
DESCRIPTION:
URL:https://www.flcduluth.org/event/jazz-concert-rehearsal/
LOCATION:First Lutheran Church\, 1100 E. Superior St.\, Duluth\, MN\, 55802\, United States
CATEGORIES:Music Rehearsal
END:VEVENT
BEGIN:VEVENT
DTSTART;TZID=America/Chicago:20230111T193000
DTEND;TZID=America/Chicago:20230111T210000
DTSTAMP:20260425T110044
CREATED:20230110T221850Z
LAST-MODIFIED:20230110T221850Z
UID:10003068-1673465400-1673470800@www.flcduluth.org
SUMMARY:Choir Rehearsal
DESCRIPTION:
URL:https://www.flcduluth.org/event/choir-rehearsal-6/2023-01-11/
CATEGORIES:Music Rehearsal
END:VEVENT
BEGIN:VEVENT
DTSTART;TZID=America/Chicago:20230111T180000
DTEND;TZID=America/Chicago:20230111T193000
DTSTAMP:20260425T110044
CREATED:20230110T221754Z
LAST-MODIFIED:20230110T221754Z
UID:10003048-1673460000-1673465400@www.flcduluth.org
SUMMARY:Choir Rehearsal
DESCRIPTION:
URL:https://www.flcduluth.org/event/choir-rehearsal-5/2023-01-11/
CATEGORIES:Music Rehearsal
END:VEVENT
END:VCALENDAR