BEGIN:VCALENDAR
VERSION:2.0
PRODID:-//First Lutheran Church - ECPv6.15.20//NONSGML v1.0//EN
CALSCALE:GREGORIAN
METHOD:PUBLISH
X-WR-CALNAME:First Lutheran Church
X-ORIGINAL-URL:https://www.flcduluth.org
X-WR-CALDESC:Events for First Lutheran Church
REFRESH-INTERVAL;VALUE=DURATION:PT1H
X-Robots-Tag:noindex
X-PUBLISHED-TTL:PT1H
BEGIN:VTIMEZONE
TZID:America/Chicago
BEGIN:DAYLIGHT
TZOFFSETFROM:-0600
TZOFFSETTO:-0500
TZNAME:CDT
DTSTART:20210314T080000
END:DAYLIGHT
BEGIN:STANDARD
TZOFFSETFROM:-0500
TZOFFSETTO:-0600
TZNAME:CST
DTSTART:20211107T070000
END:STANDARD
BEGIN:DAYLIGHT
TZOFFSETFROM:-0600
TZOFFSETTO:-0500
TZNAME:CDT
DTSTART:20220313T080000
END:DAYLIGHT
BEGIN:STANDARD
TZOFFSETFROM:-0500
TZOFFSETTO:-0600
TZNAME:CST
DTSTART:20221106T070000
END:STANDARD
BEGIN:DAYLIGHT
TZOFFSETFROM:-0600
TZOFFSETTO:-0500
TZNAME:CDT
DTSTART:20230312T080000
END:DAYLIGHT
BEGIN:STANDARD
TZOFFSETFROM:-0500
TZOFFSETTO:-0600
TZNAME:CST
DTSTART:20231105T070000
END:STANDARD
END:VTIMEZONE
BEGIN:VEVENT
DTSTART;TZID=America/Chicago:20221005T190000
DTEND;TZID=America/Chicago:20221005T210000
DTSTAMP:20260425T192439
CREATED:20220815T200126Z
LAST-MODIFIED:20220815T200126Z
UID:10001715-1664996400-1665003600@www.flcduluth.org
SUMMARY:Choir Rehearsal
DESCRIPTION:
URL:https://www.flcduluth.org/event/choir-rehearsal-4/2022-10-05/
CATEGORIES:Music Rehearsal
END:VEVENT
BEGIN:VEVENT
DTSTART;TZID=America/Chicago:20221005T180000
DTEND;TZID=America/Chicago:20221005T190000
DTSTAMP:20260425T192440
CREATED:20220815T200326Z
LAST-MODIFIED:20220815T200326Z
UID:10001699-1664992800-1664996400@www.flcduluth.org
SUMMARY:Bells Rehearsal
DESCRIPTION:
URL:https://www.flcduluth.org/event/bells-rehearsal/2022-10-05/
CATEGORIES:Music Rehearsal
END:VEVENT
BEGIN:VEVENT
DTSTART;TZID=America/Chicago:20221002T150000
DTEND;TZID=America/Chicago:20221002T170000
DTSTAMP:20260425T192440
CREATED:20220113T182122Z
LAST-MODIFIED:20220113T182122Z
UID:10001439-1664722800-1664730000@www.flcduluth.org
SUMMARY:Flukes Rehearsal
DESCRIPTION:
URL:https://www.flcduluth.org/event/flukes-rehearsal/2022-10-02/
CATEGORIES:Music Rehearsal
END:VEVENT
BEGIN:VEVENT
DTSTART;TZID=America/Chicago:20220928T190000
DTEND;TZID=America/Chicago:20220928T210000
DTSTAMP:20260425T192440
CREATED:20220815T200126Z
LAST-MODIFIED:20220815T200126Z
UID:10001714-1664391600-1664398800@www.flcduluth.org
SUMMARY:Choir Rehearsal
DESCRIPTION:
URL:https://www.flcduluth.org/event/choir-rehearsal-4/2022-09-28/
CATEGORIES:Music Rehearsal
END:VEVENT
BEGIN:VEVENT
DTSTART;TZID=America/Chicago:20220928T180000
DTEND;TZID=America/Chicago:20220928T190000
DTSTAMP:20260425T192440
CREATED:20220815T200326Z
LAST-MODIFIED:20220815T200326Z
UID:10001698-1664388000-1664391600@www.flcduluth.org
SUMMARY:Bells Rehearsal
DESCRIPTION:
URL:https://www.flcduluth.org/event/bells-rehearsal/2022-09-28/
CATEGORIES:Music Rehearsal
END:VEVENT
BEGIN:VEVENT
DTSTART;TZID=America/Chicago:20220921T190000
DTEND;TZID=America/Chicago:20220921T210000
DTSTAMP:20260425T192440
CREATED:20220815T200126Z
LAST-MODIFIED:20220815T200126Z
UID:10001713-1663786800-1663794000@www.flcduluth.org
SUMMARY:Choir Rehearsal
DESCRIPTION:
URL:https://www.flcduluth.org/event/choir-rehearsal-4/2022-09-21/
CATEGORIES:Music Rehearsal
END:VEVENT
BEGIN:VEVENT
DTSTART;TZID=America/Chicago:20220921T180000
DTEND;TZID=America/Chicago:20220921T190000
DTSTAMP:20260425T192440
CREATED:20220815T200326Z
LAST-MODIFIED:20220815T200326Z
UID:10001697-1663783200-1663786800@www.flcduluth.org
SUMMARY:Bells Rehearsal
DESCRIPTION:
URL:https://www.flcduluth.org/event/bells-rehearsal/2022-09-21/
CATEGORIES:Music Rehearsal
END:VEVENT
BEGIN:VEVENT
DTSTART;TZID=America/Chicago:20220918T150000
DTEND;TZID=America/Chicago:20220918T170000
DTSTAMP:20260425T192440
CREATED:20221020T180402Z
LAST-MODIFIED:20221020T180402Z
UID:10001450-1663513200-1663520400@www.flcduluth.org
SUMMARY:Flukes Rehearsal
DESCRIPTION:
URL:https://www.flcduluth.org/event/flukes-rehearsal/2022-09-18/
CATEGORIES:Music Rehearsal
END:VEVENT
BEGIN:VEVENT
DTSTART;TZID=America/Chicago:20220914T190000
DTEND;TZID=America/Chicago:20220914T210000
DTSTAMP:20260425T192440
CREATED:20220815T200126Z
LAST-MODIFIED:20220815T200126Z
UID:10001712-1663182000-1663189200@www.flcduluth.org
SUMMARY:Choir Rehearsal
DESCRIPTION:
URL:https://www.flcduluth.org/event/choir-rehearsal-4/2022-09-14/
CATEGORIES:Music Rehearsal
END:VEVENT
BEGIN:VEVENT
DTSTART;TZID=America/Chicago:20220914T180000
DTEND;TZID=America/Chicago:20220914T190000
DTSTAMP:20260425T192440
CREATED:20220815T200326Z
LAST-MODIFIED:20220815T200326Z
UID:10001696-1663178400-1663182000@www.flcduluth.org
SUMMARY:Bells Rehearsal
DESCRIPTION:
URL:https://www.flcduluth.org/event/bells-rehearsal/2022-09-14/
CATEGORIES:Music Rehearsal
END:VEVENT
BEGIN:VEVENT
DTSTART;TZID=America/Chicago:20220907T190000
DTEND;TZID=America/Chicago:20220907T210000
DTSTAMP:20260425T192440
CREATED:20220815T200126Z
LAST-MODIFIED:20220815T200126Z
UID:10001711-1662577200-1662584400@www.flcduluth.org
SUMMARY:Choir Rehearsal
DESCRIPTION:
URL:https://www.flcduluth.org/event/choir-rehearsal-4/2022-09-07/
CATEGORIES:Music Rehearsal
END:VEVENT
BEGIN:VEVENT
DTSTART;TZID=America/Chicago:20220907T180000
DTEND;TZID=America/Chicago:20220907T190000
DTSTAMP:20260425T192440
CREATED:20220815T200326Z
LAST-MODIFIED:20220815T200326Z
UID:10001695-1662573600-1662577200@www.flcduluth.org
SUMMARY:Bells Rehearsal
DESCRIPTION:
URL:https://www.flcduluth.org/event/bells-rehearsal/2022-09-07/
CATEGORIES:Music Rehearsal
END:VEVENT
BEGIN:VEVENT
DTSTART;TZID=America/Chicago:20220904T150000
DTEND;TZID=America/Chicago:20220904T170000
DTSTAMP:20260425T192440
CREATED:20220113T182122Z
LAST-MODIFIED:20220113T182122Z
UID:10001438-1662303600-1662310800@www.flcduluth.org
SUMMARY:Flukes Rehearsal
DESCRIPTION:
URL:https://www.flcduluth.org/event/flukes-rehearsal/2022-09-04/
CATEGORIES:Music Rehearsal
END:VEVENT
BEGIN:VEVENT
DTSTART;TZID=America/Chicago:20220821T150000
DTEND;TZID=America/Chicago:20220821T170000
DTSTAMP:20260425T192440
CREATED:20221020T180402Z
LAST-MODIFIED:20221020T180402Z
UID:10001449-1661094000-1661101200@www.flcduluth.org
SUMMARY:Flukes Rehearsal
DESCRIPTION:
URL:https://www.flcduluth.org/event/flukes-rehearsal/2022-08-21/
CATEGORIES:Music Rehearsal
END:VEVENT
BEGIN:VEVENT
DTSTART;TZID=America/Chicago:20220807T150000
DTEND;TZID=America/Chicago:20220807T170000
DTSTAMP:20260425T192440
CREATED:20220113T182122Z
LAST-MODIFIED:20220113T182122Z
UID:10001437-1659884400-1659891600@www.flcduluth.org
SUMMARY:Flukes Rehearsal
DESCRIPTION:
URL:https://www.flcduluth.org/event/flukes-rehearsal/2022-08-07/
CATEGORIES:Music Rehearsal
END:VEVENT
BEGIN:VEVENT
DTSTART;TZID=America/Chicago:20220717T150000
DTEND;TZID=America/Chicago:20220717T170000
DTSTAMP:20260425T192440
CREATED:20221020T180402Z
LAST-MODIFIED:20221020T180402Z
UID:10001448-1658070000-1658077200@www.flcduluth.org
SUMMARY:Flukes Rehearsal
DESCRIPTION:
URL:https://www.flcduluth.org/event/flukes-rehearsal/2022-07-17/
CATEGORIES:Music Rehearsal
END:VEVENT
BEGIN:VEVENT
DTSTART;TZID=America/Chicago:20220703T150000
DTEND;TZID=America/Chicago:20220703T170000
DTSTAMP:20260425T192440
CREATED:20220113T182122Z
LAST-MODIFIED:20220113T182122Z
UID:10001436-1656860400-1656867600@www.flcduluth.org
SUMMARY:Flukes Rehearsal
DESCRIPTION:
URL:https://www.flcduluth.org/event/flukes-rehearsal/2022-07-03/
CATEGORIES:Music Rehearsal
END:VEVENT
BEGIN:VEVENT
DTSTART;TZID=America/Chicago:20220619T150000
DTEND;TZID=America/Chicago:20220619T170000
DTSTAMP:20260425T192440
CREATED:20221020T180402Z
LAST-MODIFIED:20221020T180402Z
UID:10001447-1655650800-1655658000@www.flcduluth.org
SUMMARY:Flukes Rehearsal
DESCRIPTION:
URL:https://www.flcduluth.org/event/flukes-rehearsal/2022-06-19/
CATEGORIES:Music Rehearsal
END:VEVENT
BEGIN:VEVENT
DTSTART;TZID=America/Chicago:20220615T190000
DTEND;TZID=America/Chicago:20220615T200000
DTSTAMP:20260425T192440
CREATED:20220405T201622Z
LAST-MODIFIED:20220615T175745Z
UID:10001686-1655319600-1655323200@www.flcduluth.org
SUMMARY:Seven Last Words
DESCRIPTION:More information to follow
URL:https://www.flcduluth.org/event/seven-last-words/
CATEGORIES:Music Rehearsal
END:VEVENT
BEGIN:VEVENT
DTSTART;TZID=America/Chicago:20220614T190000
DTEND;TZID=America/Chicago:20220614T210000
DTSTAMP:20260425T192440
CREATED:20220526T163854Z
LAST-MODIFIED:20220526T163854Z
UID:10000652-1655233200-1655240400@www.flcduluth.org
SUMMARY:Choir Rehearsal
DESCRIPTION:
URL:https://www.flcduluth.org/event/choir-rehearsal-3/2022-06-14/
CATEGORIES:Music Rehearsal
END:VEVENT
BEGIN:VEVENT
DTSTART;TZID=America/Chicago:20220613T190000
DTEND;TZID=America/Chicago:20220613T210000
DTSTAMP:20260425T192440
CREATED:20220526T163854Z
LAST-MODIFIED:20220526T163854Z
UID:10000651-1655146800-1655154000@www.flcduluth.org
SUMMARY:Choir Rehearsal
DESCRIPTION:
URL:https://www.flcduluth.org/event/choir-rehearsal-3/2022-06-13/
CATEGORIES:Music Rehearsal
END:VEVENT
BEGIN:VEVENT
DTSTART;TZID=America/Chicago:20220612T190000
DTEND;TZID=America/Chicago:20220612T210000
DTSTAMP:20260425T192440
CREATED:20220526T163854Z
LAST-MODIFIED:20220526T163854Z
UID:10000650-1655060400-1655067600@www.flcduluth.org
SUMMARY:Choir Rehearsal
DESCRIPTION:
URL:https://www.flcduluth.org/event/choir-rehearsal-3/2022-06-12/
CATEGORIES:Music Rehearsal
END:VEVENT
BEGIN:VEVENT
DTSTART;TZID=America/Chicago:20220605T150000
DTEND;TZID=America/Chicago:20220605T170000
DTSTAMP:20260425T192440
CREATED:20220113T182122Z
LAST-MODIFIED:20220113T182122Z
UID:10001435-1654441200-1654448400@www.flcduluth.org
SUMMARY:Flukes Rehearsal
DESCRIPTION:
URL:https://www.flcduluth.org/event/flukes-rehearsal/2022-06-05/
CATEGORIES:Music Rehearsal
END:VEVENT
BEGIN:VEVENT
DTSTART;TZID=America/Chicago:20220602T190000
DTEND;TZID=America/Chicago:20220602T203000
DTSTAMP:20260425T192440
CREATED:20220526T163611Z
LAST-MODIFIED:20220526T163611Z
UID:10000639-1654196400-1654201800@www.flcduluth.org
SUMMARY:Piano/Organ Recital
DESCRIPTION:
URL:https://www.flcduluth.org/event/piano-organ-recital/
CATEGORIES:Music Rehearsal
END:VEVENT
BEGIN:VEVENT
DTSTART;TZID=America/Chicago:20220528T160000
DTEND;TZID=America/Chicago:20220528T170000
DTSTAMP:20260425T192440
CREATED:20221020T180113Z
LAST-MODIFIED:20221020T180113Z
UID:10000437-1653753600-1653757200@www.flcduluth.org
SUMMARY:Private Music Lessons
DESCRIPTION:
URL:https://www.flcduluth.org/event/private-music-lessons-2/2022-05-28/
CATEGORIES:Music Rehearsal,Staff
END:VEVENT
BEGIN:VEVENT
DTSTART;TZID=America/Chicago:20220528T100000
DTEND;TZID=America/Chicago:20220528T110000
DTSTAMP:20260425T192440
CREATED:20220113T183916Z
LAST-MODIFIED:20220526T164728Z
UID:10000393-1653732000-1653735600@www.flcduluth.org
SUMMARY:Private Music Lessons
DESCRIPTION:
URL:https://www.flcduluth.org/event/private-music-lessons-2/2022-05-28/
CATEGORIES:Music Rehearsal,Staff
END:VEVENT
BEGIN:VEVENT
DTSTART;TZID=America/Chicago:20220527T160000
DTEND;TZID=America/Chicago:20220527T170000
DTSTAMP:20260425T192440
CREATED:20221020T180113Z
LAST-MODIFIED:20221020T180113Z
UID:10000436-1653667200-1653670800@www.flcduluth.org
SUMMARY:Private Music Lessons
DESCRIPTION:
URL:https://www.flcduluth.org/event/private-music-lessons-2/2022-05-27/
CATEGORIES:Music Rehearsal,Staff
END:VEVENT
BEGIN:VEVENT
DTSTART;TZID=America/Chicago:20220525T190000
DTEND;TZID=America/Chicago:20220525T210000
DTSTAMP:20260425T192440
CREATED:20220113T180433Z
LAST-MODIFIED:20220404T182940Z
UID:10001257-1653505200-1653512400@www.flcduluth.org
SUMMARY:FLC Choir Rehearsal
DESCRIPTION:
URL:https://www.flcduluth.org/event/flc-choir-rehearsal/2022-05-25/
CATEGORIES:Music Rehearsal
END:VEVENT
BEGIN:VEVENT
DTSTART;TZID=America/Chicago:20220521T160000
DTEND;TZID=America/Chicago:20220521T170000
DTSTAMP:20260425T192440
CREATED:20221020T180113Z
LAST-MODIFIED:20221020T180113Z
UID:10000435-1653148800-1653152400@www.flcduluth.org
SUMMARY:Private Music Lessons
DESCRIPTION:
URL:https://www.flcduluth.org/event/private-music-lessons-2/2022-05-21/
CATEGORIES:Music Rehearsal,Staff
END:VEVENT
BEGIN:VEVENT
DTSTART;TZID=America/Chicago:20220521T100000
DTEND;TZID=America/Chicago:20220521T110000
DTSTAMP:20260425T192440
CREATED:20220113T183916Z
LAST-MODIFIED:20220526T164728Z
UID:10000392-1653127200-1653130800@www.flcduluth.org
SUMMARY:Private Music Lessons
DESCRIPTION:
URL:https://www.flcduluth.org/event/private-music-lessons-2/2022-05-21/
CATEGORIES:Music Rehearsal,Staff
END:VEVENT
END:VCALENDAR