BEGIN:VCALENDAR
VERSION:2.0
PRODID:-//First Lutheran Church - ECPv6.15.20//NONSGML v1.0//EN
CALSCALE:GREGORIAN
METHOD:PUBLISH
X-ORIGINAL-URL:https://www.flcduluth.org
X-WR-CALDESC:Events for First Lutheran Church
REFRESH-INTERVAL;VALUE=DURATION:PT1H
X-Robots-Tag:noindex
X-PUBLISHED-TTL:PT1H
BEGIN:VTIMEZONE
TZID:America/Chicago
BEGIN:DAYLIGHT
TZOFFSETFROM:-0600
TZOFFSETTO:-0500
TZNAME:CDT
DTSTART:20210314T080000
END:DAYLIGHT
BEGIN:STANDARD
TZOFFSETFROM:-0500
TZOFFSETTO:-0600
TZNAME:CST
DTSTART:20211107T070000
END:STANDARD
BEGIN:DAYLIGHT
TZOFFSETFROM:-0600
TZOFFSETTO:-0500
TZNAME:CDT
DTSTART:20220313T080000
END:DAYLIGHT
BEGIN:STANDARD
TZOFFSETFROM:-0500
TZOFFSETTO:-0600
TZNAME:CST
DTSTART:20221106T070000
END:STANDARD
BEGIN:DAYLIGHT
TZOFFSETFROM:-0600
TZOFFSETTO:-0500
TZNAME:CDT
DTSTART:20230312T080000
END:DAYLIGHT
BEGIN:STANDARD
TZOFFSETFROM:-0500
TZOFFSETTO:-0600
TZNAME:CST
DTSTART:20231105T070000
END:STANDARD
END:VTIMEZONE
BEGIN:VEVENT
DTSTART;TZID=America/Chicago:20220528T160000
DTEND;TZID=America/Chicago:20220528T170000
DTSTAMP:20260425T221348
CREATED:20221020T180113Z
LAST-MODIFIED:20221020T180113Z
UID:10000437-1653753600-1653757200@www.flcduluth.org
SUMMARY:Private Music Lessons
DESCRIPTION:
URL:https://www.flcduluth.org/event/private-music-lessons-2/2022-05-28/
CATEGORIES:Music Rehearsal,Staff
END:VEVENT
BEGIN:VEVENT
DTSTART;TZID=America/Chicago:20220528T100000
DTEND;TZID=America/Chicago:20220528T110000
DTSTAMP:20260425T221348
CREATED:20220113T183916Z
LAST-MODIFIED:20220526T164728Z
UID:10000393-1653732000-1653735600@www.flcduluth.org
SUMMARY:Private Music Lessons
DESCRIPTION:
URL:https://www.flcduluth.org/event/private-music-lessons-2/2022-05-28/
CATEGORIES:Music Rehearsal,Staff
END:VEVENT
BEGIN:VEVENT
DTSTART;TZID=America/Chicago:20220527T160000
DTEND;TZID=America/Chicago:20220527T170000
DTSTAMP:20260425T221348
CREATED:20221020T180113Z
LAST-MODIFIED:20221020T180113Z
UID:10000436-1653667200-1653670800@www.flcduluth.org
SUMMARY:Private Music Lessons
DESCRIPTION:
URL:https://www.flcduluth.org/event/private-music-lessons-2/2022-05-27/
CATEGORIES:Music Rehearsal,Staff
END:VEVENT
BEGIN:VEVENT
DTSTART;TZID=America/Chicago:20220525T190000
DTEND;TZID=America/Chicago:20220525T210000
DTSTAMP:20260425T221348
CREATED:20220113T180433Z
LAST-MODIFIED:20220404T182940Z
UID:10001257-1653505200-1653512400@www.flcduluth.org
SUMMARY:FLC Choir Rehearsal
DESCRIPTION:
URL:https://www.flcduluth.org/event/flc-choir-rehearsal/2022-05-25/
CATEGORIES:Music Rehearsal
END:VEVENT
BEGIN:VEVENT
DTSTART;TZID=America/Chicago:20220521T160000
DTEND;TZID=America/Chicago:20220521T170000
DTSTAMP:20260425T221348
CREATED:20221020T180113Z
LAST-MODIFIED:20221020T180113Z
UID:10000435-1653148800-1653152400@www.flcduluth.org
SUMMARY:Private Music Lessons
DESCRIPTION:
URL:https://www.flcduluth.org/event/private-music-lessons-2/2022-05-21/
CATEGORIES:Music Rehearsal,Staff
END:VEVENT
BEGIN:VEVENT
DTSTART;TZID=America/Chicago:20220521T100000
DTEND;TZID=America/Chicago:20220521T110000
DTSTAMP:20260425T221348
CREATED:20220113T183916Z
LAST-MODIFIED:20220526T164728Z
UID:10000392-1653127200-1653130800@www.flcduluth.org
SUMMARY:Private Music Lessons
DESCRIPTION:
URL:https://www.flcduluth.org/event/private-music-lessons-2/2022-05-21/
CATEGORIES:Music Rehearsal,Staff
END:VEVENT
BEGIN:VEVENT
DTSTART;TZID=America/Chicago:20220520T160000
DTEND;TZID=America/Chicago:20220520T170000
DTSTAMP:20260425T221348
CREATED:20221020T180113Z
LAST-MODIFIED:20221020T180113Z
UID:10000434-1653062400-1653066000@www.flcduluth.org
SUMMARY:Private Music Lessons
DESCRIPTION:
URL:https://www.flcduluth.org/event/private-music-lessons-2/2022-05-20/
CATEGORIES:Music Rehearsal,Staff
END:VEVENT
BEGIN:VEVENT
DTSTART;TZID=America/Chicago:20220518T190000
DTEND;TZID=America/Chicago:20220518T210000
DTSTAMP:20260425T221348
CREATED:20220113T180433Z
LAST-MODIFIED:20220404T182940Z
UID:10001256-1652900400-1652907600@www.flcduluth.org
SUMMARY:FLC Choir Rehearsal
DESCRIPTION:
URL:https://www.flcduluth.org/event/flc-choir-rehearsal/2022-05-18/
CATEGORIES:Music Rehearsal
END:VEVENT
BEGIN:VEVENT
DTSTART;TZID=America/Chicago:20220515T150000
DTEND;TZID=America/Chicago:20220515T170000
DTSTAMP:20260425T221348
CREATED:20221020T180402Z
LAST-MODIFIED:20221020T180402Z
UID:10001446-1652626800-1652634000@www.flcduluth.org
SUMMARY:Flukes Rehearsal
DESCRIPTION:
URL:https://www.flcduluth.org/event/flukes-rehearsal/2022-05-15/
CATEGORIES:Music Rehearsal
END:VEVENT
BEGIN:VEVENT
DTSTART;VALUE=DATE:20220515
DTEND;VALUE=DATE:20220516
DTSTAMP:20260425T221348
CREATED:20220329T153318Z
LAST-MODIFIED:20220504T180507Z
UID:10000525-1652572800-1652659199@www.flcduluth.org
SUMMARY:Festival of Nordic Music
DESCRIPTION:
URL:https://www.flcduluth.org/event/organ-recital/2022-05-15/
CATEGORIES:Music Rehearsal,Outside Group
END:VEVENT
BEGIN:VEVENT
DTSTART;TZID=America/Chicago:20220514T160000
DTEND;TZID=America/Chicago:20220514T170000
DTSTAMP:20260425T221348
CREATED:20221020T180113Z
LAST-MODIFIED:20221020T180113Z
UID:10000433-1652544000-1652547600@www.flcduluth.org
SUMMARY:Private Music Lessons
DESCRIPTION:
URL:https://www.flcduluth.org/event/private-music-lessons-2/2022-05-14/
CATEGORIES:Music Rehearsal,Staff
END:VEVENT
BEGIN:VEVENT
DTSTART;TZID=America/Chicago:20220514T100000
DTEND;TZID=America/Chicago:20220514T110000
DTSTAMP:20260425T221348
CREATED:20220113T183916Z
LAST-MODIFIED:20220526T164728Z
UID:10000391-1652522400-1652526000@www.flcduluth.org
SUMMARY:Private Music Lessons
DESCRIPTION:
URL:https://www.flcduluth.org/event/private-music-lessons-2/2022-05-14/
CATEGORIES:Music Rehearsal,Staff
END:VEVENT
BEGIN:VEVENT
DTSTART;VALUE=DATE:20220514
DTEND;VALUE=DATE:20220515
DTSTAMP:20260425T221348
CREATED:20220329T153318Z
LAST-MODIFIED:20220504T180507Z
UID:10000524-1652486400-1652572799@www.flcduluth.org
SUMMARY:Festival of Nordic Music
DESCRIPTION:
URL:https://www.flcduluth.org/event/organ-recital/2022-05-14/
CATEGORIES:Music Rehearsal,Outside Group
END:VEVENT
BEGIN:VEVENT
DTSTART;TZID=America/Chicago:20220513T160000
DTEND;TZID=America/Chicago:20220513T170000
DTSTAMP:20260425T221348
CREATED:20221020T180113Z
LAST-MODIFIED:20221020T180113Z
UID:10000432-1652457600-1652461200@www.flcduluth.org
SUMMARY:Private Music Lessons
DESCRIPTION:
URL:https://www.flcduluth.org/event/private-music-lessons-2/2022-05-13/
CATEGORIES:Music Rehearsal,Staff
END:VEVENT
BEGIN:VEVENT
DTSTART;VALUE=DATE:20220513
DTEND;VALUE=DATE:20220514
DTSTAMP:20260425T221348
CREATED:20220329T153318Z
LAST-MODIFIED:20220504T180507Z
UID:10000523-1652400000-1652486399@www.flcduluth.org
SUMMARY:Festival of Nordic Music
DESCRIPTION:
URL:https://www.flcduluth.org/event/organ-recital/2022-05-13/
CATEGORIES:Music Rehearsal,Outside Group
END:VEVENT
BEGIN:VEVENT
DTSTART;TZID=America/Chicago:20220511T190000
DTEND;TZID=America/Chicago:20220511T210000
DTSTAMP:20260425T221348
CREATED:20220113T180433Z
LAST-MODIFIED:20220404T182940Z
UID:10001255-1652295600-1652302800@www.flcduluth.org
SUMMARY:FLC Choir Rehearsal
DESCRIPTION:
URL:https://www.flcduluth.org/event/flc-choir-rehearsal/2022-05-11/
CATEGORIES:Music Rehearsal
END:VEVENT
BEGIN:VEVENT
DTSTART;TZID=America/Chicago:20220508T190000
DTEND;TZID=America/Chicago:20220508T210000
DTSTAMP:20260425T221348
CREATED:20220113T190058Z
LAST-MODIFIED:20220113T190058Z
UID:10000505-1652036400-1652043600@www.flcduluth.org
SUMMARY:Twin Ports Choral Project
DESCRIPTION:https://www.twinportschoralproject.org/
URL:https://www.flcduluth.org/event/twin-ports-choral-project/2022-05-08/
CATEGORIES:Music Rehearsal,Outside Group
END:VEVENT
BEGIN:VEVENT
DTSTART;TZID=America/Chicago:20220508T150000
DTEND;TZID=America/Chicago:20220508T190000
DTSTAMP:20260425T221348
CREATED:20220113T185645Z
LAST-MODIFIED:20220113T185645Z
UID:10000470-1652022000-1652036400@www.flcduluth.org
SUMMARY:Lake Superior Youth Chorus
DESCRIPTION:https://www.lsyouthchorus.org/
URL:https://www.flcduluth.org/event/lake-superior-youth-chorus/2022-05-08/
CATEGORIES:Music Rehearsal,Outside Group
END:VEVENT
BEGIN:VEVENT
DTSTART;TZID=America/Chicago:20220507T160000
DTEND;TZID=America/Chicago:20220507T170000
DTSTAMP:20260425T221348
CREATED:20221020T180113Z
LAST-MODIFIED:20221020T180113Z
UID:10000431-1651939200-1651942800@www.flcduluth.org
SUMMARY:Private Music Lessons
DESCRIPTION:
URL:https://www.flcduluth.org/event/private-music-lessons-2/2022-05-07/
CATEGORIES:Music Rehearsal,Staff
END:VEVENT
BEGIN:VEVENT
DTSTART;TZID=America/Chicago:20220507T100000
DTEND;TZID=America/Chicago:20220507T110000
DTSTAMP:20260425T221348
CREATED:20220113T183916Z
LAST-MODIFIED:20220526T164728Z
UID:10000390-1651917600-1651921200@www.flcduluth.org
SUMMARY:Private Music Lessons
DESCRIPTION:
URL:https://www.flcduluth.org/event/private-music-lessons-2/2022-05-07/
CATEGORIES:Music Rehearsal,Staff
END:VEVENT
BEGIN:VEVENT
DTSTART;TZID=America/Chicago:20220506T160000
DTEND;TZID=America/Chicago:20220506T170000
DTSTAMP:20260425T221348
CREATED:20221020T180113Z
LAST-MODIFIED:20221020T180113Z
UID:10000430-1651852800-1651856400@www.flcduluth.org
SUMMARY:Private Music Lessons
DESCRIPTION:
URL:https://www.flcduluth.org/event/private-music-lessons-2/2022-05-06/
CATEGORIES:Music Rehearsal,Staff
END:VEVENT
BEGIN:VEVENT
DTSTART;TZID=America/Chicago:20220504T190000
DTEND;TZID=America/Chicago:20220504T210000
DTSTAMP:20260425T221348
CREATED:20220113T180433Z
LAST-MODIFIED:20220404T182940Z
UID:10001254-1651690800-1651698000@www.flcduluth.org
SUMMARY:FLC Choir Rehearsal
DESCRIPTION:
URL:https://www.flcduluth.org/event/flc-choir-rehearsal/2022-05-04/
CATEGORIES:Music Rehearsal
END:VEVENT
BEGIN:VEVENT
DTSTART;TZID=America/Chicago:20220501T190000
DTEND;TZID=America/Chicago:20220501T210000
DTSTAMP:20260425T221348
CREATED:20220113T190058Z
LAST-MODIFIED:20220113T190058Z
UID:10000504-1651431600-1651438800@www.flcduluth.org
SUMMARY:Twin Ports Choral Project
DESCRIPTION:https://www.twinportschoralproject.org/
URL:https://www.flcduluth.org/event/twin-ports-choral-project/2022-05-01/
CATEGORIES:Music Rehearsal,Outside Group
END:VEVENT
BEGIN:VEVENT
DTSTART;TZID=America/Chicago:20220501T150000
DTEND;TZID=America/Chicago:20220501T190000
DTSTAMP:20260425T221348
CREATED:20220113T185645Z
LAST-MODIFIED:20220113T185645Z
UID:10000469-1651417200-1651431600@www.flcduluth.org
SUMMARY:Lake Superior Youth Chorus
DESCRIPTION:https://www.lsyouthchorus.org/
URL:https://www.flcduluth.org/event/lake-superior-youth-chorus/2022-05-01/
CATEGORIES:Music Rehearsal,Outside Group
END:VEVENT
BEGIN:VEVENT
DTSTART;TZID=America/Chicago:20220501T150000
DTEND;TZID=America/Chicago:20220501T170000
DTSTAMP:20260425T221348
CREATED:20220113T182122Z
LAST-MODIFIED:20220113T182122Z
UID:10001434-1651417200-1651424400@www.flcduluth.org
SUMMARY:Flukes Rehearsal
DESCRIPTION:
URL:https://www.flcduluth.org/event/flukes-rehearsal/2022-05-01/
CATEGORIES:Music Rehearsal
END:VEVENT
BEGIN:VEVENT
DTSTART;TZID=America/Chicago:20220430T160000
DTEND;TZID=America/Chicago:20220430T170000
DTSTAMP:20260425T221348
CREATED:20221020T180113Z
LAST-MODIFIED:20221020T180113Z
UID:10000429-1651334400-1651338000@www.flcduluth.org
SUMMARY:Private Music Lessons
DESCRIPTION:
URL:https://www.flcduluth.org/event/private-music-lessons-2/2022-04-30/
CATEGORIES:Music Rehearsal,Staff
END:VEVENT
BEGIN:VEVENT
DTSTART;TZID=America/Chicago:20220430T100000
DTEND;TZID=America/Chicago:20220430T110000
DTSTAMP:20260425T221348
CREATED:20220113T183916Z
LAST-MODIFIED:20220526T164728Z
UID:10000389-1651312800-1651316400@www.flcduluth.org
SUMMARY:Private Music Lessons
DESCRIPTION:
URL:https://www.flcduluth.org/event/private-music-lessons-2/2022-04-30/
CATEGORIES:Music Rehearsal,Staff
END:VEVENT
BEGIN:VEVENT
DTSTART;TZID=America/Chicago:20220429T160000
DTEND;TZID=America/Chicago:20220429T170000
DTSTAMP:20260425T221348
CREATED:20221020T180113Z
LAST-MODIFIED:20221020T180113Z
UID:10000428-1651248000-1651251600@www.flcduluth.org
SUMMARY:Private Music Lessons
DESCRIPTION:
URL:https://www.flcduluth.org/event/private-music-lessons-2/2022-04-29/
CATEGORIES:Music Rehearsal,Staff
END:VEVENT
BEGIN:VEVENT
DTSTART;TZID=America/Chicago:20220428T180000
DTEND;TZID=America/Chicago:20220428T193000
DTSTAMP:20260425T221348
CREATED:20220224T193544Z
LAST-MODIFIED:20220330T192227Z
UID:10001563-1651168800-1651174200@www.flcduluth.org
SUMMARY:Handbells
DESCRIPTION:
URL:https://www.flcduluth.org/event/handbells/2022-04-28/
CATEGORIES:Music Rehearsal
END:VEVENT
BEGIN:VEVENT
DTSTART;TZID=America/Chicago:20220427T190000
DTEND;TZID=America/Chicago:20220427T210000
DTSTAMP:20260425T221348
CREATED:20220113T180433Z
LAST-MODIFIED:20220404T182940Z
UID:10001253-1651086000-1651093200@www.flcduluth.org
SUMMARY:FLC Choir Rehearsal
DESCRIPTION:
URL:https://www.flcduluth.org/event/flc-choir-rehearsal/2022-04-27/
CATEGORIES:Music Rehearsal
END:VEVENT
END:VCALENDAR