BEGIN:VCALENDAR
VERSION:2.0
PRODID:-//First Lutheran Church - ECPv6.15.20//NONSGML v1.0//EN
CALSCALE:GREGORIAN
METHOD:PUBLISH
X-WR-CALNAME:First Lutheran Church
X-ORIGINAL-URL:https://www.flcduluth.org
X-WR-CALDESC:Events for First Lutheran Church
REFRESH-INTERVAL;VALUE=DURATION:PT1H
X-Robots-Tag:noindex
X-PUBLISHED-TTL:PT1H
BEGIN:VTIMEZONE
TZID:America/Chicago
BEGIN:DAYLIGHT
TZOFFSETFROM:-0600
TZOFFSETTO:-0500
TZNAME:CDT
DTSTART:20230312T080000
END:DAYLIGHT
BEGIN:STANDARD
TZOFFSETFROM:-0500
TZOFFSETTO:-0600
TZNAME:CST
DTSTART:20231105T070000
END:STANDARD
BEGIN:DAYLIGHT
TZOFFSETFROM:-0600
TZOFFSETTO:-0500
TZNAME:CDT
DTSTART:20240310T080000
END:DAYLIGHT
BEGIN:STANDARD
TZOFFSETFROM:-0500
TZOFFSETTO:-0600
TZNAME:CST
DTSTART:20241103T070000
END:STANDARD
BEGIN:DAYLIGHT
TZOFFSETFROM:-0600
TZOFFSETTO:-0500
TZNAME:CDT
DTSTART:20250309T080000
END:DAYLIGHT
BEGIN:STANDARD
TZOFFSETFROM:-0500
TZOFFSETTO:-0600
TZNAME:CST
DTSTART:20251102T070000
END:STANDARD
END:VTIMEZONE
BEGIN:VEVENT
DTSTART;TZID=America/Chicago:20240320T174500
DTEND;TZID=America/Chicago:20240320T190000
DTSTAMP:20260423T181328
CREATED:20230810T182835Z
LAST-MODIFIED:20240515T191229Z
UID:10004806-1710956700-1710961200@www.flcduluth.org
SUMMARY:Handbell Choir
DESCRIPTION:
URL:https://www.flcduluth.org/event/handbell-choir/2024-03-20/
CATEGORIES:Music Rehearsal
END:VEVENT
BEGIN:VEVENT
DTSTART;TZID=America/Chicago:20240317T153000
DTEND;TZID=America/Chicago:20240317T163000
DTSTAMP:20260423T181328
CREATED:20240118T201516Z
LAST-MODIFIED:20240118T201857Z
UID:10005668-1710689400-1710693000@www.flcduluth.org
SUMMARY:Flukes
DESCRIPTION:
URL:https://www.flcduluth.org/event/flukes-7/2024-03-17/
CATEGORIES:Music Rehearsal
END:VEVENT
BEGIN:VEVENT
DTSTART;TZID=America/Chicago:20240313T202000
DTEND;TZID=America/Chicago:20240313T210000
DTSTAMP:20260423T181328
CREATED:20230810T182721Z
LAST-MODIFIED:20240515T191459Z
UID:10004741-1710361200-1710363600@www.flcduluth.org
SUMMARY:Chamber Choir
DESCRIPTION:
URL:https://www.flcduluth.org/event/chamber-choir/2024-03-13/
CATEGORIES:Music Rehearsal
END:VEVENT
BEGIN:VEVENT
DTSTART;TZID=America/Chicago:20240313T191500
DTEND;TZID=America/Chicago:20240313T201500
DTSTAMP:20260423T181328
CREATED:20230810T182600Z
LAST-MODIFIED:20240515T191343Z
UID:10004673-1710357300-1710360900@www.flcduluth.org
SUMMARY:Soli Deo Gloria Choir
DESCRIPTION:
URL:https://www.flcduluth.org/event/soli-deo-gloria-choir/2024-03-13/
CATEGORIES:Music Rehearsal
END:VEVENT
BEGIN:VEVENT
DTSTART;TZID=America/Chicago:20240313T174500
DTEND;TZID=America/Chicago:20240313T190000
DTSTAMP:20260423T181328
CREATED:20230810T182835Z
LAST-MODIFIED:20240515T191229Z
UID:10004805-1710351900-1710356400@www.flcduluth.org
SUMMARY:Handbell Choir
DESCRIPTION:
URL:https://www.flcduluth.org/event/handbell-choir/2024-03-13/
CATEGORIES:Music Rehearsal
END:VEVENT
BEGIN:VEVENT
DTSTART;TZID=America/Chicago:20240306T202000
DTEND;TZID=America/Chicago:20240306T210000
DTSTAMP:20260423T181328
CREATED:20230810T182721Z
LAST-MODIFIED:20240515T191459Z
UID:10004740-1709756400-1709758800@www.flcduluth.org
SUMMARY:Chamber Choir
DESCRIPTION:
URL:https://www.flcduluth.org/event/chamber-choir/2024-03-06/
CATEGORIES:Music Rehearsal
END:VEVENT
BEGIN:VEVENT
DTSTART;TZID=America/Chicago:20240306T191500
DTEND;TZID=America/Chicago:20240306T201500
DTSTAMP:20260423T181328
CREATED:20230810T182600Z
LAST-MODIFIED:20240515T191343Z
UID:10004672-1709752500-1709756100@www.flcduluth.org
SUMMARY:Soli Deo Gloria Choir
DESCRIPTION:
URL:https://www.flcduluth.org/event/soli-deo-gloria-choir/2024-03-06/
CATEGORIES:Music Rehearsal
END:VEVENT
BEGIN:VEVENT
DTSTART;TZID=America/Chicago:20240306T174500
DTEND;TZID=America/Chicago:20240306T190000
DTSTAMP:20260423T181328
CREATED:20230810T182835Z
LAST-MODIFIED:20240515T191229Z
UID:10004804-1709747100-1709751600@www.flcduluth.org
SUMMARY:Handbell Choir
DESCRIPTION:
URL:https://www.flcduluth.org/event/handbell-choir/2024-03-06/
CATEGORIES:Music Rehearsal
END:VEVENT
BEGIN:VEVENT
DTSTART;TZID=America/Chicago:20240228T202000
DTEND;TZID=America/Chicago:20240228T210000
DTSTAMP:20260423T181328
CREATED:20230810T182721Z
LAST-MODIFIED:20240515T191459Z
UID:10004739-1709151600-1709154000@www.flcduluth.org
SUMMARY:Chamber Choir
DESCRIPTION:
URL:https://www.flcduluth.org/event/chamber-choir/2024-02-28/
CATEGORIES:Music Rehearsal
END:VEVENT
BEGIN:VEVENT
DTSTART;TZID=America/Chicago:20240228T191500
DTEND;TZID=America/Chicago:20240228T201500
DTSTAMP:20260423T181328
CREATED:20230810T182600Z
LAST-MODIFIED:20240515T191343Z
UID:10004671-1709147700-1709151300@www.flcduluth.org
SUMMARY:Soli Deo Gloria Choir
DESCRIPTION:
URL:https://www.flcduluth.org/event/soli-deo-gloria-choir/2024-02-28/
CATEGORIES:Music Rehearsal
END:VEVENT
BEGIN:VEVENT
DTSTART;TZID=America/Chicago:20240228T174500
DTEND;TZID=America/Chicago:20240228T190000
DTSTAMP:20260423T181328
CREATED:20230810T182835Z
LAST-MODIFIED:20240515T191229Z
UID:10004803-1709142300-1709146800@www.flcduluth.org
SUMMARY:Handbell Choir
DESCRIPTION:
URL:https://www.flcduluth.org/event/handbell-choir/2024-02-28/
CATEGORIES:Music Rehearsal
END:VEVENT
BEGIN:VEVENT
DTSTART;TZID=America/Chicago:20240221T202000
DTEND;TZID=America/Chicago:20240221T210000
DTSTAMP:20260423T181328
CREATED:20230810T182721Z
LAST-MODIFIED:20240515T191459Z
UID:10004738-1708546800-1708549200@www.flcduluth.org
SUMMARY:Chamber Choir
DESCRIPTION:
URL:https://www.flcduluth.org/event/chamber-choir/2024-02-21/
CATEGORIES:Music Rehearsal
END:VEVENT
BEGIN:VEVENT
DTSTART;TZID=America/Chicago:20240221T191500
DTEND;TZID=America/Chicago:20240221T201500
DTSTAMP:20260423T181328
CREATED:20230810T182600Z
LAST-MODIFIED:20240515T191343Z
UID:10004670-1708542900-1708546500@www.flcduluth.org
SUMMARY:Soli Deo Gloria Choir
DESCRIPTION:
URL:https://www.flcduluth.org/event/soli-deo-gloria-choir/2024-02-21/
CATEGORIES:Music Rehearsal
END:VEVENT
BEGIN:VEVENT
DTSTART;TZID=America/Chicago:20240221T174500
DTEND;TZID=America/Chicago:20240221T190000
DTSTAMP:20260423T181328
CREATED:20230810T182835Z
LAST-MODIFIED:20240515T191229Z
UID:10004802-1708537500-1708542000@www.flcduluth.org
SUMMARY:Handbell Choir
DESCRIPTION:
URL:https://www.flcduluth.org/event/handbell-choir/2024-02-21/
CATEGORIES:Music Rehearsal
END:VEVENT
BEGIN:VEVENT
DTSTART;TZID=America/Chicago:20240218T153000
DTEND;TZID=America/Chicago:20240218T163000
DTSTAMP:20260423T181328
CREATED:20240118T201516Z
LAST-MODIFIED:20240118T201857Z
UID:10005667-1708270200-1708273800@www.flcduluth.org
SUMMARY:Flukes
DESCRIPTION:
URL:https://www.flcduluth.org/event/flukes-7/2024-02-18/
CATEGORIES:Music Rehearsal
END:VEVENT
BEGIN:VEVENT
DTSTART;TZID=America/Chicago:20240214T202000
DTEND;TZID=America/Chicago:20240214T210000
DTSTAMP:20260423T181328
CREATED:20230810T182721Z
LAST-MODIFIED:20240515T191459Z
UID:10004737-1707942000-1707944400@www.flcduluth.org
SUMMARY:Chamber Choir
DESCRIPTION:
URL:https://www.flcduluth.org/event/chamber-choir/2024-02-14/
CATEGORIES:Music Rehearsal
END:VEVENT
BEGIN:VEVENT
DTSTART;TZID=America/Chicago:20240214T191500
DTEND;TZID=America/Chicago:20240214T201500
DTSTAMP:20260423T181328
CREATED:20230810T182600Z
LAST-MODIFIED:20240515T191343Z
UID:10004669-1707938100-1707941700@www.flcduluth.org
SUMMARY:Soli Deo Gloria Choir
DESCRIPTION:
URL:https://www.flcduluth.org/event/soli-deo-gloria-choir/2024-02-14/
CATEGORIES:Music Rehearsal
END:VEVENT
BEGIN:VEVENT
DTSTART;TZID=America/Chicago:20240214T174500
DTEND;TZID=America/Chicago:20240214T190000
DTSTAMP:20260423T181328
CREATED:20230810T182835Z
LAST-MODIFIED:20240515T191229Z
UID:10004801-1707932700-1707937200@www.flcduluth.org
SUMMARY:Handbell Choir
DESCRIPTION:
URL:https://www.flcduluth.org/event/handbell-choir/2024-02-14/
CATEGORIES:Music Rehearsal
END:VEVENT
BEGIN:VEVENT
DTSTART;TZID=America/Chicago:20240207T202000
DTEND;TZID=America/Chicago:20240207T210000
DTSTAMP:20260423T181328
CREATED:20230810T182721Z
LAST-MODIFIED:20240515T191459Z
UID:10004736-1707337200-1707339600@www.flcduluth.org
SUMMARY:Chamber Choir
DESCRIPTION:
URL:https://www.flcduluth.org/event/chamber-choir/2024-02-07/
CATEGORIES:Music Rehearsal
END:VEVENT
BEGIN:VEVENT
DTSTART;TZID=America/Chicago:20240207T191500
DTEND;TZID=America/Chicago:20240207T201500
DTSTAMP:20260423T181328
CREATED:20230810T182600Z
LAST-MODIFIED:20240515T191343Z
UID:10004668-1707333300-1707336900@www.flcduluth.org
SUMMARY:Soli Deo Gloria Choir
DESCRIPTION:
URL:https://www.flcduluth.org/event/soli-deo-gloria-choir/2024-02-07/
CATEGORIES:Music Rehearsal
END:VEVENT
BEGIN:VEVENT
DTSTART;TZID=America/Chicago:20240207T174500
DTEND;TZID=America/Chicago:20240207T190000
DTSTAMP:20260423T181328
CREATED:20230810T182835Z
LAST-MODIFIED:20240515T191229Z
UID:10004800-1707327900-1707332400@www.flcduluth.org
SUMMARY:Handbell Choir
DESCRIPTION:
URL:https://www.flcduluth.org/event/handbell-choir/2024-02-07/
CATEGORIES:Music Rehearsal
END:VEVENT
BEGIN:VEVENT
DTSTART;TZID=America/Chicago:20240131T202000
DTEND;TZID=America/Chicago:20240131T210000
DTSTAMP:20260423T181328
CREATED:20230810T182721Z
LAST-MODIFIED:20240515T191459Z
UID:10004735-1706732400-1706734800@www.flcduluth.org
SUMMARY:Chamber Choir
DESCRIPTION:
URL:https://www.flcduluth.org/event/chamber-choir/2024-01-31/
CATEGORIES:Music Rehearsal
END:VEVENT
BEGIN:VEVENT
DTSTART;TZID=America/Chicago:20240131T191500
DTEND;TZID=America/Chicago:20240131T201500
DTSTAMP:20260423T181328
CREATED:20230810T182600Z
LAST-MODIFIED:20240515T191343Z
UID:10004667-1706728500-1706732100@www.flcduluth.org
SUMMARY:Soli Deo Gloria Choir
DESCRIPTION:
URL:https://www.flcduluth.org/event/soli-deo-gloria-choir/2024-01-31/
CATEGORIES:Music Rehearsal
END:VEVENT
BEGIN:VEVENT
DTSTART;TZID=America/Chicago:20240131T174500
DTEND;TZID=America/Chicago:20240131T190000
DTSTAMP:20260423T181328
CREATED:20230810T182835Z
LAST-MODIFIED:20240515T191229Z
UID:10004799-1706723100-1706727600@www.flcduluth.org
SUMMARY:Handbell Choir
DESCRIPTION:
URL:https://www.flcduluth.org/event/handbell-choir/2024-01-31/
CATEGORIES:Music Rehearsal
END:VEVENT
BEGIN:VEVENT
DTSTART;TZID=America/Chicago:20240124T202000
DTEND;TZID=America/Chicago:20240124T210000
DTSTAMP:20260423T181328
CREATED:20230810T182721Z
LAST-MODIFIED:20240515T191459Z
UID:10004734-1706127600-1706130000@www.flcduluth.org
SUMMARY:Chamber Choir
DESCRIPTION:
URL:https://www.flcduluth.org/event/chamber-choir/2024-01-24/
CATEGORIES:Music Rehearsal
END:VEVENT
BEGIN:VEVENT
DTSTART;TZID=America/Chicago:20240124T191500
DTEND;TZID=America/Chicago:20240124T201500
DTSTAMP:20260423T181328
CREATED:20230810T182600Z
LAST-MODIFIED:20240515T191343Z
UID:10004666-1706123700-1706127300@www.flcduluth.org
SUMMARY:Soli Deo Gloria Choir
DESCRIPTION:
URL:https://www.flcduluth.org/event/soli-deo-gloria-choir/2024-01-24/
CATEGORIES:Music Rehearsal
END:VEVENT
BEGIN:VEVENT
DTSTART;TZID=America/Chicago:20240124T174500
DTEND;TZID=America/Chicago:20240124T190000
DTSTAMP:20260423T181328
CREATED:20230810T182835Z
LAST-MODIFIED:20240515T191229Z
UID:10004798-1706118300-1706122800@www.flcduluth.org
SUMMARY:Handbell Choir
DESCRIPTION:
URL:https://www.flcduluth.org/event/handbell-choir/2024-01-24/
CATEGORIES:Music Rehearsal
END:VEVENT
BEGIN:VEVENT
DTSTART;TZID=America/Chicago:20240121T153000
DTEND;TZID=America/Chicago:20240121T163000
DTSTAMP:20260423T181328
CREATED:20240118T201516Z
LAST-MODIFIED:20240118T201857Z
UID:10005666-1705851000-1705854600@www.flcduluth.org
SUMMARY:Flukes
DESCRIPTION:
URL:https://www.flcduluth.org/event/flukes-7/2024-01-21/
CATEGORIES:Music Rehearsal
END:VEVENT
BEGIN:VEVENT
DTSTART;TZID=America/Chicago:20240117T202000
DTEND;TZID=America/Chicago:20240117T210000
DTSTAMP:20260423T181328
CREATED:20230810T182721Z
LAST-MODIFIED:20240515T191459Z
UID:10004733-1705522800-1705525200@www.flcduluth.org
SUMMARY:Chamber Choir
DESCRIPTION:
URL:https://www.flcduluth.org/event/chamber-choir/2024-01-17/
CATEGORIES:Music Rehearsal
END:VEVENT
BEGIN:VEVENT
DTSTART;TZID=America/Chicago:20240117T191500
DTEND;TZID=America/Chicago:20240117T201500
DTSTAMP:20260423T181328
CREATED:20230810T182600Z
LAST-MODIFIED:20240515T191343Z
UID:10004665-1705518900-1705522500@www.flcduluth.org
SUMMARY:Soli Deo Gloria Choir
DESCRIPTION:
URL:https://www.flcduluth.org/event/soli-deo-gloria-choir/2024-01-17/
CATEGORIES:Music Rehearsal
END:VEVENT
END:VCALENDAR