BEGIN:VCALENDAR
VERSION:2.0
PRODID:-//First Lutheran Church - ECPv6.15.20//NONSGML v1.0//EN
CALSCALE:GREGORIAN
METHOD:PUBLISH
X-ORIGINAL-URL:https://www.flcduluth.org
X-WR-CALDESC:Events for First Lutheran Church
REFRESH-INTERVAL;VALUE=DURATION:PT1H
X-Robots-Tag:noindex
X-PUBLISHED-TTL:PT1H
BEGIN:VTIMEZONE
TZID:America/Chicago
BEGIN:DAYLIGHT
TZOFFSETFROM:-0600
TZOFFSETTO:-0500
TZNAME:CDT
DTSTART:20220313T080000
END:DAYLIGHT
BEGIN:STANDARD
TZOFFSETFROM:-0500
TZOFFSETTO:-0600
TZNAME:CST
DTSTART:20221106T070000
END:STANDARD
BEGIN:DAYLIGHT
TZOFFSETFROM:-0600
TZOFFSETTO:-0500
TZNAME:CDT
DTSTART:20230312T080000
END:DAYLIGHT
BEGIN:STANDARD
TZOFFSETFROM:-0500
TZOFFSETTO:-0600
TZNAME:CST
DTSTART:20231105T070000
END:STANDARD
BEGIN:DAYLIGHT
TZOFFSETFROM:-0600
TZOFFSETTO:-0500
TZNAME:CDT
DTSTART:20240310T080000
END:DAYLIGHT
BEGIN:STANDARD
TZOFFSETFROM:-0500
TZOFFSETTO:-0600
TZNAME:CST
DTSTART:20241103T070000
END:STANDARD
BEGIN:DAYLIGHT
TZOFFSETFROM:-0600
TZOFFSETTO:-0500
TZNAME:CDT
DTSTART:20250309T080000
END:DAYLIGHT
BEGIN:STANDARD
TZOFFSETFROM:-0500
TZOFFSETTO:-0600
TZNAME:CST
DTSTART:20251102T070000
END:STANDARD
END:VTIMEZONE
BEGIN:VEVENT
DTSTART;TZID=America/Chicago:20240103T174500
DTEND;TZID=America/Chicago:20240103T190000
DTSTAMP:20260423T225910
CREATED:20230810T182835Z
LAST-MODIFIED:20240515T191229Z
UID:10004795-1704303900-1704308400@www.flcduluth.org
SUMMARY:Handbell Choir
DESCRIPTION:
URL:https://www.flcduluth.org/event/handbell-choir/2024-01-03/
CATEGORIES:Music Rehearsal
END:VEVENT
BEGIN:VEVENT
DTSTART;TZID=America/Chicago:20231227T202000
DTEND;TZID=America/Chicago:20231227T210000
DTSTAMP:20260423T225910
CREATED:20230810T182721Z
LAST-MODIFIED:20240515T191459Z
UID:10004730-1703708400-1703710800@www.flcduluth.org
SUMMARY:Chamber Choir
DESCRIPTION:
URL:https://www.flcduluth.org/event/chamber-choir/2023-12-27/
CATEGORIES:Music Rehearsal
END:VEVENT
BEGIN:VEVENT
DTSTART;TZID=America/Chicago:20231227T191500
DTEND;TZID=America/Chicago:20231227T201500
DTSTAMP:20260423T225910
CREATED:20230810T182600Z
LAST-MODIFIED:20240515T191343Z
UID:10004662-1703704500-1703708100@www.flcduluth.org
SUMMARY:Soli Deo Gloria Choir
DESCRIPTION:
URL:https://www.flcduluth.org/event/soli-deo-gloria-choir/2023-12-27/
CATEGORIES:Music Rehearsal
END:VEVENT
BEGIN:VEVENT
DTSTART;TZID=America/Chicago:20231227T174500
DTEND;TZID=America/Chicago:20231227T190000
DTSTAMP:20260423T225910
CREATED:20230810T182835Z
LAST-MODIFIED:20240515T191229Z
UID:10004794-1703699100-1703703600@www.flcduluth.org
SUMMARY:Handbell Choir
DESCRIPTION:
URL:https://www.flcduluth.org/event/handbell-choir/2023-12-27/
CATEGORIES:Music Rehearsal
END:VEVENT
BEGIN:VEVENT
DTSTART;TZID=America/Chicago:20231220T202000
DTEND;TZID=America/Chicago:20231220T210000
DTSTAMP:20260423T225910
CREATED:20230810T182721Z
LAST-MODIFIED:20240515T191459Z
UID:10004729-1703103600-1703106000@www.flcduluth.org
SUMMARY:Chamber Choir
DESCRIPTION:
URL:https://www.flcduluth.org/event/chamber-choir/2023-12-20/
CATEGORIES:Music Rehearsal
END:VEVENT
BEGIN:VEVENT
DTSTART;TZID=America/Chicago:20231220T191500
DTEND;TZID=America/Chicago:20231220T201500
DTSTAMP:20260423T225910
CREATED:20230810T182600Z
LAST-MODIFIED:20240515T191343Z
UID:10004661-1703099700-1703103300@www.flcduluth.org
SUMMARY:Soli Deo Gloria Choir
DESCRIPTION:
URL:https://www.flcduluth.org/event/soli-deo-gloria-choir/2023-12-20/
CATEGORIES:Music Rehearsal
END:VEVENT
BEGIN:VEVENT
DTSTART;TZID=America/Chicago:20231220T174500
DTEND;TZID=America/Chicago:20231220T190000
DTSTAMP:20260423T225910
CREATED:20230810T182835Z
LAST-MODIFIED:20240515T191229Z
UID:10004793-1703094300-1703098800@www.flcduluth.org
SUMMARY:Handbell Choir
DESCRIPTION:
URL:https://www.flcduluth.org/event/handbell-choir/2023-12-20/
CATEGORIES:Music Rehearsal
END:VEVENT
BEGIN:VEVENT
DTSTART;TZID=America/Chicago:20231213T202000
DTEND;TZID=America/Chicago:20231213T210000
DTSTAMP:20260423T225910
CREATED:20230810T182721Z
LAST-MODIFIED:20240515T191459Z
UID:10004728-1702498800-1702501200@www.flcduluth.org
SUMMARY:Chamber Choir
DESCRIPTION:
URL:https://www.flcduluth.org/event/chamber-choir/2023-12-13/
CATEGORIES:Music Rehearsal
END:VEVENT
BEGIN:VEVENT
DTSTART;TZID=America/Chicago:20231213T191500
DTEND;TZID=America/Chicago:20231213T201500
DTSTAMP:20260423T225910
CREATED:20230810T182600Z
LAST-MODIFIED:20240515T191343Z
UID:10004660-1702494900-1702498500@www.flcduluth.org
SUMMARY:Soli Deo Gloria Choir
DESCRIPTION:
URL:https://www.flcduluth.org/event/soli-deo-gloria-choir/2023-12-13/
CATEGORIES:Music Rehearsal
END:VEVENT
BEGIN:VEVENT
DTSTART;TZID=America/Chicago:20231213T174500
DTEND;TZID=America/Chicago:20231213T190000
DTSTAMP:20260423T225910
CREATED:20230810T182835Z
LAST-MODIFIED:20240515T191229Z
UID:10004792-1702489500-1702494000@www.flcduluth.org
SUMMARY:Handbell Choir
DESCRIPTION:
URL:https://www.flcduluth.org/event/handbell-choir/2023-12-13/
CATEGORIES:Music Rehearsal
END:VEVENT
BEGIN:VEVENT
DTSTART;TZID=America/Chicago:20231206T202000
DTEND;TZID=America/Chicago:20231206T210000
DTSTAMP:20260423T225910
CREATED:20230810T182721Z
LAST-MODIFIED:20240515T191459Z
UID:10004727-1701894000-1701896400@www.flcduluth.org
SUMMARY:Chamber Choir
DESCRIPTION:
URL:https://www.flcduluth.org/event/chamber-choir/2023-12-06/
CATEGORIES:Music Rehearsal
END:VEVENT
BEGIN:VEVENT
DTSTART;TZID=America/Chicago:20231206T191500
DTEND;TZID=America/Chicago:20231206T201500
DTSTAMP:20260423T225910
CREATED:20230810T182600Z
LAST-MODIFIED:20240515T191343Z
UID:10004659-1701890100-1701893700@www.flcduluth.org
SUMMARY:Soli Deo Gloria Choir
DESCRIPTION:
URL:https://www.flcduluth.org/event/soli-deo-gloria-choir/2023-12-06/
CATEGORIES:Music Rehearsal
END:VEVENT
BEGIN:VEVENT
DTSTART;TZID=America/Chicago:20231206T174500
DTEND;TZID=America/Chicago:20231206T190000
DTSTAMP:20260423T225910
CREATED:20230810T182835Z
LAST-MODIFIED:20240515T191229Z
UID:10004791-1701884700-1701889200@www.flcduluth.org
SUMMARY:Handbell Choir
DESCRIPTION:
URL:https://www.flcduluth.org/event/handbell-choir/2023-12-06/
CATEGORIES:Music Rehearsal
END:VEVENT
BEGIN:VEVENT
DTSTART;TZID=America/Chicago:20231129T202000
DTEND;TZID=America/Chicago:20231129T210000
DTSTAMP:20260423T225910
CREATED:20230810T182721Z
LAST-MODIFIED:20240515T191459Z
UID:10004726-1701289200-1701291600@www.flcduluth.org
SUMMARY:Chamber Choir
DESCRIPTION:
URL:https://www.flcduluth.org/event/chamber-choir/2023-11-29/
CATEGORIES:Music Rehearsal
END:VEVENT
BEGIN:VEVENT
DTSTART;TZID=America/Chicago:20231129T191500
DTEND;TZID=America/Chicago:20231129T201500
DTSTAMP:20260423T225910
CREATED:20230810T182600Z
LAST-MODIFIED:20240515T191343Z
UID:10004658-1701285300-1701288900@www.flcduluth.org
SUMMARY:Soli Deo Gloria Choir
DESCRIPTION:
URL:https://www.flcduluth.org/event/soli-deo-gloria-choir/2023-11-29/
CATEGORIES:Music Rehearsal
END:VEVENT
BEGIN:VEVENT
DTSTART;TZID=America/Chicago:20231129T174500
DTEND;TZID=America/Chicago:20231129T190000
DTSTAMP:20260423T225910
CREATED:20230810T182835Z
LAST-MODIFIED:20240515T191229Z
UID:10004790-1701279900-1701284400@www.flcduluth.org
SUMMARY:Handbell Choir
DESCRIPTION:
URL:https://www.flcduluth.org/event/handbell-choir/2023-11-29/
CATEGORIES:Music Rehearsal
END:VEVENT
BEGIN:VEVENT
DTSTART;TZID=America/Chicago:20231122T202000
DTEND;TZID=America/Chicago:20231122T210000
DTSTAMP:20260423T225910
CREATED:20230810T182721Z
LAST-MODIFIED:20240515T191459Z
UID:10004725-1700684400-1700686800@www.flcduluth.org
SUMMARY:Chamber Choir
DESCRIPTION:
URL:https://www.flcduluth.org/event/chamber-choir/2023-11-22/
CATEGORIES:Music Rehearsal
END:VEVENT
BEGIN:VEVENT
DTSTART;TZID=America/Chicago:20231122T191500
DTEND;TZID=America/Chicago:20231122T201500
DTSTAMP:20260423T225910
CREATED:20230810T182600Z
LAST-MODIFIED:20240515T191343Z
UID:10004657-1700680500-1700684100@www.flcduluth.org
SUMMARY:Soli Deo Gloria Choir
DESCRIPTION:
URL:https://www.flcduluth.org/event/soli-deo-gloria-choir/2023-11-22/
CATEGORIES:Music Rehearsal
END:VEVENT
BEGIN:VEVENT
DTSTART;TZID=America/Chicago:20231122T174500
DTEND;TZID=America/Chicago:20231122T190000
DTSTAMP:20260423T225910
CREATED:20230810T182835Z
LAST-MODIFIED:20240515T191229Z
UID:10004789-1700675100-1700679600@www.flcduluth.org
SUMMARY:Handbell Choir
DESCRIPTION:
URL:https://www.flcduluth.org/event/handbell-choir/2023-11-22/
CATEGORIES:Music Rehearsal
END:VEVENT
BEGIN:VEVENT
DTSTART;TZID=America/Chicago:20231115T202000
DTEND;TZID=America/Chicago:20231115T210000
DTSTAMP:20260423T225910
CREATED:20230810T182721Z
LAST-MODIFIED:20240515T191459Z
UID:10004724-1700079600-1700082000@www.flcduluth.org
SUMMARY:Chamber Choir
DESCRIPTION:
URL:https://www.flcduluth.org/event/chamber-choir/2023-11-15/
CATEGORIES:Music Rehearsal
END:VEVENT
BEGIN:VEVENT
DTSTART;TZID=America/Chicago:20231115T191500
DTEND;TZID=America/Chicago:20231115T201500
DTSTAMP:20260423T225910
CREATED:20230810T182600Z
LAST-MODIFIED:20240515T191343Z
UID:10004656-1700075700-1700079300@www.flcduluth.org
SUMMARY:Soli Deo Gloria Choir
DESCRIPTION:
URL:https://www.flcduluth.org/event/soli-deo-gloria-choir/2023-11-15/
CATEGORIES:Music Rehearsal
END:VEVENT
BEGIN:VEVENT
DTSTART;TZID=America/Chicago:20231115T174500
DTEND;TZID=America/Chicago:20231115T190000
DTSTAMP:20260423T225910
CREATED:20230810T182835Z
LAST-MODIFIED:20240515T191229Z
UID:10004788-1700070300-1700074800@www.flcduluth.org
SUMMARY:Handbell Choir
DESCRIPTION:
URL:https://www.flcduluth.org/event/handbell-choir/2023-11-15/
CATEGORIES:Music Rehearsal
END:VEVENT
BEGIN:VEVENT
DTSTART;TZID=America/Chicago:20231108T202000
DTEND;TZID=America/Chicago:20231108T210000
DTSTAMP:20260423T225910
CREATED:20230810T182721Z
LAST-MODIFIED:20240515T191459Z
UID:10004723-1699474800-1699477200@www.flcduluth.org
SUMMARY:Chamber Choir
DESCRIPTION:
URL:https://www.flcduluth.org/event/chamber-choir/2023-11-08/
CATEGORIES:Music Rehearsal
END:VEVENT
BEGIN:VEVENT
DTSTART;TZID=America/Chicago:20231108T191500
DTEND;TZID=America/Chicago:20231108T201500
DTSTAMP:20260423T225910
CREATED:20230810T182600Z
LAST-MODIFIED:20240515T191343Z
UID:10004655-1699470900-1699474500@www.flcduluth.org
SUMMARY:Soli Deo Gloria Choir
DESCRIPTION:
URL:https://www.flcduluth.org/event/soli-deo-gloria-choir/2023-11-08/
CATEGORIES:Music Rehearsal
END:VEVENT
BEGIN:VEVENT
DTSTART;TZID=America/Chicago:20231108T174500
DTEND;TZID=America/Chicago:20231108T190000
DTSTAMP:20260423T225910
CREATED:20230810T182835Z
LAST-MODIFIED:20240515T191229Z
UID:10004787-1699465500-1699470000@www.flcduluth.org
SUMMARY:Handbell Choir
DESCRIPTION:
URL:https://www.flcduluth.org/event/handbell-choir/2023-11-08/
CATEGORIES:Music Rehearsal
END:VEVENT
BEGIN:VEVENT
DTSTART;TZID=America/Chicago:20231105T153000
DTEND;TZID=America/Chicago:20231105T170000
DTSTAMP:20260423T225910
CREATED:20230829T193521Z
LAST-MODIFIED:20230829T193521Z
UID:10005116-1699198200-1699203600@www.flcduluth.org
SUMMARY:Flukes
DESCRIPTION:
URL:https://www.flcduluth.org/event/flukes-5/2023-11-05/
CATEGORIES:Music Rehearsal
END:VEVENT
BEGIN:VEVENT
DTSTART;TZID=America/Chicago:20231101T202000
DTEND;TZID=America/Chicago:20231101T210000
DTSTAMP:20260423T225910
CREATED:20230810T182721Z
LAST-MODIFIED:20240515T191459Z
UID:10004722-1698870000-1698872400@www.flcduluth.org
SUMMARY:Chamber Choir
DESCRIPTION:
URL:https://www.flcduluth.org/event/chamber-choir/2023-11-01/
CATEGORIES:Music Rehearsal
END:VEVENT
BEGIN:VEVENT
DTSTART;TZID=America/Chicago:20231101T191500
DTEND;TZID=America/Chicago:20231101T201500
DTSTAMP:20260423T225910
CREATED:20230810T182600Z
LAST-MODIFIED:20240515T191343Z
UID:10004654-1698866100-1698869700@www.flcduluth.org
SUMMARY:Soli Deo Gloria Choir
DESCRIPTION:
URL:https://www.flcduluth.org/event/soli-deo-gloria-choir/2023-11-01/
CATEGORIES:Music Rehearsal
END:VEVENT
BEGIN:VEVENT
DTSTART;TZID=America/Chicago:20231101T174500
DTEND;TZID=America/Chicago:20231101T190000
DTSTAMP:20260423T225910
CREATED:20230810T182835Z
LAST-MODIFIED:20240515T191229Z
UID:10004786-1698860700-1698865200@www.flcduluth.org
SUMMARY:Handbell Choir
DESCRIPTION:
URL:https://www.flcduluth.org/event/handbell-choir/2023-11-01/
CATEGORIES:Music Rehearsal
END:VEVENT
BEGIN:VEVENT
DTSTART;TZID=America/Chicago:20231025T202000
DTEND;TZID=America/Chicago:20231025T210000
DTSTAMP:20260423T225910
CREATED:20230810T182721Z
LAST-MODIFIED:20240515T191459Z
UID:10004721-1698265200-1698267600@www.flcduluth.org
SUMMARY:Chamber Choir
DESCRIPTION:
URL:https://www.flcduluth.org/event/chamber-choir/2023-10-25/
CATEGORIES:Music Rehearsal
END:VEVENT
END:VCALENDAR