BEGIN:VCALENDAR
VERSION:2.0
PRODID:-//First Lutheran Church - ECPv6.15.20//NONSGML v1.0//EN
CALSCALE:GREGORIAN
METHOD:PUBLISH
X-ORIGINAL-URL:https://www.flcduluth.org
X-WR-CALDESC:Events for First Lutheran Church
REFRESH-INTERVAL;VALUE=DURATION:PT1H
X-Robots-Tag:noindex
X-PUBLISHED-TTL:PT1H
BEGIN:VTIMEZONE
TZID:America/Chicago
BEGIN:DAYLIGHT
TZOFFSETFROM:-0600
TZOFFSETTO:-0500
TZNAME:CDT
DTSTART:20220313T080000
END:DAYLIGHT
BEGIN:STANDARD
TZOFFSETFROM:-0500
TZOFFSETTO:-0600
TZNAME:CST
DTSTART:20221106T070000
END:STANDARD
BEGIN:DAYLIGHT
TZOFFSETFROM:-0600
TZOFFSETTO:-0500
TZNAME:CDT
DTSTART:20230312T080000
END:DAYLIGHT
BEGIN:STANDARD
TZOFFSETFROM:-0500
TZOFFSETTO:-0600
TZNAME:CST
DTSTART:20231105T070000
END:STANDARD
BEGIN:DAYLIGHT
TZOFFSETFROM:-0600
TZOFFSETTO:-0500
TZNAME:CDT
DTSTART:20240310T080000
END:DAYLIGHT
BEGIN:STANDARD
TZOFFSETFROM:-0500
TZOFFSETTO:-0600
TZNAME:CST
DTSTART:20241103T070000
END:STANDARD
END:VTIMEZONE
BEGIN:VEVENT
DTSTART;TZID=America/Chicago:20231108T174500
DTEND;TZID=America/Chicago:20231108T190000
DTSTAMP:20260424T062127
CREATED:20230810T182835Z
LAST-MODIFIED:20240515T191229Z
UID:10004787-1699465500-1699470000@www.flcduluth.org
SUMMARY:Handbell Choir
DESCRIPTION:
URL:https://www.flcduluth.org/event/handbell-choir/2023-11-08/
CATEGORIES:Music Rehearsal
END:VEVENT
BEGIN:VEVENT
DTSTART;TZID=America/Chicago:20231105T153000
DTEND;TZID=America/Chicago:20231105T170000
DTSTAMP:20260424T062127
CREATED:20230829T193521Z
LAST-MODIFIED:20230829T193521Z
UID:10005116-1699198200-1699203600@www.flcduluth.org
SUMMARY:Flukes
DESCRIPTION:
URL:https://www.flcduluth.org/event/flukes-5/2023-11-05/
CATEGORIES:Music Rehearsal
END:VEVENT
BEGIN:VEVENT
DTSTART;TZID=America/Chicago:20231101T202000
DTEND;TZID=America/Chicago:20231101T210000
DTSTAMP:20260424T062127
CREATED:20230810T182721Z
LAST-MODIFIED:20240515T191459Z
UID:10004722-1698870000-1698872400@www.flcduluth.org
SUMMARY:Chamber Choir
DESCRIPTION:
URL:https://www.flcduluth.org/event/chamber-choir/2023-11-01/
CATEGORIES:Music Rehearsal
END:VEVENT
BEGIN:VEVENT
DTSTART;TZID=America/Chicago:20231101T191500
DTEND;TZID=America/Chicago:20231101T201500
DTSTAMP:20260424T062127
CREATED:20230810T182600Z
LAST-MODIFIED:20240515T191343Z
UID:10004654-1698866100-1698869700@www.flcduluth.org
SUMMARY:Soli Deo Gloria Choir
DESCRIPTION:
URL:https://www.flcduluth.org/event/soli-deo-gloria-choir/2023-11-01/
CATEGORIES:Music Rehearsal
END:VEVENT
BEGIN:VEVENT
DTSTART;TZID=America/Chicago:20231101T174500
DTEND;TZID=America/Chicago:20231101T190000
DTSTAMP:20260424T062127
CREATED:20230810T182835Z
LAST-MODIFIED:20240515T191229Z
UID:10004786-1698860700-1698865200@www.flcduluth.org
SUMMARY:Handbell Choir
DESCRIPTION:
URL:https://www.flcduluth.org/event/handbell-choir/2023-11-01/
CATEGORIES:Music Rehearsal
END:VEVENT
BEGIN:VEVENT
DTSTART;TZID=America/Chicago:20231025T202000
DTEND;TZID=America/Chicago:20231025T210000
DTSTAMP:20260424T062127
CREATED:20230810T182721Z
LAST-MODIFIED:20240515T191459Z
UID:10004721-1698265200-1698267600@www.flcduluth.org
SUMMARY:Chamber Choir
DESCRIPTION:
URL:https://www.flcduluth.org/event/chamber-choir/2023-10-25/
CATEGORIES:Music Rehearsal
END:VEVENT
BEGIN:VEVENT
DTSTART;TZID=America/Chicago:20231025T191500
DTEND;TZID=America/Chicago:20231025T201500
DTSTAMP:20260424T062127
CREATED:20230810T182600Z
LAST-MODIFIED:20240515T191343Z
UID:10004653-1698261300-1698264900@www.flcduluth.org
SUMMARY:Soli Deo Gloria Choir
DESCRIPTION:
URL:https://www.flcduluth.org/event/soli-deo-gloria-choir/2023-10-25/
CATEGORIES:Music Rehearsal
END:VEVENT
BEGIN:VEVENT
DTSTART;TZID=America/Chicago:20231025T174500
DTEND;TZID=America/Chicago:20231025T190000
DTSTAMP:20260424T062127
CREATED:20230810T182835Z
LAST-MODIFIED:20240515T191229Z
UID:10004785-1698255900-1698260400@www.flcduluth.org
SUMMARY:Handbell Choir
DESCRIPTION:
URL:https://www.flcduluth.org/event/handbell-choir/2023-10-25/
CATEGORIES:Music Rehearsal
END:VEVENT
BEGIN:VEVENT
DTSTART;TZID=America/Chicago:20231018T202000
DTEND;TZID=America/Chicago:20231018T210000
DTSTAMP:20260424T062127
CREATED:20230810T182721Z
LAST-MODIFIED:20240515T191459Z
UID:10004720-1697660400-1697662800@www.flcduluth.org
SUMMARY:Chamber Choir
DESCRIPTION:
URL:https://www.flcduluth.org/event/chamber-choir/2023-10-18/
CATEGORIES:Music Rehearsal
END:VEVENT
BEGIN:VEVENT
DTSTART;TZID=America/Chicago:20231018T191500
DTEND;TZID=America/Chicago:20231018T201500
DTSTAMP:20260424T062127
CREATED:20230810T182600Z
LAST-MODIFIED:20240515T191343Z
UID:10004652-1697656500-1697660100@www.flcduluth.org
SUMMARY:Soli Deo Gloria Choir
DESCRIPTION:
URL:https://www.flcduluth.org/event/soli-deo-gloria-choir/2023-10-18/
CATEGORIES:Music Rehearsal
END:VEVENT
BEGIN:VEVENT
DTSTART;TZID=America/Chicago:20231018T174500
DTEND;TZID=America/Chicago:20231018T190000
DTSTAMP:20260424T062127
CREATED:20230810T182835Z
LAST-MODIFIED:20240515T191229Z
UID:10004784-1697651100-1697655600@www.flcduluth.org
SUMMARY:Handbell Choir
DESCRIPTION:
URL:https://www.flcduluth.org/event/handbell-choir/2023-10-18/
CATEGORIES:Music Rehearsal
END:VEVENT
BEGIN:VEVENT
DTSTART;TZID=America/Chicago:20231011T202000
DTEND;TZID=America/Chicago:20231011T210000
DTSTAMP:20260424T062127
CREATED:20230810T182721Z
LAST-MODIFIED:20240515T191459Z
UID:10004719-1697055600-1697058000@www.flcduluth.org
SUMMARY:Chamber Choir
DESCRIPTION:
URL:https://www.flcduluth.org/event/chamber-choir/2023-10-11/
CATEGORIES:Music Rehearsal
END:VEVENT
BEGIN:VEVENT
DTSTART;TZID=America/Chicago:20231011T191500
DTEND;TZID=America/Chicago:20231011T201500
DTSTAMP:20260424T062127
CREATED:20230810T182600Z
LAST-MODIFIED:20240515T191343Z
UID:10004651-1697051700-1697055300@www.flcduluth.org
SUMMARY:Soli Deo Gloria Choir
DESCRIPTION:
URL:https://www.flcduluth.org/event/soli-deo-gloria-choir/2023-10-11/
CATEGORIES:Music Rehearsal
END:VEVENT
BEGIN:VEVENT
DTSTART;TZID=America/Chicago:20231011T174500
DTEND;TZID=America/Chicago:20231011T190000
DTSTAMP:20260424T062127
CREATED:20230810T182835Z
LAST-MODIFIED:20240515T191229Z
UID:10004783-1697046300-1697050800@www.flcduluth.org
SUMMARY:Handbell Choir
DESCRIPTION:
URL:https://www.flcduluth.org/event/handbell-choir/2023-10-11/
CATEGORIES:Music Rehearsal
END:VEVENT
BEGIN:VEVENT
DTSTART;TZID=America/Chicago:20231004T202000
DTEND;TZID=America/Chicago:20231004T210000
DTSTAMP:20260424T062127
CREATED:20230810T182721Z
LAST-MODIFIED:20240515T191459Z
UID:10004718-1696450800-1696453200@www.flcduluth.org
SUMMARY:Chamber Choir
DESCRIPTION:
URL:https://www.flcduluth.org/event/chamber-choir/2023-10-04/
CATEGORIES:Music Rehearsal
END:VEVENT
BEGIN:VEVENT
DTSTART;TZID=America/Chicago:20231004T191500
DTEND;TZID=America/Chicago:20231004T201500
DTSTAMP:20260424T062127
CREATED:20230810T182600Z
LAST-MODIFIED:20240515T191343Z
UID:10004650-1696446900-1696450500@www.flcduluth.org
SUMMARY:Soli Deo Gloria Choir
DESCRIPTION:
URL:https://www.flcduluth.org/event/soli-deo-gloria-choir/2023-10-04/
CATEGORIES:Music Rehearsal
END:VEVENT
BEGIN:VEVENT
DTSTART;TZID=America/Chicago:20231004T174500
DTEND;TZID=America/Chicago:20231004T190000
DTSTAMP:20260424T062127
CREATED:20230810T182835Z
LAST-MODIFIED:20240515T191229Z
UID:10004782-1696441500-1696446000@www.flcduluth.org
SUMMARY:Handbell Choir
DESCRIPTION:
URL:https://www.flcduluth.org/event/handbell-choir/2023-10-04/
CATEGORIES:Music Rehearsal
END:VEVENT
BEGIN:VEVENT
DTSTART;TZID=America/Chicago:20231001T153000
DTEND;TZID=America/Chicago:20231001T170000
DTSTAMP:20260424T062127
CREATED:20230829T193521Z
LAST-MODIFIED:20230829T193521Z
UID:10005115-1696174200-1696179600@www.flcduluth.org
SUMMARY:Flukes
DESCRIPTION:
URL:https://www.flcduluth.org/event/flukes-5/2023-10-01/
CATEGORIES:Music Rehearsal
END:VEVENT
BEGIN:VEVENT
DTSTART;TZID=America/Chicago:20230927T202000
DTEND;TZID=America/Chicago:20230927T210000
DTSTAMP:20260424T062127
CREATED:20230810T182721Z
LAST-MODIFIED:20240515T191459Z
UID:10004717-1695846000-1695848400@www.flcduluth.org
SUMMARY:Chamber Choir
DESCRIPTION:
URL:https://www.flcduluth.org/event/chamber-choir/2023-09-27/
CATEGORIES:Music Rehearsal
END:VEVENT
BEGIN:VEVENT
DTSTART;TZID=America/Chicago:20230927T191500
DTEND;TZID=America/Chicago:20230927T201500
DTSTAMP:20260424T062127
CREATED:20230810T182600Z
LAST-MODIFIED:20240515T191343Z
UID:10004649-1695842100-1695845700@www.flcduluth.org
SUMMARY:Soli Deo Gloria Choir
DESCRIPTION:
URL:https://www.flcduluth.org/event/soli-deo-gloria-choir/2023-09-27/
CATEGORIES:Music Rehearsal
END:VEVENT
BEGIN:VEVENT
DTSTART;TZID=America/Chicago:20230927T174500
DTEND;TZID=America/Chicago:20230927T190000
DTSTAMP:20260424T062127
CREATED:20230810T182835Z
LAST-MODIFIED:20240515T191229Z
UID:10004781-1695836700-1695841200@www.flcduluth.org
SUMMARY:Handbell Choir
DESCRIPTION:
URL:https://www.flcduluth.org/event/handbell-choir/2023-09-27/
CATEGORIES:Music Rehearsal
END:VEVENT
BEGIN:VEVENT
DTSTART;TZID=America/Chicago:20230920T202000
DTEND;TZID=America/Chicago:20230920T210000
DTSTAMP:20260424T062127
CREATED:20230810T182721Z
LAST-MODIFIED:20240515T191459Z
UID:10004716-1695241200-1695243600@www.flcduluth.org
SUMMARY:Chamber Choir
DESCRIPTION:
URL:https://www.flcduluth.org/event/chamber-choir/2023-09-20/
CATEGORIES:Music Rehearsal
END:VEVENT
BEGIN:VEVENT
DTSTART;TZID=America/Chicago:20230920T191500
DTEND;TZID=America/Chicago:20230920T201500
DTSTAMP:20260424T062127
CREATED:20230810T182600Z
LAST-MODIFIED:20240515T191343Z
UID:10004648-1695237300-1695240900@www.flcduluth.org
SUMMARY:Soli Deo Gloria Choir
DESCRIPTION:
URL:https://www.flcduluth.org/event/soli-deo-gloria-choir/2023-09-20/
CATEGORIES:Music Rehearsal
END:VEVENT
BEGIN:VEVENT
DTSTART;TZID=America/Chicago:20230920T174500
DTEND;TZID=America/Chicago:20230920T190000
DTSTAMP:20260424T062127
CREATED:20230810T182835Z
LAST-MODIFIED:20240515T191229Z
UID:10004780-1695231900-1695236400@www.flcduluth.org
SUMMARY:Handbell Choir
DESCRIPTION:
URL:https://www.flcduluth.org/event/handbell-choir/2023-09-20/
CATEGORIES:Music Rehearsal
END:VEVENT
BEGIN:VEVENT
DTSTART;TZID=America/Chicago:20230913T202000
DTEND;TZID=America/Chicago:20230913T210000
DTSTAMP:20260424T062127
CREATED:20230810T182721Z
LAST-MODIFIED:20240515T191459Z
UID:10004715-1694636400-1694638800@www.flcduluth.org
SUMMARY:Chamber Choir
DESCRIPTION:
URL:https://www.flcduluth.org/event/chamber-choir/2023-09-13/
CATEGORIES:Music Rehearsal
END:VEVENT
BEGIN:VEVENT
DTSTART;TZID=America/Chicago:20230913T191500
DTEND;TZID=America/Chicago:20230913T201500
DTSTAMP:20260424T062127
CREATED:20230810T182600Z
LAST-MODIFIED:20240515T191343Z
UID:10004647-1694632500-1694636100@www.flcduluth.org
SUMMARY:Soli Deo Gloria Choir
DESCRIPTION:
URL:https://www.flcduluth.org/event/soli-deo-gloria-choir/2023-09-13/
CATEGORIES:Music Rehearsal
END:VEVENT
BEGIN:VEVENT
DTSTART;TZID=America/Chicago:20230913T174500
DTEND;TZID=America/Chicago:20230913T190000
DTSTAMP:20260424T062127
CREATED:20230810T182835Z
LAST-MODIFIED:20240515T191229Z
UID:10004779-1694627100-1694631600@www.flcduluth.org
SUMMARY:Handbell Choir
DESCRIPTION:
URL:https://www.flcduluth.org/event/handbell-choir/2023-09-13/
CATEGORIES:Music Rehearsal
END:VEVENT
BEGIN:VEVENT
DTSTART;TZID=America/Chicago:20230906T202000
DTEND;TZID=America/Chicago:20230906T210000
DTSTAMP:20260424T062127
CREATED:20230810T182721Z
LAST-MODIFIED:20240515T191459Z
UID:10004714-1694031600-1694034000@www.flcduluth.org
SUMMARY:Chamber Choir
DESCRIPTION:
URL:https://www.flcduluth.org/event/chamber-choir/2023-09-06/
CATEGORIES:Music Rehearsal
END:VEVENT
BEGIN:VEVENT
DTSTART;TZID=America/Chicago:20230906T191500
DTEND;TZID=America/Chicago:20230906T201500
DTSTAMP:20260424T062127
CREATED:20230810T182600Z
LAST-MODIFIED:20240515T191343Z
UID:10004646-1694027700-1694031300@www.flcduluth.org
SUMMARY:Soli Deo Gloria Choir
DESCRIPTION:
URL:https://www.flcduluth.org/event/soli-deo-gloria-choir/2023-09-06/
CATEGORIES:Music Rehearsal
END:VEVENT
BEGIN:VEVENT
DTSTART;TZID=America/Chicago:20230906T174500
DTEND;TZID=America/Chicago:20230906T190000
DTSTAMP:20260424T062127
CREATED:20230810T182835Z
LAST-MODIFIED:20240515T191229Z
UID:10004778-1694022300-1694026800@www.flcduluth.org
SUMMARY:Handbell Choir
DESCRIPTION:
URL:https://www.flcduluth.org/event/handbell-choir/2023-09-06/
CATEGORIES:Music Rehearsal
END:VEVENT
END:VCALENDAR