BEGIN:VCALENDAR
VERSION:2.0
PRODID:-//First Lutheran Church - ECPv6.15.20//NONSGML v1.0//EN
CALSCALE:GREGORIAN
METHOD:PUBLISH
X-ORIGINAL-URL:https://www.flcduluth.org
X-WR-CALDESC:Events for First Lutheran Church
REFRESH-INTERVAL;VALUE=DURATION:PT1H
X-Robots-Tag:noindex
X-PUBLISHED-TTL:PT1H
BEGIN:VTIMEZONE
TZID:America/Chicago
BEGIN:DAYLIGHT
TZOFFSETFROM:-0600
TZOFFSETTO:-0500
TZNAME:CDT
DTSTART:20240310T080000
END:DAYLIGHT
BEGIN:STANDARD
TZOFFSETFROM:-0500
TZOFFSETTO:-0600
TZNAME:CST
DTSTART:20241103T070000
END:STANDARD
BEGIN:DAYLIGHT
TZOFFSETFROM:-0600
TZOFFSETTO:-0500
TZNAME:CDT
DTSTART:20250309T080000
END:DAYLIGHT
BEGIN:STANDARD
TZOFFSETFROM:-0500
TZOFFSETTO:-0600
TZNAME:CST
DTSTART:20251102T070000
END:STANDARD
BEGIN:DAYLIGHT
TZOFFSETFROM:-0600
TZOFFSETTO:-0500
TZNAME:CDT
DTSTART:20260308T080000
END:DAYLIGHT
BEGIN:STANDARD
TZOFFSETFROM:-0500
TZOFFSETTO:-0600
TZNAME:CST
DTSTART:20261101T070000
END:STANDARD
END:VTIMEZONE
BEGIN:VEVENT
DTSTART;TZID=America/Chicago:20250901T193000
DTEND;TZID=America/Chicago:20250901T210000
DTSTAMP:20260423T045542
CREATED:20230110T215936Z
LAST-MODIFIED:20230110T215936Z
UID:10002335-1756755000-1756760400@www.flcduluth.org
SUMMARY:Nar-Anon Meeting
DESCRIPTION:
URL:https://www.flcduluth.org/event/nar-anon-meeting/2025-09-01/
CATEGORIES:Outside Group
END:VEVENT
BEGIN:VEVENT
DTSTART;TZID=America/Chicago:20250902T063000
DTEND;TZID=America/Chicago:20250902T193000
DTSTAMP:20260423T045542
CREATED:20230110T220428Z
LAST-MODIFIED:20230110T220428Z
UID:10002611-1756794600-1756841400@www.flcduluth.org
SUMMARY:Tai-Chi
DESCRIPTION:
URL:https://www.flcduluth.org/event/tai-chi-3/2025-09-02/
CATEGORIES:Outside Group
END:VEVENT
BEGIN:VEVENT
DTSTART;TZID=America/Chicago:20250903T113000
DTEND;TZID=America/Chicago:20250903T130000
DTSTAMP:20260423T045542
CREATED:20230110T220749Z
LAST-MODIFIED:20230110T220749Z
UID:10002872-1756899000-1756904400@www.flcduluth.org
SUMMARY:Al-Anon
DESCRIPTION:
URL:https://www.flcduluth.org/event/al-anon/2025-09-03/
CATEGORIES:Outside Group
END:VEVENT
BEGIN:VEVENT
DTSTART;TZID=America/Chicago:20250906T090000
DTEND;TZID=America/Chicago:20250906T110000
DTSTAMP:20260423T045542
CREATED:20230110T222829Z
LAST-MODIFIED:20230110T223030Z
UID:10003507-1757149200-1757156400@www.flcduluth.org
SUMMARY:AA
DESCRIPTION:
URL:https://www.flcduluth.org/event/aa-3/2025-09-06/
CATEGORIES:Outside Group
END:VEVENT
BEGIN:VEVENT
DTSTART;TZID=America/Chicago:20250908T193000
DTEND;TZID=America/Chicago:20250908T210000
DTSTAMP:20260423T045542
CREATED:20230110T215936Z
LAST-MODIFIED:20230110T215936Z
UID:10002336-1757359800-1757365200@www.flcduluth.org
SUMMARY:Nar-Anon Meeting
DESCRIPTION:
URL:https://www.flcduluth.org/event/nar-anon-meeting/2025-09-08/
CATEGORIES:Outside Group
END:VEVENT
BEGIN:VEVENT
DTSTART;TZID=America/Chicago:20250909T063000
DTEND;TZID=America/Chicago:20250909T193000
DTSTAMP:20260423T045542
CREATED:20230110T220428Z
LAST-MODIFIED:20230110T220428Z
UID:10002612-1757399400-1757446200@www.flcduluth.org
SUMMARY:Tai-Chi
DESCRIPTION:
URL:https://www.flcduluth.org/event/tai-chi-3/2025-09-09/
CATEGORIES:Outside Group
END:VEVENT
BEGIN:VEVENT
DTSTART;TZID=America/Chicago:20250910T113000
DTEND;TZID=America/Chicago:20250910T130000
DTSTAMP:20260423T045542
CREATED:20230110T220749Z
LAST-MODIFIED:20230110T220749Z
UID:10002873-1757503800-1757509200@www.flcduluth.org
SUMMARY:Al-Anon
DESCRIPTION:
URL:https://www.flcduluth.org/event/al-anon/2025-09-10/
CATEGORIES:Outside Group
END:VEVENT
BEGIN:VEVENT
DTSTART;TZID=America/Chicago:20250913T090000
DTEND;TZID=America/Chicago:20250913T110000
DTSTAMP:20260423T045542
CREATED:20230110T222829Z
LAST-MODIFIED:20230110T223030Z
UID:10003508-1757754000-1757761200@www.flcduluth.org
SUMMARY:AA
DESCRIPTION:
URL:https://www.flcduluth.org/event/aa-3/2025-09-13/
CATEGORIES:Outside Group
END:VEVENT
BEGIN:VEVENT
DTSTART;TZID=America/Chicago:20250915T193000
DTEND;TZID=America/Chicago:20250915T210000
DTSTAMP:20260423T045542
CREATED:20230110T215936Z
LAST-MODIFIED:20230110T215936Z
UID:10002337-1757964600-1757970000@www.flcduluth.org
SUMMARY:Nar-Anon Meeting
DESCRIPTION:
URL:https://www.flcduluth.org/event/nar-anon-meeting/2025-09-15/
CATEGORIES:Outside Group
END:VEVENT
BEGIN:VEVENT
DTSTART;TZID=America/Chicago:20250916T063000
DTEND;TZID=America/Chicago:20250916T193000
DTSTAMP:20260423T045542
CREATED:20230110T220428Z
LAST-MODIFIED:20230110T220428Z
UID:10002613-1758004200-1758051000@www.flcduluth.org
SUMMARY:Tai-Chi
DESCRIPTION:
URL:https://www.flcduluth.org/event/tai-chi-3/2025-09-16/
CATEGORIES:Outside Group
END:VEVENT
BEGIN:VEVENT
DTSTART;TZID=America/Chicago:20250917T113000
DTEND;TZID=America/Chicago:20250917T130000
DTSTAMP:20260423T045542
CREATED:20230110T220749Z
LAST-MODIFIED:20230110T220749Z
UID:10002874-1758108600-1758114000@www.flcduluth.org
SUMMARY:Al-Anon
DESCRIPTION:
URL:https://www.flcduluth.org/event/al-anon/2025-09-17/
CATEGORIES:Outside Group
END:VEVENT
BEGIN:VEVENT
DTSTART;TZID=America/Chicago:20250918T183000
DTEND;TZID=America/Chicago:20250918T200000
DTSTAMP:20260423T045542
CREATED:20230110T223406Z
LAST-MODIFIED:20230110T223406Z
UID:10003664-1758220200-1758225600@www.flcduluth.org
SUMMARY:District AA Meeting
DESCRIPTION:
URL:https://www.flcduluth.org/event/district-aa-meeting-4/2025-09-18/
CATEGORIES:Outside Group
END:VEVENT
BEGIN:VEVENT
DTSTART;TZID=America/Chicago:20250920T090000
DTEND;TZID=America/Chicago:20250920T110000
DTSTAMP:20260423T045542
CREATED:20230110T222829Z
LAST-MODIFIED:20230110T223030Z
UID:10003509-1758358800-1758366000@www.flcduluth.org
SUMMARY:AA
DESCRIPTION:
URL:https://www.flcduluth.org/event/aa-3/2025-09-20/
CATEGORIES:Outside Group
END:VEVENT
BEGIN:VEVENT
DTSTART;TZID=America/Chicago:20250922T193000
DTEND;TZID=America/Chicago:20250922T210000
DTSTAMP:20260423T045542
CREATED:20230110T215936Z
LAST-MODIFIED:20230110T215936Z
UID:10002338-1758569400-1758574800@www.flcduluth.org
SUMMARY:Nar-Anon Meeting
DESCRIPTION:
URL:https://www.flcduluth.org/event/nar-anon-meeting/2025-09-22/
CATEGORIES:Outside Group
END:VEVENT
BEGIN:VEVENT
DTSTART;TZID=America/Chicago:20250923T063000
DTEND;TZID=America/Chicago:20250923T193000
DTSTAMP:20260423T045542
CREATED:20230110T220428Z
LAST-MODIFIED:20230110T220428Z
UID:10002614-1758609000-1758655800@www.flcduluth.org
SUMMARY:Tai-Chi
DESCRIPTION:
URL:https://www.flcduluth.org/event/tai-chi-3/2025-09-23/
CATEGORIES:Outside Group
END:VEVENT
BEGIN:VEVENT
DTSTART;TZID=America/Chicago:20250924T113000
DTEND;TZID=America/Chicago:20250924T130000
DTSTAMP:20260423T045542
CREATED:20230110T220749Z
LAST-MODIFIED:20230110T220749Z
UID:10002875-1758713400-1758718800@www.flcduluth.org
SUMMARY:Al-Anon
DESCRIPTION:
URL:https://www.flcduluth.org/event/al-anon/2025-09-24/
CATEGORIES:Outside Group
END:VEVENT
BEGIN:VEVENT
DTSTART;TZID=America/Chicago:20250927T090000
DTEND;TZID=America/Chicago:20250927T110000
DTSTAMP:20260423T045542
CREATED:20230110T222829Z
LAST-MODIFIED:20230110T223030Z
UID:10003510-1758963600-1758970800@www.flcduluth.org
SUMMARY:AA
DESCRIPTION:
URL:https://www.flcduluth.org/event/aa-3/2025-09-27/
CATEGORIES:Outside Group
END:VEVENT
BEGIN:VEVENT
DTSTART;TZID=America/Chicago:20250929T193000
DTEND;TZID=America/Chicago:20250929T210000
DTSTAMP:20260423T045542
CREATED:20230110T215936Z
LAST-MODIFIED:20230110T215936Z
UID:10002339-1759174200-1759179600@www.flcduluth.org
SUMMARY:Nar-Anon Meeting
DESCRIPTION:
URL:https://www.flcduluth.org/event/nar-anon-meeting/2025-09-29/
CATEGORIES:Outside Group
END:VEVENT
BEGIN:VEVENT
DTSTART;TZID=America/Chicago:20250930T063000
DTEND;TZID=America/Chicago:20250930T193000
DTSTAMP:20260423T045542
CREATED:20230110T220428Z
LAST-MODIFIED:20230110T220428Z
UID:10002615-1759213800-1759260600@www.flcduluth.org
SUMMARY:Tai-Chi
DESCRIPTION:
URL:https://www.flcduluth.org/event/tai-chi-3/2025-09-30/
CATEGORIES:Outside Group
END:VEVENT
END:VCALENDAR