BEGIN:VCALENDAR
VERSION:2.0
PRODID:-//First Lutheran Church - ECPv6.15.20//NONSGML v1.0//EN
CALSCALE:GREGORIAN
METHOD:PUBLISH
X-ORIGINAL-URL:https://www.flcduluth.org
X-WR-CALDESC:Events for First Lutheran Church
REFRESH-INTERVAL;VALUE=DURATION:PT1H
X-Robots-Tag:noindex
X-PUBLISHED-TTL:PT1H
BEGIN:VTIMEZONE
TZID:America/Chicago
BEGIN:DAYLIGHT
TZOFFSETFROM:-0600
TZOFFSETTO:-0500
TZNAME:CDT
DTSTART:20250309T080000
END:DAYLIGHT
BEGIN:STANDARD
TZOFFSETFROM:-0500
TZOFFSETTO:-0600
TZNAME:CST
DTSTART:20251102T070000
END:STANDARD
BEGIN:DAYLIGHT
TZOFFSETFROM:-0600
TZOFFSETTO:-0500
TZNAME:CDT
DTSTART:20260308T080000
END:DAYLIGHT
BEGIN:STANDARD
TZOFFSETFROM:-0500
TZOFFSETTO:-0600
TZNAME:CST
DTSTART:20261101T070000
END:STANDARD
BEGIN:DAYLIGHT
TZOFFSETFROM:-0600
TZOFFSETTO:-0500
TZNAME:CDT
DTSTART:20270314T080000
END:DAYLIGHT
BEGIN:STANDARD
TZOFFSETFROM:-0500
TZOFFSETTO:-0600
TZNAME:CST
DTSTART:20271107T070000
END:STANDARD
END:VTIMEZONE
BEGIN:VEVENT
DTSTART;TZID=America/Chicago:20260425T090000
DTEND;TZID=America/Chicago:20260425T110000
DTSTAMP:20260423T044749
CREATED:20230110T222829Z
LAST-MODIFIED:20230110T223030Z
UID:10003540-1777107600-1777114800@www.flcduluth.org
SUMMARY:AA
DESCRIPTION:
URL:https://www.flcduluth.org/event/aa-3/2026-04-25/
CATEGORIES:Outside Group
END:VEVENT
BEGIN:VEVENT
DTSTART;TZID=America/Chicago:20260427T193000
DTEND;TZID=America/Chicago:20260427T210000
DTSTAMP:20260423T044749
CREATED:20230110T215936Z
LAST-MODIFIED:20230110T215936Z
UID:10002369-1777318200-1777323600@www.flcduluth.org
SUMMARY:Nar-Anon Meeting
DESCRIPTION:
URL:https://www.flcduluth.org/event/nar-anon-meeting/2026-04-27/
CATEGORIES:Outside Group
END:VEVENT
BEGIN:VEVENT
DTSTART;TZID=America/Chicago:20260428T063000
DTEND;TZID=America/Chicago:20260428T193000
DTSTAMP:20260423T044749
CREATED:20230110T220428Z
LAST-MODIFIED:20230110T220428Z
UID:10002645-1777357800-1777404600@www.flcduluth.org
SUMMARY:Tai-Chi
DESCRIPTION:
URL:https://www.flcduluth.org/event/tai-chi-3/2026-04-28/
CATEGORIES:Outside Group
END:VEVENT
BEGIN:VEVENT
DTSTART;TZID=America/Chicago:20260429T113000
DTEND;TZID=America/Chicago:20260429T130000
DTSTAMP:20260423T044749
CREATED:20230110T220749Z
LAST-MODIFIED:20230110T220749Z
UID:10002906-1777462200-1777467600@www.flcduluth.org
SUMMARY:Al-Anon
DESCRIPTION:
URL:https://www.flcduluth.org/event/al-anon/2026-04-29/
CATEGORIES:Outside Group
END:VEVENT
BEGIN:VEVENT
DTSTART;TZID=America/Chicago:20260502T090000
DTEND;TZID=America/Chicago:20260502T110000
DTSTAMP:20260423T044749
CREATED:20230110T222829Z
LAST-MODIFIED:20230110T223030Z
UID:10003541-1777712400-1777719600@www.flcduluth.org
SUMMARY:AA
DESCRIPTION:
URL:https://www.flcduluth.org/event/aa-3/2026-05-02/
CATEGORIES:Outside Group
END:VEVENT
BEGIN:VEVENT
DTSTART;TZID=America/Chicago:20260504T193000
DTEND;TZID=America/Chicago:20260504T210000
DTSTAMP:20260423T044749
CREATED:20230110T215936Z
LAST-MODIFIED:20230110T215936Z
UID:10002370-1777923000-1777928400@www.flcduluth.org
SUMMARY:Nar-Anon Meeting
DESCRIPTION:
URL:https://www.flcduluth.org/event/nar-anon-meeting/2026-05-04/
CATEGORIES:Outside Group
END:VEVENT
BEGIN:VEVENT
DTSTART;TZID=America/Chicago:20260505T063000
DTEND;TZID=America/Chicago:20260505T193000
DTSTAMP:20260423T044749
CREATED:20230110T220428Z
LAST-MODIFIED:20230110T220428Z
UID:10002646-1777962600-1778009400@www.flcduluth.org
SUMMARY:Tai-Chi
DESCRIPTION:
URL:https://www.flcduluth.org/event/tai-chi-3/2026-05-05/
CATEGORIES:Outside Group
END:VEVENT
BEGIN:VEVENT
DTSTART;TZID=America/Chicago:20260506T113000
DTEND;TZID=America/Chicago:20260506T130000
DTSTAMP:20260423T044749
CREATED:20230110T220749Z
LAST-MODIFIED:20230110T220749Z
UID:10002907-1778067000-1778072400@www.flcduluth.org
SUMMARY:Al-Anon
DESCRIPTION:
URL:https://www.flcduluth.org/event/al-anon/2026-05-06/
CATEGORIES:Outside Group
END:VEVENT
BEGIN:VEVENT
DTSTART;TZID=America/Chicago:20260509T090000
DTEND;TZID=America/Chicago:20260509T110000
DTSTAMP:20260423T044749
CREATED:20230110T222829Z
LAST-MODIFIED:20230110T223030Z
UID:10003542-1778317200-1778324400@www.flcduluth.org
SUMMARY:AA
DESCRIPTION:
URL:https://www.flcduluth.org/event/aa-3/2026-05-09/
CATEGORIES:Outside Group
END:VEVENT
BEGIN:VEVENT
DTSTART;TZID=America/Chicago:20260511T193000
DTEND;TZID=America/Chicago:20260511T210000
DTSTAMP:20260423T044749
CREATED:20230110T215936Z
LAST-MODIFIED:20230110T215936Z
UID:10002371-1778527800-1778533200@www.flcduluth.org
SUMMARY:Nar-Anon Meeting
DESCRIPTION:
URL:https://www.flcduluth.org/event/nar-anon-meeting/2026-05-11/
CATEGORIES:Outside Group
END:VEVENT
BEGIN:VEVENT
DTSTART;TZID=America/Chicago:20260512T063000
DTEND;TZID=America/Chicago:20260512T193000
DTSTAMP:20260423T044749
CREATED:20230110T220428Z
LAST-MODIFIED:20230110T220428Z
UID:10002647-1778567400-1778614200@www.flcduluth.org
SUMMARY:Tai-Chi
DESCRIPTION:
URL:https://www.flcduluth.org/event/tai-chi-3/2026-05-12/
CATEGORIES:Outside Group
END:VEVENT
BEGIN:VEVENT
DTSTART;TZID=America/Chicago:20260513T113000
DTEND;TZID=America/Chicago:20260513T130000
DTSTAMP:20260423T044749
CREATED:20230110T220749Z
LAST-MODIFIED:20230110T220749Z
UID:10002908-1778671800-1778677200@www.flcduluth.org
SUMMARY:Al-Anon
DESCRIPTION:
URL:https://www.flcduluth.org/event/al-anon/2026-05-13/
CATEGORIES:Outside Group
END:VEVENT
BEGIN:VEVENT
DTSTART;TZID=America/Chicago:20260516T090000
DTEND;TZID=America/Chicago:20260516T110000
DTSTAMP:20260423T044749
CREATED:20230110T222829Z
LAST-MODIFIED:20230110T223030Z
UID:10003543-1778922000-1778929200@www.flcduluth.org
SUMMARY:AA
DESCRIPTION:
URL:https://www.flcduluth.org/event/aa-3/2026-05-16/
CATEGORIES:Outside Group
END:VEVENT
BEGIN:VEVENT
DTSTART;TZID=America/Chicago:20260518T193000
DTEND;TZID=America/Chicago:20260518T210000
DTSTAMP:20260423T044749
CREATED:20230110T215936Z
LAST-MODIFIED:20230110T215936Z
UID:10002372-1779132600-1779138000@www.flcduluth.org
SUMMARY:Nar-Anon Meeting
DESCRIPTION:
URL:https://www.flcduluth.org/event/nar-anon-meeting/2026-05-18/
CATEGORIES:Outside Group
END:VEVENT
BEGIN:VEVENT
DTSTART;TZID=America/Chicago:20260519T063000
DTEND;TZID=America/Chicago:20260519T193000
DTSTAMP:20260423T044749
CREATED:20230110T220428Z
LAST-MODIFIED:20230110T220428Z
UID:10002648-1779172200-1779219000@www.flcduluth.org
SUMMARY:Tai-Chi
DESCRIPTION:
URL:https://www.flcduluth.org/event/tai-chi-3/2026-05-19/
CATEGORIES:Outside Group
END:VEVENT
BEGIN:VEVENT
DTSTART;TZID=America/Chicago:20260520T113000
DTEND;TZID=America/Chicago:20260520T130000
DTSTAMP:20260423T044749
CREATED:20230110T220749Z
LAST-MODIFIED:20230110T220749Z
UID:10002909-1779276600-1779282000@www.flcduluth.org
SUMMARY:Al-Anon
DESCRIPTION:
URL:https://www.flcduluth.org/event/al-anon/2026-05-20/
CATEGORIES:Outside Group
END:VEVENT
BEGIN:VEVENT
DTSTART;TZID=America/Chicago:20260521T183000
DTEND;TZID=America/Chicago:20260521T200000
DTSTAMP:20260423T044749
CREATED:20230110T223406Z
LAST-MODIFIED:20230110T223406Z
UID:10003672-1779388200-1779393600@www.flcduluth.org
SUMMARY:District AA Meeting
DESCRIPTION:
URL:https://www.flcduluth.org/event/district-aa-meeting-4/2026-05-21/
CATEGORIES:Outside Group
END:VEVENT
BEGIN:VEVENT
DTSTART;TZID=America/Chicago:20260523T090000
DTEND;TZID=America/Chicago:20260523T110000
DTSTAMP:20260423T044749
CREATED:20230110T222829Z
LAST-MODIFIED:20230110T223030Z
UID:10003544-1779526800-1779534000@www.flcduluth.org
SUMMARY:AA
DESCRIPTION:
URL:https://www.flcduluth.org/event/aa-3/2026-05-23/
CATEGORIES:Outside Group
END:VEVENT
BEGIN:VEVENT
DTSTART;TZID=America/Chicago:20260525T193000
DTEND;TZID=America/Chicago:20260525T210000
DTSTAMP:20260423T044749
CREATED:20230110T215936Z
LAST-MODIFIED:20230110T215936Z
UID:10002373-1779737400-1779742800@www.flcduluth.org
SUMMARY:Nar-Anon Meeting
DESCRIPTION:
URL:https://www.flcduluth.org/event/nar-anon-meeting/2026-05-25/
CATEGORIES:Outside Group
END:VEVENT
BEGIN:VEVENT
DTSTART;TZID=America/Chicago:20260526T063000
DTEND;TZID=America/Chicago:20260526T193000
DTSTAMP:20260423T044749
CREATED:20230110T220428Z
LAST-MODIFIED:20230110T220428Z
UID:10002649-1779777000-1779823800@www.flcduluth.org
SUMMARY:Tai-Chi
DESCRIPTION:
URL:https://www.flcduluth.org/event/tai-chi-3/2026-05-26/
CATEGORIES:Outside Group
END:VEVENT
BEGIN:VEVENT
DTSTART;TZID=America/Chicago:20260527T113000
DTEND;TZID=America/Chicago:20260527T130000
DTSTAMP:20260423T044749
CREATED:20230110T220749Z
LAST-MODIFIED:20230110T220749Z
UID:10002910-1779881400-1779886800@www.flcduluth.org
SUMMARY:Al-Anon
DESCRIPTION:
URL:https://www.flcduluth.org/event/al-anon/2026-05-27/
CATEGORIES:Outside Group
END:VEVENT
BEGIN:VEVENT
DTSTART;TZID=America/Chicago:20260530T090000
DTEND;TZID=America/Chicago:20260530T110000
DTSTAMP:20260423T044749
CREATED:20230110T222829Z
LAST-MODIFIED:20230110T223030Z
UID:10003545-1780131600-1780138800@www.flcduluth.org
SUMMARY:AA
DESCRIPTION:
URL:https://www.flcduluth.org/event/aa-3/2026-05-30/
CATEGORIES:Outside Group
END:VEVENT
BEGIN:VEVENT
DTSTART;TZID=America/Chicago:20260601T193000
DTEND;TZID=America/Chicago:20260601T210000
DTSTAMP:20260423T044749
CREATED:20230110T215936Z
LAST-MODIFIED:20230110T215936Z
UID:10002374-1780342200-1780347600@www.flcduluth.org
SUMMARY:Nar-Anon Meeting
DESCRIPTION:
URL:https://www.flcduluth.org/event/nar-anon-meeting/2026-06-01/
CATEGORIES:Outside Group
END:VEVENT
BEGIN:VEVENT
DTSTART;TZID=America/Chicago:20260602T063000
DTEND;TZID=America/Chicago:20260602T193000
DTSTAMP:20260423T044749
CREATED:20230110T220428Z
LAST-MODIFIED:20230110T220428Z
UID:10002650-1780381800-1780428600@www.flcduluth.org
SUMMARY:Tai-Chi
DESCRIPTION:
URL:https://www.flcduluth.org/event/tai-chi-3/2026-06-02/
CATEGORIES:Outside Group
END:VEVENT
BEGIN:VEVENT
DTSTART;TZID=America/Chicago:20260603T113000
DTEND;TZID=America/Chicago:20260603T130000
DTSTAMP:20260423T044749
CREATED:20230110T220749Z
LAST-MODIFIED:20230110T220749Z
UID:10002911-1780486200-1780491600@www.flcduluth.org
SUMMARY:Al-Anon
DESCRIPTION:
URL:https://www.flcduluth.org/event/al-anon/2026-06-03/
CATEGORIES:Outside Group
END:VEVENT
BEGIN:VEVENT
DTSTART;TZID=America/Chicago:20260606T090000
DTEND;TZID=America/Chicago:20260606T110000
DTSTAMP:20260423T044749
CREATED:20230110T222829Z
LAST-MODIFIED:20230110T223030Z
UID:10003546-1780736400-1780743600@www.flcduluth.org
SUMMARY:AA
DESCRIPTION:
URL:https://www.flcduluth.org/event/aa-3/2026-06-06/
CATEGORIES:Outside Group
END:VEVENT
BEGIN:VEVENT
DTSTART;TZID=America/Chicago:20260608T193000
DTEND;TZID=America/Chicago:20260608T210000
DTSTAMP:20260423T044749
CREATED:20230110T215936Z
LAST-MODIFIED:20230110T215936Z
UID:10002375-1780947000-1780952400@www.flcduluth.org
SUMMARY:Nar-Anon Meeting
DESCRIPTION:
URL:https://www.flcduluth.org/event/nar-anon-meeting/2026-06-08/
CATEGORIES:Outside Group
END:VEVENT
BEGIN:VEVENT
DTSTART;TZID=America/Chicago:20260609T063000
DTEND;TZID=America/Chicago:20260609T193000
DTSTAMP:20260423T044749
CREATED:20230110T220428Z
LAST-MODIFIED:20230110T220428Z
UID:10002651-1780986600-1781033400@www.flcduluth.org
SUMMARY:Tai-Chi
DESCRIPTION:
URL:https://www.flcduluth.org/event/tai-chi-3/2026-06-09/
CATEGORIES:Outside Group
END:VEVENT
BEGIN:VEVENT
DTSTART;TZID=America/Chicago:20260610T113000
DTEND;TZID=America/Chicago:20260610T130000
DTSTAMP:20260423T044749
CREATED:20230110T220749Z
LAST-MODIFIED:20230110T220749Z
UID:10002912-1781091000-1781096400@www.flcduluth.org
SUMMARY:Al-Anon
DESCRIPTION:
URL:https://www.flcduluth.org/event/al-anon/2026-06-10/
CATEGORIES:Outside Group
END:VEVENT
BEGIN:VEVENT
DTSTART;TZID=America/Chicago:20260613T090000
DTEND;TZID=America/Chicago:20260613T110000
DTSTAMP:20260423T044749
CREATED:20230110T222829Z
LAST-MODIFIED:20230110T223030Z
UID:10003547-1781341200-1781348400@www.flcduluth.org
SUMMARY:AA
DESCRIPTION:
URL:https://www.flcduluth.org/event/aa-3/2026-06-13/
CATEGORIES:Outside Group
END:VEVENT
END:VCALENDAR