BEGIN:VCALENDAR
VERSION:2.0
PRODID:-//First Lutheran Church - ECPv6.15.20//NONSGML v1.0//EN
CALSCALE:GREGORIAN
METHOD:PUBLISH
X-WR-CALNAME:First Lutheran Church
X-ORIGINAL-URL:https://www.flcduluth.org
X-WR-CALDESC:Events for First Lutheran Church
REFRESH-INTERVAL;VALUE=DURATION:PT1H
X-Robots-Tag:noindex
X-PUBLISHED-TTL:PT1H
BEGIN:VTIMEZONE
TZID:America/Chicago
BEGIN:DAYLIGHT
TZOFFSETFROM:-0600
TZOFFSETTO:-0500
TZNAME:CDT
DTSTART:20220313T080000
END:DAYLIGHT
BEGIN:STANDARD
TZOFFSETFROM:-0500
TZOFFSETTO:-0600
TZNAME:CST
DTSTART:20221106T070000
END:STANDARD
BEGIN:DAYLIGHT
TZOFFSETFROM:-0600
TZOFFSETTO:-0500
TZNAME:CDT
DTSTART:20230312T080000
END:DAYLIGHT
BEGIN:STANDARD
TZOFFSETFROM:-0500
TZOFFSETTO:-0600
TZNAME:CST
DTSTART:20231105T070000
END:STANDARD
BEGIN:DAYLIGHT
TZOFFSETFROM:-0600
TZOFFSETTO:-0500
TZNAME:CDT
DTSTART:20240310T080000
END:DAYLIGHT
BEGIN:STANDARD
TZOFFSETFROM:-0500
TZOFFSETTO:-0600
TZNAME:CST
DTSTART:20241103T070000
END:STANDARD
END:VTIMEZONE
BEGIN:VEVENT
DTSTART;TZID=America/Chicago:20230617T090000
DTEND;TZID=America/Chicago:20230617T110000
DTSTAMP:20260425T064710
CREATED:20230110T222829Z
LAST-MODIFIED:20230110T223030Z
UID:10003391-1686992400-1686999600@www.flcduluth.org
SUMMARY:AA
DESCRIPTION:
URL:https://www.flcduluth.org/event/aa-3/2023-06-17/
CATEGORIES:Outside Group
END:VEVENT
BEGIN:VEVENT
DTSTART;TZID=America/Chicago:20230619T193000
DTEND;TZID=America/Chicago:20230619T210000
DTSTAMP:20260425T064710
CREATED:20230110T215936Z
LAST-MODIFIED:20230110T215936Z
UID:10002220-1687203000-1687208400@www.flcduluth.org
SUMMARY:Nar-Anon Meeting
DESCRIPTION:
URL:https://www.flcduluth.org/event/nar-anon-meeting/2023-06-19/
CATEGORIES:Outside Group
END:VEVENT
BEGIN:VEVENT
DTSTART;TZID=America/Chicago:20230620T063000
DTEND;TZID=America/Chicago:20230620T193000
DTSTAMP:20260425T064710
CREATED:20230110T220428Z
LAST-MODIFIED:20230110T220428Z
UID:10002496-1687242600-1687289400@www.flcduluth.org
SUMMARY:Tai-Chi
DESCRIPTION:
URL:https://www.flcduluth.org/event/tai-chi-3/2023-06-20/
CATEGORIES:Outside Group
END:VEVENT
BEGIN:VEVENT
DTSTART;TZID=America/Chicago:20230620T180000
DTEND;TZID=America/Chicago:20230620T200000
DTSTAMP:20260425T064710
CREATED:20230620T182230Z
LAST-MODIFIED:20230620T182230Z
UID:10004363-1687284000-1687291200@www.flcduluth.org
SUMMARY:Arrowhead Chorale
DESCRIPTION:
URL:https://www.flcduluth.org/event/arrowhead-chorale-11/2023-06-20/
CATEGORIES:Outside Group
END:VEVENT
BEGIN:VEVENT
DTSTART;TZID=America/Chicago:20230621T113000
DTEND;TZID=America/Chicago:20230621T130000
DTSTAMP:20260425T064710
CREATED:20230110T220749Z
LAST-MODIFIED:20230110T220749Z
UID:10002757-1687347000-1687352400@www.flcduluth.org
SUMMARY:Al-Anon
DESCRIPTION:
URL:https://www.flcduluth.org/event/al-anon/2023-06-21/
CATEGORIES:Outside Group
END:VEVENT
BEGIN:VEVENT
DTSTART;TZID=America/Chicago:20230624T090000
DTEND;TZID=America/Chicago:20230624T110000
DTSTAMP:20260425T064710
CREATED:20230110T222829Z
LAST-MODIFIED:20230110T223030Z
UID:10003392-1687597200-1687604400@www.flcduluth.org
SUMMARY:AA
DESCRIPTION:
URL:https://www.flcduluth.org/event/aa-3/2023-06-24/
CATEGORIES:Outside Group
END:VEVENT
BEGIN:VEVENT
DTSTART;TZID=America/Chicago:20230626T193000
DTEND;TZID=America/Chicago:20230626T210000
DTSTAMP:20260425T064710
CREATED:20230110T215936Z
LAST-MODIFIED:20230110T215936Z
UID:10002221-1687807800-1687813200@www.flcduluth.org
SUMMARY:Nar-Anon Meeting
DESCRIPTION:
URL:https://www.flcduluth.org/event/nar-anon-meeting/2023-06-26/
CATEGORIES:Outside Group
END:VEVENT
BEGIN:VEVENT
DTSTART;TZID=America/Chicago:20230627T063000
DTEND;TZID=America/Chicago:20230627T193000
DTSTAMP:20260425T064710
CREATED:20230110T220428Z
LAST-MODIFIED:20230110T220428Z
UID:10002497-1687847400-1687894200@www.flcduluth.org
SUMMARY:Tai-Chi
DESCRIPTION:
URL:https://www.flcduluth.org/event/tai-chi-3/2023-06-27/
CATEGORIES:Outside Group
END:VEVENT
BEGIN:VEVENT
DTSTART;TZID=America/Chicago:20230627T180000
DTEND;TZID=America/Chicago:20230627T200000
DTSTAMP:20260425T064710
CREATED:20230620T182230Z
LAST-MODIFIED:20230620T182230Z
UID:10004364-1687888800-1687896000@www.flcduluth.org
SUMMARY:Arrowhead Chorale
DESCRIPTION:
URL:https://www.flcduluth.org/event/arrowhead-chorale-11/2023-06-27/
CATEGORIES:Outside Group
END:VEVENT
BEGIN:VEVENT
DTSTART;TZID=America/Chicago:20230628T113000
DTEND;TZID=America/Chicago:20230628T130000
DTSTAMP:20260425T064710
CREATED:20230110T220749Z
LAST-MODIFIED:20230110T220749Z
UID:10002758-1687951800-1687957200@www.flcduluth.org
SUMMARY:Al-Anon
DESCRIPTION:
URL:https://www.flcduluth.org/event/al-anon/2023-06-28/
CATEGORIES:Outside Group
END:VEVENT
BEGIN:VEVENT
DTSTART;TZID=America/Chicago:20230701T090000
DTEND;TZID=America/Chicago:20230701T110000
DTSTAMP:20260425T064710
CREATED:20230110T222829Z
LAST-MODIFIED:20230110T223030Z
UID:10003393-1688202000-1688209200@www.flcduluth.org
SUMMARY:AA
DESCRIPTION:
URL:https://www.flcduluth.org/event/aa-3/2023-07-01/
CATEGORIES:Outside Group
END:VEVENT
BEGIN:VEVENT
DTSTART;TZID=America/Chicago:20230703T193000
DTEND;TZID=America/Chicago:20230703T210000
DTSTAMP:20260425T064710
CREATED:20230110T215936Z
LAST-MODIFIED:20230110T215936Z
UID:10002222-1688412600-1688418000@www.flcduluth.org
SUMMARY:Nar-Anon Meeting
DESCRIPTION:
URL:https://www.flcduluth.org/event/nar-anon-meeting/2023-07-03/
CATEGORIES:Outside Group
END:VEVENT
BEGIN:VEVENT
DTSTART;TZID=America/Chicago:20230704T063000
DTEND;TZID=America/Chicago:20230704T193000
DTSTAMP:20260425T064710
CREATED:20230110T220428Z
LAST-MODIFIED:20230110T220428Z
UID:10002498-1688452200-1688499000@www.flcduluth.org
SUMMARY:Tai-Chi
DESCRIPTION:
URL:https://www.flcduluth.org/event/tai-chi-3/2023-07-04/
CATEGORIES:Outside Group
END:VEVENT
BEGIN:VEVENT
DTSTART;TZID=America/Chicago:20230704T180000
DTEND;TZID=America/Chicago:20230704T200000
DTSTAMP:20260425T064710
CREATED:20230620T182230Z
LAST-MODIFIED:20230620T182230Z
UID:10004365-1688493600-1688500800@www.flcduluth.org
SUMMARY:Arrowhead Chorale
DESCRIPTION:
URL:https://www.flcduluth.org/event/arrowhead-chorale-11/2023-07-04/
CATEGORIES:Outside Group
END:VEVENT
BEGIN:VEVENT
DTSTART;VALUE=DATE:20230705
DTEND;VALUE=DATE:20230710
DTSTAMP:20260425T064710
CREATED:20230620T182448Z
LAST-MODIFIED:20230620T182448Z
UID:10004389-1688515200-1688947199@www.flcduluth.org
SUMMARY:Overnight Youth Trip
DESCRIPTION:
URL:https://www.flcduluth.org/event/overnight-youth-trip/
CATEGORIES:Outside Group
END:VEVENT
BEGIN:VEVENT
DTSTART;TZID=America/Chicago:20230705T113000
DTEND;TZID=America/Chicago:20230705T130000
DTSTAMP:20260425T064710
CREATED:20230110T220749Z
LAST-MODIFIED:20230110T220749Z
UID:10002759-1688556600-1688562000@www.flcduluth.org
SUMMARY:Al-Anon
DESCRIPTION:
URL:https://www.flcduluth.org/event/al-anon/2023-07-05/
CATEGORIES:Outside Group
END:VEVENT
BEGIN:VEVENT
DTSTART;TZID=America/Chicago:20230708T090000
DTEND;TZID=America/Chicago:20230708T110000
DTSTAMP:20260425T064710
CREATED:20230110T222829Z
LAST-MODIFIED:20230110T223030Z
UID:10003394-1688806800-1688814000@www.flcduluth.org
SUMMARY:AA
DESCRIPTION:
URL:https://www.flcduluth.org/event/aa-3/2023-07-08/
CATEGORIES:Outside Group
END:VEVENT
BEGIN:VEVENT
DTSTART;VALUE=DATE:20230709
DTEND;VALUE=DATE:20230716
DTSTAMP:20260425T064710
CREATED:20230620T182532Z
LAST-MODIFIED:20230620T182532Z
UID:10004390-1688860800-1689465599@www.flcduluth.org
SUMMARY:Overnight Youth Trip
DESCRIPTION:
URL:https://www.flcduluth.org/event/overnight-youth-trip-2/
CATEGORIES:Outside Group
END:VEVENT
BEGIN:VEVENT
DTSTART;TZID=America/Chicago:20230710T193000
DTEND;TZID=America/Chicago:20230710T210000
DTSTAMP:20260425T064710
CREATED:20230110T215936Z
LAST-MODIFIED:20230110T215936Z
UID:10002223-1689017400-1689022800@www.flcduluth.org
SUMMARY:Nar-Anon Meeting
DESCRIPTION:
URL:https://www.flcduluth.org/event/nar-anon-meeting/2023-07-10/
CATEGORIES:Outside Group
END:VEVENT
BEGIN:VEVENT
DTSTART;TZID=America/Chicago:20230711T063000
DTEND;TZID=America/Chicago:20230711T193000
DTSTAMP:20260425T064710
CREATED:20230110T220428Z
LAST-MODIFIED:20230110T220428Z
UID:10002499-1689057000-1689103800@www.flcduluth.org
SUMMARY:Tai-Chi
DESCRIPTION:
URL:https://www.flcduluth.org/event/tai-chi-3/2023-07-11/
CATEGORIES:Outside Group
END:VEVENT
BEGIN:VEVENT
DTSTART;TZID=America/Chicago:20230711T180000
DTEND;TZID=America/Chicago:20230711T200000
DTSTAMP:20260425T064710
CREATED:20230620T182230Z
LAST-MODIFIED:20230620T182230Z
UID:10004366-1689098400-1689105600@www.flcduluth.org
SUMMARY:Arrowhead Chorale
DESCRIPTION:
URL:https://www.flcduluth.org/event/arrowhead-chorale-11/2023-07-11/
CATEGORIES:Outside Group
END:VEVENT
BEGIN:VEVENT
DTSTART;TZID=America/Chicago:20230712T113000
DTEND;TZID=America/Chicago:20230712T130000
DTSTAMP:20260425T064710
CREATED:20230110T220749Z
LAST-MODIFIED:20230110T220749Z
UID:10002760-1689161400-1689166800@www.flcduluth.org
SUMMARY:Al-Anon
DESCRIPTION:
URL:https://www.flcduluth.org/event/al-anon/2023-07-12/
CATEGORIES:Outside Group
END:VEVENT
BEGIN:VEVENT
DTSTART;VALUE=DATE:20230715
DTEND;VALUE=DATE:20230717
DTSTAMP:20260425T064710
CREATED:20230620T182610Z
LAST-MODIFIED:20230620T182610Z
UID:10004391-1689379200-1689551999@www.flcduluth.org
SUMMARY:Overnight Youth Trip
DESCRIPTION:
URL:https://www.flcduluth.org/event/overnight-youth-trip-3/
CATEGORIES:Outside Group
END:VEVENT
BEGIN:VEVENT
DTSTART;TZID=America/Chicago:20230715T060000
DTEND;TZID=America/Chicago:20230715T170000
DTSTAMP:20260425T064710
CREATED:20230620T181721Z
LAST-MODIFIED:20230620T181721Z
UID:10004355-1689400800-1689440400@www.flcduluth.org
SUMMARY:Lake Superior Rose Show
DESCRIPTION:
URL:https://www.flcduluth.org/event/lake-superior-rose-show/
CATEGORIES:Outside Group
END:VEVENT
BEGIN:VEVENT
DTSTART;TZID=America/Chicago:20230715T090000
DTEND;TZID=America/Chicago:20230715T110000
DTSTAMP:20260425T064710
CREATED:20230110T222829Z
LAST-MODIFIED:20230110T223030Z
UID:10003395-1689411600-1689418800@www.flcduluth.org
SUMMARY:AA
DESCRIPTION:
URL:https://www.flcduluth.org/event/aa-3/2023-07-15/
CATEGORIES:Outside Group
END:VEVENT
BEGIN:VEVENT
DTSTART;TZID=America/Chicago:20230717T193000
DTEND;TZID=America/Chicago:20230717T210000
DTSTAMP:20260425T064710
CREATED:20230110T215936Z
LAST-MODIFIED:20230110T215936Z
UID:10002224-1689622200-1689627600@www.flcduluth.org
SUMMARY:Nar-Anon Meeting
DESCRIPTION:
URL:https://www.flcduluth.org/event/nar-anon-meeting/2023-07-17/
CATEGORIES:Outside Group
END:VEVENT
BEGIN:VEVENT
DTSTART;TZID=America/Chicago:20230718T063000
DTEND;TZID=America/Chicago:20230718T193000
DTSTAMP:20260425T064710
CREATED:20230110T220428Z
LAST-MODIFIED:20230110T220428Z
UID:10002500-1689661800-1689708600@www.flcduluth.org
SUMMARY:Tai-Chi
DESCRIPTION:
URL:https://www.flcduluth.org/event/tai-chi-3/2023-07-18/
CATEGORIES:Outside Group
END:VEVENT
BEGIN:VEVENT
DTSTART;TZID=America/Chicago:20230718T180000
DTEND;TZID=America/Chicago:20230718T200000
DTSTAMP:20260425T064710
CREATED:20230620T182230Z
LAST-MODIFIED:20230620T182230Z
UID:10004367-1689703200-1689710400@www.flcduluth.org
SUMMARY:Arrowhead Chorale
DESCRIPTION:
URL:https://www.flcduluth.org/event/arrowhead-chorale-11/2023-07-18/
CATEGORIES:Outside Group
END:VEVENT
BEGIN:VEVENT
DTSTART;TZID=America/Chicago:20230719T113000
DTEND;TZID=America/Chicago:20230719T130000
DTSTAMP:20260425T064710
CREATED:20230110T220749Z
LAST-MODIFIED:20230110T220749Z
UID:10002761-1689766200-1689771600@www.flcduluth.org
SUMMARY:Al-Anon
DESCRIPTION:
URL:https://www.flcduluth.org/event/al-anon/2023-07-19/
CATEGORIES:Outside Group
END:VEVENT
BEGIN:VEVENT
DTSTART;TZID=America/Chicago:20230720T183000
DTEND;TZID=America/Chicago:20230720T200000
DTSTAMP:20260425T064710
CREATED:20230110T223406Z
LAST-MODIFIED:20230110T223406Z
UID:10003638-1689877800-1689883200@www.flcduluth.org
SUMMARY:District AA Meeting
DESCRIPTION:
URL:https://www.flcduluth.org/event/district-aa-meeting-4/2023-07-20/
CATEGORIES:Outside Group
END:VEVENT
END:VCALENDAR