BEGIN:VCALENDAR
VERSION:2.0
PRODID:-//First Lutheran Church - ECPv6.15.20//NONSGML v1.0//EN
CALSCALE:GREGORIAN
METHOD:PUBLISH
X-WR-CALNAME:First Lutheran Church
X-ORIGINAL-URL:https://www.flcduluth.org
X-WR-CALDESC:Events for First Lutheran Church
REFRESH-INTERVAL;VALUE=DURATION:PT1H
X-Robots-Tag:noindex
X-PUBLISHED-TTL:PT1H
BEGIN:VTIMEZONE
TZID:America/Chicago
BEGIN:DAYLIGHT
TZOFFSETFROM:-0600
TZOFFSETTO:-0500
TZNAME:CDT
DTSTART:20220313T080000
END:DAYLIGHT
BEGIN:STANDARD
TZOFFSETFROM:-0500
TZOFFSETTO:-0600
TZNAME:CST
DTSTART:20221106T070000
END:STANDARD
BEGIN:DAYLIGHT
TZOFFSETFROM:-0600
TZOFFSETTO:-0500
TZNAME:CDT
DTSTART:20230312T080000
END:DAYLIGHT
BEGIN:STANDARD
TZOFFSETFROM:-0500
TZOFFSETTO:-0600
TZNAME:CST
DTSTART:20231105T070000
END:STANDARD
BEGIN:DAYLIGHT
TZOFFSETFROM:-0600
TZOFFSETTO:-0500
TZNAME:CDT
DTSTART:20240310T080000
END:DAYLIGHT
BEGIN:STANDARD
TZOFFSETFROM:-0500
TZOFFSETTO:-0600
TZNAME:CST
DTSTART:20241103T070000
END:STANDARD
END:VTIMEZONE
BEGIN:VEVENT
DTSTART;TZID=America/Chicago:20230911T193000
DTEND;TZID=America/Chicago:20230911T210000
DTSTAMP:20260425T052505
CREATED:20230110T215936Z
LAST-MODIFIED:20230110T215936Z
UID:10002232-1694460600-1694466000@www.flcduluth.org
SUMMARY:Nar-Anon Meeting
DESCRIPTION:
URL:https://www.flcduluth.org/event/nar-anon-meeting/2023-09-11/
CATEGORIES:Outside Group
END:VEVENT
BEGIN:VEVENT
DTSTART;TZID=America/Chicago:20230912T063000
DTEND;TZID=America/Chicago:20230912T193000
DTSTAMP:20260425T052505
CREATED:20230110T220428Z
LAST-MODIFIED:20230110T220428Z
UID:10002508-1694500200-1694547000@www.flcduluth.org
SUMMARY:Tai-Chi
DESCRIPTION:
URL:https://www.flcduluth.org/event/tai-chi-3/2023-09-12/
CATEGORIES:Outside Group
END:VEVENT
BEGIN:VEVENT
DTSTART;TZID=America/Chicago:20230912T180000
DTEND;TZID=America/Chicago:20230912T200000
DTSTAMP:20260425T052505
CREATED:20230620T182230Z
LAST-MODIFIED:20230620T182230Z
UID:10004375-1694541600-1694548800@www.flcduluth.org
SUMMARY:Arrowhead Chorale
DESCRIPTION:
URL:https://www.flcduluth.org/event/arrowhead-chorale-11/2023-09-12/
CATEGORIES:Outside Group
END:VEVENT
BEGIN:VEVENT
DTSTART;TZID=America/Chicago:20230913T113000
DTEND;TZID=America/Chicago:20230913T130000
DTSTAMP:20260425T052505
CREATED:20230110T220749Z
LAST-MODIFIED:20230110T220749Z
UID:10002769-1694604600-1694610000@www.flcduluth.org
SUMMARY:Al-Anon
DESCRIPTION:
URL:https://www.flcduluth.org/event/al-anon/2023-09-13/
CATEGORIES:Outside Group
END:VEVENT
BEGIN:VEVENT
DTSTART;TZID=America/Chicago:20230916T090000
DTEND;TZID=America/Chicago:20230916T110000
DTSTAMP:20260425T052505
CREATED:20230110T222829Z
LAST-MODIFIED:20230110T223030Z
UID:10003404-1694854800-1694862000@www.flcduluth.org
SUMMARY:AA
DESCRIPTION:
URL:https://www.flcduluth.org/event/aa-3/2023-09-16/
CATEGORIES:Outside Group
END:VEVENT
BEGIN:VEVENT
DTSTART;TZID=America/Chicago:20230918T193000
DTEND;TZID=America/Chicago:20230918T210000
DTSTAMP:20260425T052505
CREATED:20230110T215936Z
LAST-MODIFIED:20230110T215936Z
UID:10002233-1695065400-1695070800@www.flcduluth.org
SUMMARY:Nar-Anon Meeting
DESCRIPTION:
URL:https://www.flcduluth.org/event/nar-anon-meeting/2023-09-18/
CATEGORIES:Outside Group
END:VEVENT
BEGIN:VEVENT
DTSTART;TZID=America/Chicago:20230919T063000
DTEND;TZID=America/Chicago:20230919T193000
DTSTAMP:20260425T052505
CREATED:20230110T220428Z
LAST-MODIFIED:20230110T220428Z
UID:10002509-1695105000-1695151800@www.flcduluth.org
SUMMARY:Tai-Chi
DESCRIPTION:
URL:https://www.flcduluth.org/event/tai-chi-3/2023-09-19/
CATEGORIES:Outside Group
END:VEVENT
BEGIN:VEVENT
DTSTART;TZID=America/Chicago:20230919T180000
DTEND;TZID=America/Chicago:20230919T200000
DTSTAMP:20260425T052505
CREATED:20230620T182230Z
LAST-MODIFIED:20230620T182230Z
UID:10004376-1695146400-1695153600@www.flcduluth.org
SUMMARY:Arrowhead Chorale
DESCRIPTION:
URL:https://www.flcduluth.org/event/arrowhead-chorale-11/2023-09-19/
CATEGORIES:Outside Group
END:VEVENT
BEGIN:VEVENT
DTSTART;TZID=America/Chicago:20230920T113000
DTEND;TZID=America/Chicago:20230920T130000
DTSTAMP:20260425T052505
CREATED:20230110T220749Z
LAST-MODIFIED:20230110T220749Z
UID:10002770-1695209400-1695214800@www.flcduluth.org
SUMMARY:Al-Anon
DESCRIPTION:
URL:https://www.flcduluth.org/event/al-anon/2023-09-20/
CATEGORIES:Outside Group
END:VEVENT
BEGIN:VEVENT
DTSTART;TZID=America/Chicago:20230921T183000
DTEND;TZID=America/Chicago:20230921T200000
DTSTAMP:20260425T052505
CREATED:20230110T223406Z
LAST-MODIFIED:20230110T223406Z
UID:10003640-1695321000-1695326400@www.flcduluth.org
SUMMARY:District AA Meeting
DESCRIPTION:
URL:https://www.flcduluth.org/event/district-aa-meeting-4/2023-09-21/
CATEGORIES:Outside Group
END:VEVENT
BEGIN:VEVENT
DTSTART;TZID=America/Chicago:20230923T090000
DTEND;TZID=America/Chicago:20230923T110000
DTSTAMP:20260425T052505
CREATED:20230110T222829Z
LAST-MODIFIED:20230110T223030Z
UID:10003405-1695459600-1695466800@www.flcduluth.org
SUMMARY:AA
DESCRIPTION:
URL:https://www.flcduluth.org/event/aa-3/2023-09-23/
CATEGORIES:Outside Group
END:VEVENT
BEGIN:VEVENT
DTSTART;TZID=America/Chicago:20230925T193000
DTEND;TZID=America/Chicago:20230925T210000
DTSTAMP:20260425T052505
CREATED:20230110T215936Z
LAST-MODIFIED:20230110T215936Z
UID:10002234-1695670200-1695675600@www.flcduluth.org
SUMMARY:Nar-Anon Meeting
DESCRIPTION:
URL:https://www.flcduluth.org/event/nar-anon-meeting/2023-09-25/
CATEGORIES:Outside Group
END:VEVENT
BEGIN:VEVENT
DTSTART;TZID=America/Chicago:20230926T063000
DTEND;TZID=America/Chicago:20230926T193000
DTSTAMP:20260425T052505
CREATED:20230110T220428Z
LAST-MODIFIED:20230110T220428Z
UID:10002510-1695709800-1695756600@www.flcduluth.org
SUMMARY:Tai-Chi
DESCRIPTION:
URL:https://www.flcduluth.org/event/tai-chi-3/2023-09-26/
CATEGORIES:Outside Group
END:VEVENT
BEGIN:VEVENT
DTSTART;TZID=America/Chicago:20230926T180000
DTEND;TZID=America/Chicago:20230926T200000
DTSTAMP:20260425T052505
CREATED:20230620T182230Z
LAST-MODIFIED:20230620T182230Z
UID:10004377-1695751200-1695758400@www.flcduluth.org
SUMMARY:Arrowhead Chorale
DESCRIPTION:
URL:https://www.flcduluth.org/event/arrowhead-chorale-11/2023-09-26/
CATEGORIES:Outside Group
END:VEVENT
BEGIN:VEVENT
DTSTART;TZID=America/Chicago:20230927T113000
DTEND;TZID=America/Chicago:20230927T130000
DTSTAMP:20260425T052505
CREATED:20230110T220749Z
LAST-MODIFIED:20230110T220749Z
UID:10002771-1695814200-1695819600@www.flcduluth.org
SUMMARY:Al-Anon
DESCRIPTION:
URL:https://www.flcduluth.org/event/al-anon/2023-09-27/
CATEGORIES:Outside Group
END:VEVENT
BEGIN:VEVENT
DTSTART;TZID=America/Chicago:20230930T090000
DTEND;TZID=America/Chicago:20230930T110000
DTSTAMP:20260425T052505
CREATED:20230110T222829Z
LAST-MODIFIED:20230110T223030Z
UID:10003406-1696064400-1696071600@www.flcduluth.org
SUMMARY:AA
DESCRIPTION:
URL:https://www.flcduluth.org/event/aa-3/2023-09-30/
CATEGORIES:Outside Group
END:VEVENT
BEGIN:VEVENT
DTSTART;TZID=America/Chicago:20231002T193000
DTEND;TZID=America/Chicago:20231002T210000
DTSTAMP:20260425T052505
CREATED:20230110T215936Z
LAST-MODIFIED:20230110T215936Z
UID:10002235-1696275000-1696280400@www.flcduluth.org
SUMMARY:Nar-Anon Meeting
DESCRIPTION:
URL:https://www.flcduluth.org/event/nar-anon-meeting/2023-10-02/
CATEGORIES:Outside Group
END:VEVENT
BEGIN:VEVENT
DTSTART;TZID=America/Chicago:20231003T063000
DTEND;TZID=America/Chicago:20231003T193000
DTSTAMP:20260425T052505
CREATED:20230110T220428Z
LAST-MODIFIED:20230110T220428Z
UID:10002511-1696314600-1696361400@www.flcduluth.org
SUMMARY:Tai-Chi
DESCRIPTION:
URL:https://www.flcduluth.org/event/tai-chi-3/2023-10-03/
CATEGORIES:Outside Group
END:VEVENT
BEGIN:VEVENT
DTSTART;TZID=America/Chicago:20231003T180000
DTEND;TZID=America/Chicago:20231003T200000
DTSTAMP:20260425T052505
CREATED:20230620T182230Z
LAST-MODIFIED:20230620T182230Z
UID:10004378-1696356000-1696363200@www.flcduluth.org
SUMMARY:Arrowhead Chorale
DESCRIPTION:
URL:https://www.flcduluth.org/event/arrowhead-chorale-11/2023-10-03/
CATEGORIES:Outside Group
END:VEVENT
BEGIN:VEVENT
DTSTART;TZID=America/Chicago:20231004T113000
DTEND;TZID=America/Chicago:20231004T130000
DTSTAMP:20260425T052505
CREATED:20230110T220749Z
LAST-MODIFIED:20230110T220749Z
UID:10002772-1696419000-1696424400@www.flcduluth.org
SUMMARY:Al-Anon
DESCRIPTION:
URL:https://www.flcduluth.org/event/al-anon/2023-10-04/
CATEGORIES:Outside Group
END:VEVENT
BEGIN:VEVENT
DTSTART;TZID=America/Chicago:20231007T090000
DTEND;TZID=America/Chicago:20231007T110000
DTSTAMP:20260425T052505
CREATED:20230110T222829Z
LAST-MODIFIED:20230110T223030Z
UID:10003407-1696669200-1696676400@www.flcduluth.org
SUMMARY:AA
DESCRIPTION:
URL:https://www.flcduluth.org/event/aa-3/2023-10-07/
CATEGORIES:Outside Group
END:VEVENT
BEGIN:VEVENT
DTSTART;TZID=America/Chicago:20231009T193000
DTEND;TZID=America/Chicago:20231009T210000
DTSTAMP:20260425T052505
CREATED:20230110T215936Z
LAST-MODIFIED:20230110T215936Z
UID:10002236-1696879800-1696885200@www.flcduluth.org
SUMMARY:Nar-Anon Meeting
DESCRIPTION:
URL:https://www.flcduluth.org/event/nar-anon-meeting/2023-10-09/
CATEGORIES:Outside Group
END:VEVENT
BEGIN:VEVENT
DTSTART;TZID=America/Chicago:20231010T063000
DTEND;TZID=America/Chicago:20231010T193000
DTSTAMP:20260425T052505
CREATED:20230110T220428Z
LAST-MODIFIED:20230110T220428Z
UID:10002512-1696919400-1696966200@www.flcduluth.org
SUMMARY:Tai-Chi
DESCRIPTION:
URL:https://www.flcduluth.org/event/tai-chi-3/2023-10-10/
CATEGORIES:Outside Group
END:VEVENT
BEGIN:VEVENT
DTSTART;TZID=America/Chicago:20231010T180000
DTEND;TZID=America/Chicago:20231010T200000
DTSTAMP:20260425T052505
CREATED:20230620T182230Z
LAST-MODIFIED:20230620T182230Z
UID:10004379-1696960800-1696968000@www.flcduluth.org
SUMMARY:Arrowhead Chorale
DESCRIPTION:
URL:https://www.flcduluth.org/event/arrowhead-chorale-11/2023-10-10/
CATEGORIES:Outside Group
END:VEVENT
BEGIN:VEVENT
DTSTART;TZID=America/Chicago:20231011T113000
DTEND;TZID=America/Chicago:20231011T130000
DTSTAMP:20260425T052505
CREATED:20230110T220749Z
LAST-MODIFIED:20230110T220749Z
UID:10002773-1697023800-1697029200@www.flcduluth.org
SUMMARY:Al-Anon
DESCRIPTION:
URL:https://www.flcduluth.org/event/al-anon/2023-10-11/
CATEGORIES:Outside Group
END:VEVENT
BEGIN:VEVENT
DTSTART;TZID=America/Chicago:20231014T090000
DTEND;TZID=America/Chicago:20231014T110000
DTSTAMP:20260425T052505
CREATED:20230110T222829Z
LAST-MODIFIED:20230110T223030Z
UID:10003408-1697274000-1697281200@www.flcduluth.org
SUMMARY:AA
DESCRIPTION:
URL:https://www.flcduluth.org/event/aa-3/2023-10-14/
CATEGORIES:Outside Group
END:VEVENT
BEGIN:VEVENT
DTSTART;TZID=America/Chicago:20231016T193000
DTEND;TZID=America/Chicago:20231016T210000
DTSTAMP:20260425T052505
CREATED:20230110T215936Z
LAST-MODIFIED:20230110T215936Z
UID:10002237-1697484600-1697490000@www.flcduluth.org
SUMMARY:Nar-Anon Meeting
DESCRIPTION:
URL:https://www.flcduluth.org/event/nar-anon-meeting/2023-10-16/
CATEGORIES:Outside Group
END:VEVENT
BEGIN:VEVENT
DTSTART;TZID=America/Chicago:20231017T063000
DTEND;TZID=America/Chicago:20231017T193000
DTSTAMP:20260425T052505
CREATED:20230110T220428Z
LAST-MODIFIED:20230110T220428Z
UID:10002513-1697524200-1697571000@www.flcduluth.org
SUMMARY:Tai-Chi
DESCRIPTION:
URL:https://www.flcduluth.org/event/tai-chi-3/2023-10-17/
CATEGORIES:Outside Group
END:VEVENT
BEGIN:VEVENT
DTSTART;TZID=America/Chicago:20231017T180000
DTEND;TZID=America/Chicago:20231017T200000
DTSTAMP:20260425T052505
CREATED:20230620T182230Z
LAST-MODIFIED:20230620T182230Z
UID:10004380-1697565600-1697572800@www.flcduluth.org
SUMMARY:Arrowhead Chorale
DESCRIPTION:
URL:https://www.flcduluth.org/event/arrowhead-chorale-11/2023-10-17/
CATEGORIES:Outside Group
END:VEVENT
BEGIN:VEVENT
DTSTART;TZID=America/Chicago:20231018T113000
DTEND;TZID=America/Chicago:20231018T130000
DTSTAMP:20260425T052505
CREATED:20230110T220749Z
LAST-MODIFIED:20230110T220749Z
UID:10002774-1697628600-1697634000@www.flcduluth.org
SUMMARY:Al-Anon
DESCRIPTION:
URL:https://www.flcduluth.org/event/al-anon/2023-10-18/
CATEGORIES:Outside Group
END:VEVENT
END:VCALENDAR