BEGIN:VCALENDAR
VERSION:2.0
PRODID:-//First Lutheran Church - ECPv6.15.20//NONSGML v1.0//EN
CALSCALE:GREGORIAN
METHOD:PUBLISH
X-WR-CALNAME:First Lutheran Church
X-ORIGINAL-URL:https://www.flcduluth.org
X-WR-CALDESC:Events for First Lutheran Church
REFRESH-INTERVAL;VALUE=DURATION:PT1H
X-Robots-Tag:noindex
X-PUBLISHED-TTL:PT1H
BEGIN:VTIMEZONE
TZID:America/Chicago
BEGIN:DAYLIGHT
TZOFFSETFROM:-0600
TZOFFSETTO:-0500
TZNAME:CDT
DTSTART:20230312T080000
END:DAYLIGHT
BEGIN:STANDARD
TZOFFSETFROM:-0500
TZOFFSETTO:-0600
TZNAME:CST
DTSTART:20231105T070000
END:STANDARD
BEGIN:DAYLIGHT
TZOFFSETFROM:-0600
TZOFFSETTO:-0500
TZNAME:CDT
DTSTART:20240310T080000
END:DAYLIGHT
BEGIN:STANDARD
TZOFFSETFROM:-0500
TZOFFSETTO:-0600
TZNAME:CST
DTSTART:20241103T070000
END:STANDARD
BEGIN:DAYLIGHT
TZOFFSETFROM:-0600
TZOFFSETTO:-0500
TZNAME:CDT
DTSTART:20250309T080000
END:DAYLIGHT
BEGIN:STANDARD
TZOFFSETFROM:-0500
TZOFFSETTO:-0600
TZNAME:CST
DTSTART:20251102T070000
END:STANDARD
BEGIN:DAYLIGHT
TZOFFSETFROM:-0600
TZOFFSETTO:-0500
TZNAME:CDT
DTSTART:20260308T080000
END:DAYLIGHT
BEGIN:STANDARD
TZOFFSETFROM:-0500
TZOFFSETTO:-0600
TZNAME:CST
DTSTART:20261101T070000
END:STANDARD
END:VTIMEZONE
BEGIN:VEVENT
DTSTART;TZID=America/Chicago:20241228T090000
DTEND;TZID=America/Chicago:20241228T110000
DTSTAMP:20260424T053333
CREATED:20230110T222829Z
LAST-MODIFIED:20230110T223030Z
UID:10003471-1735376400-1735383600@www.flcduluth.org
SUMMARY:AA
DESCRIPTION:
URL:https://www.flcduluth.org/event/aa-3/2024-12-28/
CATEGORIES:Outside Group
END:VEVENT
BEGIN:VEVENT
DTSTART;TZID=America/Chicago:20241230T193000
DTEND;TZID=America/Chicago:20241230T210000
DTSTAMP:20260424T053333
CREATED:20230110T215936Z
LAST-MODIFIED:20230110T215936Z
UID:10002300-1735587000-1735592400@www.flcduluth.org
SUMMARY:Nar-Anon Meeting
DESCRIPTION:
URL:https://www.flcduluth.org/event/nar-anon-meeting/2024-12-30/
CATEGORIES:Outside Group
END:VEVENT
BEGIN:VEVENT
DTSTART;TZID=America/Chicago:20241231T063000
DTEND;TZID=America/Chicago:20241231T193000
DTSTAMP:20260424T053333
CREATED:20230110T220428Z
LAST-MODIFIED:20230110T220428Z
UID:10002576-1735626600-1735673400@www.flcduluth.org
SUMMARY:Tai-Chi
DESCRIPTION:
URL:https://www.flcduluth.org/event/tai-chi-3/2024-12-31/
CATEGORIES:Outside Group
END:VEVENT
BEGIN:VEVENT
DTSTART;TZID=America/Chicago:20250101T113000
DTEND;TZID=America/Chicago:20250101T130000
DTSTAMP:20260424T053333
CREATED:20230110T220749Z
LAST-MODIFIED:20230110T220749Z
UID:10002837-1735731000-1735736400@www.flcduluth.org
SUMMARY:Al-Anon
DESCRIPTION:
URL:https://www.flcduluth.org/event/al-anon/2025-01-01/
CATEGORIES:Outside Group
END:VEVENT
BEGIN:VEVENT
DTSTART;TZID=America/Chicago:20250104T090000
DTEND;TZID=America/Chicago:20250104T110000
DTSTAMP:20260424T053333
CREATED:20230110T222829Z
LAST-MODIFIED:20230110T223030Z
UID:10003472-1735981200-1735988400@www.flcduluth.org
SUMMARY:AA
DESCRIPTION:
URL:https://www.flcduluth.org/event/aa-3/2025-01-04/
CATEGORIES:Outside Group
END:VEVENT
BEGIN:VEVENT
DTSTART;TZID=America/Chicago:20250106T193000
DTEND;TZID=America/Chicago:20250106T210000
DTSTAMP:20260424T053333
CREATED:20230110T215936Z
LAST-MODIFIED:20230110T215936Z
UID:10002301-1736191800-1736197200@www.flcduluth.org
SUMMARY:Nar-Anon Meeting
DESCRIPTION:
URL:https://www.flcduluth.org/event/nar-anon-meeting/2025-01-06/
CATEGORIES:Outside Group
END:VEVENT
BEGIN:VEVENT
DTSTART;TZID=America/Chicago:20250107T063000
DTEND;TZID=America/Chicago:20250107T193000
DTSTAMP:20260424T053333
CREATED:20230110T220428Z
LAST-MODIFIED:20230110T220428Z
UID:10002577-1736231400-1736278200@www.flcduluth.org
SUMMARY:Tai-Chi
DESCRIPTION:
URL:https://www.flcduluth.org/event/tai-chi-3/2025-01-07/
CATEGORIES:Outside Group
END:VEVENT
BEGIN:VEVENT
DTSTART;TZID=America/Chicago:20250108T113000
DTEND;TZID=America/Chicago:20250108T130000
DTSTAMP:20260424T053333
CREATED:20230110T220749Z
LAST-MODIFIED:20230110T220749Z
UID:10002838-1736335800-1736341200@www.flcduluth.org
SUMMARY:Al-Anon
DESCRIPTION:
URL:https://www.flcduluth.org/event/al-anon/2025-01-08/
CATEGORIES:Outside Group
END:VEVENT
BEGIN:VEVENT
DTSTART;TZID=America/Chicago:20250111T090000
DTEND;TZID=America/Chicago:20250111T110000
DTSTAMP:20260424T053333
CREATED:20230110T222829Z
LAST-MODIFIED:20230110T223030Z
UID:10003473-1736586000-1736593200@www.flcduluth.org
SUMMARY:AA
DESCRIPTION:
URL:https://www.flcduluth.org/event/aa-3/2025-01-11/
CATEGORIES:Outside Group
END:VEVENT
BEGIN:VEVENT
DTSTART;TZID=America/Chicago:20250113T193000
DTEND;TZID=America/Chicago:20250113T210000
DTSTAMP:20260424T053333
CREATED:20230110T215936Z
LAST-MODIFIED:20230110T215936Z
UID:10002302-1736796600-1736802000@www.flcduluth.org
SUMMARY:Nar-Anon Meeting
DESCRIPTION:
URL:https://www.flcduluth.org/event/nar-anon-meeting/2025-01-13/
CATEGORIES:Outside Group
END:VEVENT
BEGIN:VEVENT
DTSTART;TZID=America/Chicago:20250114T063000
DTEND;TZID=America/Chicago:20250114T193000
DTSTAMP:20260424T053333
CREATED:20230110T220428Z
LAST-MODIFIED:20230110T220428Z
UID:10002578-1736836200-1736883000@www.flcduluth.org
SUMMARY:Tai-Chi
DESCRIPTION:
URL:https://www.flcduluth.org/event/tai-chi-3/2025-01-14/
CATEGORIES:Outside Group
END:VEVENT
BEGIN:VEVENT
DTSTART;TZID=America/Chicago:20250115T113000
DTEND;TZID=America/Chicago:20250115T130000
DTSTAMP:20260424T053333
CREATED:20230110T220749Z
LAST-MODIFIED:20230110T220749Z
UID:10002839-1736940600-1736946000@www.flcduluth.org
SUMMARY:Al-Anon
DESCRIPTION:
URL:https://www.flcduluth.org/event/al-anon/2025-01-15/
CATEGORIES:Outside Group
END:VEVENT
BEGIN:VEVENT
DTSTART;TZID=America/Chicago:20250116T183000
DTEND;TZID=America/Chicago:20250116T200000
DTSTAMP:20260424T053333
CREATED:20230110T223406Z
LAST-MODIFIED:20230110T223406Z
UID:10003656-1737052200-1737057600@www.flcduluth.org
SUMMARY:District AA Meeting
DESCRIPTION:
URL:https://www.flcduluth.org/event/district-aa-meeting-4/2025-01-16/
CATEGORIES:Outside Group
END:VEVENT
BEGIN:VEVENT
DTSTART;TZID=America/Chicago:20250118T090000
DTEND;TZID=America/Chicago:20250118T110000
DTSTAMP:20260424T053333
CREATED:20230110T222829Z
LAST-MODIFIED:20230110T223030Z
UID:10003474-1737190800-1737198000@www.flcduluth.org
SUMMARY:AA
DESCRIPTION:
URL:https://www.flcduluth.org/event/aa-3/2025-01-18/
CATEGORIES:Outside Group
END:VEVENT
BEGIN:VEVENT
DTSTART;TZID=America/Chicago:20250120T193000
DTEND;TZID=America/Chicago:20250120T210000
DTSTAMP:20260424T053333
CREATED:20230110T215936Z
LAST-MODIFIED:20230110T215936Z
UID:10002303-1737401400-1737406800@www.flcduluth.org
SUMMARY:Nar-Anon Meeting
DESCRIPTION:
URL:https://www.flcduluth.org/event/nar-anon-meeting/2025-01-20/
CATEGORIES:Outside Group
END:VEVENT
BEGIN:VEVENT
DTSTART;TZID=America/Chicago:20250121T063000
DTEND;TZID=America/Chicago:20250121T193000
DTSTAMP:20260424T053333
CREATED:20230110T220428Z
LAST-MODIFIED:20230110T220428Z
UID:10002579-1737441000-1737487800@www.flcduluth.org
SUMMARY:Tai-Chi
DESCRIPTION:
URL:https://www.flcduluth.org/event/tai-chi-3/2025-01-21/
CATEGORIES:Outside Group
END:VEVENT
BEGIN:VEVENT
DTSTART;TZID=America/Chicago:20250122T113000
DTEND;TZID=America/Chicago:20250122T130000
DTSTAMP:20260424T053333
CREATED:20230110T220749Z
LAST-MODIFIED:20230110T220749Z
UID:10002840-1737545400-1737550800@www.flcduluth.org
SUMMARY:Al-Anon
DESCRIPTION:
URL:https://www.flcduluth.org/event/al-anon/2025-01-22/
CATEGORIES:Outside Group
END:VEVENT
BEGIN:VEVENT
DTSTART;TZID=America/Chicago:20250125T090000
DTEND;TZID=America/Chicago:20250125T110000
DTSTAMP:20260424T053333
CREATED:20230110T222829Z
LAST-MODIFIED:20230110T223030Z
UID:10003475-1737795600-1737802800@www.flcduluth.org
SUMMARY:AA
DESCRIPTION:
URL:https://www.flcduluth.org/event/aa-3/2025-01-25/
CATEGORIES:Outside Group
END:VEVENT
BEGIN:VEVENT
DTSTART;TZID=America/Chicago:20250127T193000
DTEND;TZID=America/Chicago:20250127T210000
DTSTAMP:20260424T053333
CREATED:20230110T215936Z
LAST-MODIFIED:20230110T215936Z
UID:10002304-1738006200-1738011600@www.flcduluth.org
SUMMARY:Nar-Anon Meeting
DESCRIPTION:
URL:https://www.flcduluth.org/event/nar-anon-meeting/2025-01-27/
CATEGORIES:Outside Group
END:VEVENT
BEGIN:VEVENT
DTSTART;TZID=America/Chicago:20250128T063000
DTEND;TZID=America/Chicago:20250128T193000
DTSTAMP:20260424T053333
CREATED:20230110T220428Z
LAST-MODIFIED:20230110T220428Z
UID:10002580-1738045800-1738092600@www.flcduluth.org
SUMMARY:Tai-Chi
DESCRIPTION:
URL:https://www.flcduluth.org/event/tai-chi-3/2025-01-28/
CATEGORIES:Outside Group
END:VEVENT
BEGIN:VEVENT
DTSTART;TZID=America/Chicago:20250129T113000
DTEND;TZID=America/Chicago:20250129T130000
DTSTAMP:20260424T053333
CREATED:20230110T220749Z
LAST-MODIFIED:20230110T220749Z
UID:10002841-1738150200-1738155600@www.flcduluth.org
SUMMARY:Al-Anon
DESCRIPTION:
URL:https://www.flcduluth.org/event/al-anon/2025-01-29/
CATEGORIES:Outside Group
END:VEVENT
BEGIN:VEVENT
DTSTART;TZID=America/Chicago:20250201T090000
DTEND;TZID=America/Chicago:20250201T110000
DTSTAMP:20260424T053333
CREATED:20230110T222829Z
LAST-MODIFIED:20230110T223030Z
UID:10003476-1738400400-1738407600@www.flcduluth.org
SUMMARY:AA
DESCRIPTION:
URL:https://www.flcduluth.org/event/aa-3/2025-02-01/
CATEGORIES:Outside Group
END:VEVENT
BEGIN:VEVENT
DTSTART;TZID=America/Chicago:20250203T193000
DTEND;TZID=America/Chicago:20250203T210000
DTSTAMP:20260424T053333
CREATED:20230110T215936Z
LAST-MODIFIED:20230110T215936Z
UID:10002305-1738611000-1738616400@www.flcduluth.org
SUMMARY:Nar-Anon Meeting
DESCRIPTION:
URL:https://www.flcduluth.org/event/nar-anon-meeting/2025-02-03/
CATEGORIES:Outside Group
END:VEVENT
BEGIN:VEVENT
DTSTART;TZID=America/Chicago:20250204T063000
DTEND;TZID=America/Chicago:20250204T193000
DTSTAMP:20260424T053333
CREATED:20230110T220428Z
LAST-MODIFIED:20230110T220428Z
UID:10002581-1738650600-1738697400@www.flcduluth.org
SUMMARY:Tai-Chi
DESCRIPTION:
URL:https://www.flcduluth.org/event/tai-chi-3/2025-02-04/
CATEGORIES:Outside Group
END:VEVENT
BEGIN:VEVENT
DTSTART;TZID=America/Chicago:20250205T113000
DTEND;TZID=America/Chicago:20250205T130000
DTSTAMP:20260424T053333
CREATED:20230110T220749Z
LAST-MODIFIED:20230110T220749Z
UID:10002842-1738755000-1738760400@www.flcduluth.org
SUMMARY:Al-Anon
DESCRIPTION:
URL:https://www.flcduluth.org/event/al-anon/2025-02-05/
CATEGORIES:Outside Group
END:VEVENT
BEGIN:VEVENT
DTSTART;TZID=America/Chicago:20250208T090000
DTEND;TZID=America/Chicago:20250208T110000
DTSTAMP:20260424T053333
CREATED:20230110T222829Z
LAST-MODIFIED:20230110T223030Z
UID:10003477-1739005200-1739012400@www.flcduluth.org
SUMMARY:AA
DESCRIPTION:
URL:https://www.flcduluth.org/event/aa-3/2025-02-08/
CATEGORIES:Outside Group
END:VEVENT
BEGIN:VEVENT
DTSTART;TZID=America/Chicago:20250210T193000
DTEND;TZID=America/Chicago:20250210T210000
DTSTAMP:20260424T053333
CREATED:20230110T215936Z
LAST-MODIFIED:20230110T215936Z
UID:10002306-1739215800-1739221200@www.flcduluth.org
SUMMARY:Nar-Anon Meeting
DESCRIPTION:
URL:https://www.flcduluth.org/event/nar-anon-meeting/2025-02-10/
CATEGORIES:Outside Group
END:VEVENT
BEGIN:VEVENT
DTSTART;TZID=America/Chicago:20250211T063000
DTEND;TZID=America/Chicago:20250211T193000
DTSTAMP:20260424T053333
CREATED:20230110T220428Z
LAST-MODIFIED:20230110T220428Z
UID:10002582-1739255400-1739302200@www.flcduluth.org
SUMMARY:Tai-Chi
DESCRIPTION:
URL:https://www.flcduluth.org/event/tai-chi-3/2025-02-11/
CATEGORIES:Outside Group
END:VEVENT
BEGIN:VEVENT
DTSTART;TZID=America/Chicago:20250212T113000
DTEND;TZID=America/Chicago:20250212T130000
DTSTAMP:20260424T053333
CREATED:20230110T220749Z
LAST-MODIFIED:20230110T220749Z
UID:10002843-1739359800-1739365200@www.flcduluth.org
SUMMARY:Al-Anon
DESCRIPTION:
URL:https://www.flcduluth.org/event/al-anon/2025-02-12/
CATEGORIES:Outside Group
END:VEVENT
BEGIN:VEVENT
DTSTART;TZID=America/Chicago:20250215T090000
DTEND;TZID=America/Chicago:20250215T110000
DTSTAMP:20260424T053333
CREATED:20230110T222829Z
LAST-MODIFIED:20230110T223030Z
UID:10003478-1739610000-1739617200@www.flcduluth.org
SUMMARY:AA
DESCRIPTION:
URL:https://www.flcduluth.org/event/aa-3/2025-02-15/
CATEGORIES:Outside Group
END:VEVENT
END:VCALENDAR