BEGIN:VCALENDAR
VERSION:2.0
PRODID:-//First Lutheran Church - ECPv6.15.20//NONSGML v1.0//EN
CALSCALE:GREGORIAN
METHOD:PUBLISH
X-WR-CALNAME:First Lutheran Church
X-ORIGINAL-URL:https://www.flcduluth.org
X-WR-CALDESC:Events for First Lutheran Church
REFRESH-INTERVAL;VALUE=DURATION:PT1H
X-Robots-Tag:noindex
X-PUBLISHED-TTL:PT1H
BEGIN:VTIMEZONE
TZID:America/Chicago
BEGIN:DAYLIGHT
TZOFFSETFROM:-0600
TZOFFSETTO:-0500
TZNAME:CDT
DTSTART:20240310T080000
END:DAYLIGHT
BEGIN:STANDARD
TZOFFSETFROM:-0500
TZOFFSETTO:-0600
TZNAME:CST
DTSTART:20241103T070000
END:STANDARD
BEGIN:DAYLIGHT
TZOFFSETFROM:-0600
TZOFFSETTO:-0500
TZNAME:CDT
DTSTART:20250309T080000
END:DAYLIGHT
BEGIN:STANDARD
TZOFFSETFROM:-0500
TZOFFSETTO:-0600
TZNAME:CST
DTSTART:20251102T070000
END:STANDARD
BEGIN:DAYLIGHT
TZOFFSETFROM:-0600
TZOFFSETTO:-0500
TZNAME:CDT
DTSTART:20260308T080000
END:DAYLIGHT
BEGIN:STANDARD
TZOFFSETFROM:-0500
TZOFFSETTO:-0600
TZNAME:CST
DTSTART:20261101T070000
END:STANDARD
END:VTIMEZONE
BEGIN:VEVENT
DTSTART;TZID=America/Chicago:20250408T063000
DTEND;TZID=America/Chicago:20250408T193000
DTSTAMP:20260423T191259
CREATED:20230110T220428Z
LAST-MODIFIED:20230110T220428Z
UID:10002590-1744093800-1744140600@www.flcduluth.org
SUMMARY:Tai-Chi
DESCRIPTION:
URL:https://www.flcduluth.org/event/tai-chi-3/2025-04-08/
CATEGORIES:Outside Group
END:VEVENT
BEGIN:VEVENT
DTSTART;TZID=America/Chicago:20250409T113000
DTEND;TZID=America/Chicago:20250409T130000
DTSTAMP:20260423T191259
CREATED:20230110T220749Z
LAST-MODIFIED:20230110T220749Z
UID:10002851-1744198200-1744203600@www.flcduluth.org
SUMMARY:Al-Anon
DESCRIPTION:
URL:https://www.flcduluth.org/event/al-anon/2025-04-09/
CATEGORIES:Outside Group
END:VEVENT
BEGIN:VEVENT
DTSTART;TZID=America/Chicago:20250412T090000
DTEND;TZID=America/Chicago:20250412T110000
DTSTAMP:20260423T191259
CREATED:20230110T222829Z
LAST-MODIFIED:20230110T223030Z
UID:10003486-1744448400-1744455600@www.flcduluth.org
SUMMARY:AA
DESCRIPTION:
URL:https://www.flcduluth.org/event/aa-3/2025-04-12/
CATEGORIES:Outside Group
END:VEVENT
BEGIN:VEVENT
DTSTART;TZID=America/Chicago:20250414T193000
DTEND;TZID=America/Chicago:20250414T210000
DTSTAMP:20260423T191259
CREATED:20230110T215936Z
LAST-MODIFIED:20230110T215936Z
UID:10002315-1744659000-1744664400@www.flcduluth.org
SUMMARY:Nar-Anon Meeting
DESCRIPTION:
URL:https://www.flcduluth.org/event/nar-anon-meeting/2025-04-14/
CATEGORIES:Outside Group
END:VEVENT
BEGIN:VEVENT
DTSTART;TZID=America/Chicago:20250415T063000
DTEND;TZID=America/Chicago:20250415T193000
DTSTAMP:20260423T191259
CREATED:20230110T220428Z
LAST-MODIFIED:20230110T220428Z
UID:10002591-1744698600-1744745400@www.flcduluth.org
SUMMARY:Tai-Chi
DESCRIPTION:
URL:https://www.flcduluth.org/event/tai-chi-3/2025-04-15/
CATEGORIES:Outside Group
END:VEVENT
BEGIN:VEVENT
DTSTART;TZID=America/Chicago:20250416T113000
DTEND;TZID=America/Chicago:20250416T130000
DTSTAMP:20260423T191259
CREATED:20230110T220749Z
LAST-MODIFIED:20230110T220749Z
UID:10002852-1744803000-1744808400@www.flcduluth.org
SUMMARY:Al-Anon
DESCRIPTION:
URL:https://www.flcduluth.org/event/al-anon/2025-04-16/
CATEGORIES:Outside Group
END:VEVENT
BEGIN:VEVENT
DTSTART;TZID=America/Chicago:20250417T183000
DTEND;TZID=America/Chicago:20250417T200000
DTSTAMP:20260423T191259
CREATED:20230110T223406Z
LAST-MODIFIED:20230110T223406Z
UID:10003659-1744914600-1744920000@www.flcduluth.org
SUMMARY:District AA Meeting
DESCRIPTION:
URL:https://www.flcduluth.org/event/district-aa-meeting-4/2025-04-17/
CATEGORIES:Outside Group
END:VEVENT
BEGIN:VEVENT
DTSTART;TZID=America/Chicago:20250419T090000
DTEND;TZID=America/Chicago:20250419T110000
DTSTAMP:20260423T191259
CREATED:20230110T222829Z
LAST-MODIFIED:20230110T223030Z
UID:10003487-1745053200-1745060400@www.flcduluth.org
SUMMARY:AA
DESCRIPTION:
URL:https://www.flcduluth.org/event/aa-3/2025-04-19/
CATEGORIES:Outside Group
END:VEVENT
BEGIN:VEVENT
DTSTART;TZID=America/Chicago:20250421T193000
DTEND;TZID=America/Chicago:20250421T210000
DTSTAMP:20260423T191259
CREATED:20230110T215936Z
LAST-MODIFIED:20230110T215936Z
UID:10002316-1745263800-1745269200@www.flcduluth.org
SUMMARY:Nar-Anon Meeting
DESCRIPTION:
URL:https://www.flcduluth.org/event/nar-anon-meeting/2025-04-21/
CATEGORIES:Outside Group
END:VEVENT
BEGIN:VEVENT
DTSTART;TZID=America/Chicago:20250422T063000
DTEND;TZID=America/Chicago:20250422T193000
DTSTAMP:20260423T191259
CREATED:20230110T220428Z
LAST-MODIFIED:20230110T220428Z
UID:10002592-1745303400-1745350200@www.flcduluth.org
SUMMARY:Tai-Chi
DESCRIPTION:
URL:https://www.flcduluth.org/event/tai-chi-3/2025-04-22/
CATEGORIES:Outside Group
END:VEVENT
BEGIN:VEVENT
DTSTART;TZID=America/Chicago:20250423T113000
DTEND;TZID=America/Chicago:20250423T130000
DTSTAMP:20260423T191259
CREATED:20230110T220749Z
LAST-MODIFIED:20230110T220749Z
UID:10002853-1745407800-1745413200@www.flcduluth.org
SUMMARY:Al-Anon
DESCRIPTION:
URL:https://www.flcduluth.org/event/al-anon/2025-04-23/
CATEGORIES:Outside Group
END:VEVENT
BEGIN:VEVENT
DTSTART;TZID=America/Chicago:20250426T090000
DTEND;TZID=America/Chicago:20250426T110000
DTSTAMP:20260423T191259
CREATED:20230110T222829Z
LAST-MODIFIED:20230110T223030Z
UID:10003488-1745658000-1745665200@www.flcduluth.org
SUMMARY:AA
DESCRIPTION:
URL:https://www.flcduluth.org/event/aa-3/2025-04-26/
CATEGORIES:Outside Group
END:VEVENT
BEGIN:VEVENT
DTSTART;TZID=America/Chicago:20250428T193000
DTEND;TZID=America/Chicago:20250428T210000
DTSTAMP:20260423T191259
CREATED:20230110T215936Z
LAST-MODIFIED:20230110T215936Z
UID:10002317-1745868600-1745874000@www.flcduluth.org
SUMMARY:Nar-Anon Meeting
DESCRIPTION:
URL:https://www.flcduluth.org/event/nar-anon-meeting/2025-04-28/
CATEGORIES:Outside Group
END:VEVENT
BEGIN:VEVENT
DTSTART;TZID=America/Chicago:20250429T063000
DTEND;TZID=America/Chicago:20250429T193000
DTSTAMP:20260423T191259
CREATED:20230110T220428Z
LAST-MODIFIED:20230110T220428Z
UID:10002593-1745908200-1745955000@www.flcduluth.org
SUMMARY:Tai-Chi
DESCRIPTION:
URL:https://www.flcduluth.org/event/tai-chi-3/2025-04-29/
CATEGORIES:Outside Group
END:VEVENT
BEGIN:VEVENT
DTSTART;TZID=America/Chicago:20250430T113000
DTEND;TZID=America/Chicago:20250430T130000
DTSTAMP:20260423T191259
CREATED:20230110T220749Z
LAST-MODIFIED:20230110T220749Z
UID:10002854-1746012600-1746018000@www.flcduluth.org
SUMMARY:Al-Anon
DESCRIPTION:
URL:https://www.flcduluth.org/event/al-anon/2025-04-30/
CATEGORIES:Outside Group
END:VEVENT
BEGIN:VEVENT
DTSTART;TZID=America/Chicago:20250503T090000
DTEND;TZID=America/Chicago:20250503T110000
DTSTAMP:20260423T191259
CREATED:20230110T222829Z
LAST-MODIFIED:20230110T223030Z
UID:10003489-1746262800-1746270000@www.flcduluth.org
SUMMARY:AA
DESCRIPTION:
URL:https://www.flcduluth.org/event/aa-3/2025-05-03/
CATEGORIES:Outside Group
END:VEVENT
BEGIN:VEVENT
DTSTART;TZID=America/Chicago:20250505T193000
DTEND;TZID=America/Chicago:20250505T210000
DTSTAMP:20260423T191259
CREATED:20230110T215936Z
LAST-MODIFIED:20230110T215936Z
UID:10002318-1746473400-1746478800@www.flcduluth.org
SUMMARY:Nar-Anon Meeting
DESCRIPTION:
URL:https://www.flcduluth.org/event/nar-anon-meeting/2025-05-05/
CATEGORIES:Outside Group
END:VEVENT
BEGIN:VEVENT
DTSTART;TZID=America/Chicago:20250506T063000
DTEND;TZID=America/Chicago:20250506T193000
DTSTAMP:20260423T191259
CREATED:20230110T220428Z
LAST-MODIFIED:20230110T220428Z
UID:10002594-1746513000-1746559800@www.flcduluth.org
SUMMARY:Tai-Chi
DESCRIPTION:
URL:https://www.flcduluth.org/event/tai-chi-3/2025-05-06/
CATEGORIES:Outside Group
END:VEVENT
BEGIN:VEVENT
DTSTART;TZID=America/Chicago:20250507T113000
DTEND;TZID=America/Chicago:20250507T130000
DTSTAMP:20260423T191259
CREATED:20230110T220749Z
LAST-MODIFIED:20230110T220749Z
UID:10002855-1746617400-1746622800@www.flcduluth.org
SUMMARY:Al-Anon
DESCRIPTION:
URL:https://www.flcduluth.org/event/al-anon/2025-05-07/
CATEGORIES:Outside Group
END:VEVENT
BEGIN:VEVENT
DTSTART;TZID=America/Chicago:20250510T090000
DTEND;TZID=America/Chicago:20250510T110000
DTSTAMP:20260423T191259
CREATED:20230110T222829Z
LAST-MODIFIED:20230110T223030Z
UID:10003490-1746867600-1746874800@www.flcduluth.org
SUMMARY:AA
DESCRIPTION:
URL:https://www.flcduluth.org/event/aa-3/2025-05-10/
CATEGORIES:Outside Group
END:VEVENT
BEGIN:VEVENT
DTSTART;TZID=America/Chicago:20250512T193000
DTEND;TZID=America/Chicago:20250512T210000
DTSTAMP:20260423T191259
CREATED:20230110T215936Z
LAST-MODIFIED:20230110T215936Z
UID:10002319-1747078200-1747083600@www.flcduluth.org
SUMMARY:Nar-Anon Meeting
DESCRIPTION:
URL:https://www.flcduluth.org/event/nar-anon-meeting/2025-05-12/
CATEGORIES:Outside Group
END:VEVENT
BEGIN:VEVENT
DTSTART;TZID=America/Chicago:20250513T063000
DTEND;TZID=America/Chicago:20250513T193000
DTSTAMP:20260423T191259
CREATED:20230110T220428Z
LAST-MODIFIED:20230110T220428Z
UID:10002595-1747117800-1747164600@www.flcduluth.org
SUMMARY:Tai-Chi
DESCRIPTION:
URL:https://www.flcduluth.org/event/tai-chi-3/2025-05-13/
CATEGORIES:Outside Group
END:VEVENT
BEGIN:VEVENT
DTSTART;TZID=America/Chicago:20250514T113000
DTEND;TZID=America/Chicago:20250514T130000
DTSTAMP:20260423T191259
CREATED:20230110T220749Z
LAST-MODIFIED:20230110T220749Z
UID:10002856-1747222200-1747227600@www.flcduluth.org
SUMMARY:Al-Anon
DESCRIPTION:
URL:https://www.flcduluth.org/event/al-anon/2025-05-14/
CATEGORIES:Outside Group
END:VEVENT
BEGIN:VEVENT
DTSTART;TZID=America/Chicago:20250515T183000
DTEND;TZID=America/Chicago:20250515T200000
DTSTAMP:20260423T191259
CREATED:20230110T223406Z
LAST-MODIFIED:20230110T223406Z
UID:10003660-1747333800-1747339200@www.flcduluth.org
SUMMARY:District AA Meeting
DESCRIPTION:
URL:https://www.flcduluth.org/event/district-aa-meeting-4/2025-05-15/
CATEGORIES:Outside Group
END:VEVENT
BEGIN:VEVENT
DTSTART;TZID=America/Chicago:20250517T090000
DTEND;TZID=America/Chicago:20250517T110000
DTSTAMP:20260423T191259
CREATED:20230110T222829Z
LAST-MODIFIED:20230110T223030Z
UID:10003491-1747472400-1747479600@www.flcduluth.org
SUMMARY:AA
DESCRIPTION:
URL:https://www.flcduluth.org/event/aa-3/2025-05-17/
CATEGORIES:Outside Group
END:VEVENT
BEGIN:VEVENT
DTSTART;TZID=America/Chicago:20250519T193000
DTEND;TZID=America/Chicago:20250519T210000
DTSTAMP:20260423T191259
CREATED:20230110T215936Z
LAST-MODIFIED:20230110T215936Z
UID:10002320-1747683000-1747688400@www.flcduluth.org
SUMMARY:Nar-Anon Meeting
DESCRIPTION:
URL:https://www.flcduluth.org/event/nar-anon-meeting/2025-05-19/
CATEGORIES:Outside Group
END:VEVENT
BEGIN:VEVENT
DTSTART;TZID=America/Chicago:20250520T063000
DTEND;TZID=America/Chicago:20250520T193000
DTSTAMP:20260423T191259
CREATED:20230110T220428Z
LAST-MODIFIED:20230110T220428Z
UID:10002596-1747722600-1747769400@www.flcduluth.org
SUMMARY:Tai-Chi
DESCRIPTION:
URL:https://www.flcduluth.org/event/tai-chi-3/2025-05-20/
CATEGORIES:Outside Group
END:VEVENT
BEGIN:VEVENT
DTSTART;TZID=America/Chicago:20250521T113000
DTEND;TZID=America/Chicago:20250521T130000
DTSTAMP:20260423T191259
CREATED:20230110T220749Z
LAST-MODIFIED:20230110T220749Z
UID:10002857-1747827000-1747832400@www.flcduluth.org
SUMMARY:Al-Anon
DESCRIPTION:
URL:https://www.flcduluth.org/event/al-anon/2025-05-21/
CATEGORIES:Outside Group
END:VEVENT
BEGIN:VEVENT
DTSTART;TZID=America/Chicago:20250524T090000
DTEND;TZID=America/Chicago:20250524T110000
DTSTAMP:20260423T191259
CREATED:20230110T222829Z
LAST-MODIFIED:20230110T223030Z
UID:10003492-1748077200-1748084400@www.flcduluth.org
SUMMARY:AA
DESCRIPTION:
URL:https://www.flcduluth.org/event/aa-3/2025-05-24/
CATEGORIES:Outside Group
END:VEVENT
BEGIN:VEVENT
DTSTART;TZID=America/Chicago:20250526T193000
DTEND;TZID=America/Chicago:20250526T210000
DTSTAMP:20260423T191259
CREATED:20230110T215936Z
LAST-MODIFIED:20230110T215936Z
UID:10002321-1748287800-1748293200@www.flcduluth.org
SUMMARY:Nar-Anon Meeting
DESCRIPTION:
URL:https://www.flcduluth.org/event/nar-anon-meeting/2025-05-26/
CATEGORIES:Outside Group
END:VEVENT
END:VCALENDAR