BEGIN:VCALENDAR
VERSION:2.0
PRODID:-//First Lutheran Church - ECPv6.15.20//NONSGML v1.0//EN
CALSCALE:GREGORIAN
METHOD:PUBLISH
X-WR-CALNAME:First Lutheran Church
X-ORIGINAL-URL:https://www.flcduluth.org
X-WR-CALDESC:Events for First Lutheran Church
REFRESH-INTERVAL;VALUE=DURATION:PT1H
X-Robots-Tag:noindex
X-PUBLISHED-TTL:PT1H
BEGIN:VTIMEZONE
TZID:America/Chicago
BEGIN:DAYLIGHT
TZOFFSETFROM:-0600
TZOFFSETTO:-0500
TZNAME:CDT
DTSTART:20240310T080000
END:DAYLIGHT
BEGIN:STANDARD
TZOFFSETFROM:-0500
TZOFFSETTO:-0600
TZNAME:CST
DTSTART:20241103T070000
END:STANDARD
BEGIN:DAYLIGHT
TZOFFSETFROM:-0600
TZOFFSETTO:-0500
TZNAME:CDT
DTSTART:20250309T080000
END:DAYLIGHT
BEGIN:STANDARD
TZOFFSETFROM:-0500
TZOFFSETTO:-0600
TZNAME:CST
DTSTART:20251102T070000
END:STANDARD
BEGIN:DAYLIGHT
TZOFFSETFROM:-0600
TZOFFSETTO:-0500
TZNAME:CDT
DTSTART:20260308T080000
END:DAYLIGHT
BEGIN:STANDARD
TZOFFSETFROM:-0500
TZOFFSETTO:-0600
TZNAME:CST
DTSTART:20261101T070000
END:STANDARD
END:VTIMEZONE
BEGIN:VEVENT
DTSTART;TZID=America/Chicago:20250510T090000
DTEND;TZID=America/Chicago:20250510T110000
DTSTAMP:20260423T173239
CREATED:20230110T222829Z
LAST-MODIFIED:20230110T223030Z
UID:10003490-1746867600-1746874800@www.flcduluth.org
SUMMARY:AA
DESCRIPTION:
URL:https://www.flcduluth.org/event/aa-3/2025-05-10/
CATEGORIES:Outside Group
END:VEVENT
BEGIN:VEVENT
DTSTART;TZID=America/Chicago:20250512T193000
DTEND;TZID=America/Chicago:20250512T210000
DTSTAMP:20260423T173239
CREATED:20230110T215936Z
LAST-MODIFIED:20230110T215936Z
UID:10002319-1747078200-1747083600@www.flcduluth.org
SUMMARY:Nar-Anon Meeting
DESCRIPTION:
URL:https://www.flcduluth.org/event/nar-anon-meeting/2025-05-12/
CATEGORIES:Outside Group
END:VEVENT
BEGIN:VEVENT
DTSTART;TZID=America/Chicago:20250513T063000
DTEND;TZID=America/Chicago:20250513T193000
DTSTAMP:20260423T173239
CREATED:20230110T220428Z
LAST-MODIFIED:20230110T220428Z
UID:10002595-1747117800-1747164600@www.flcduluth.org
SUMMARY:Tai-Chi
DESCRIPTION:
URL:https://www.flcduluth.org/event/tai-chi-3/2025-05-13/
CATEGORIES:Outside Group
END:VEVENT
BEGIN:VEVENT
DTSTART;TZID=America/Chicago:20250514T113000
DTEND;TZID=America/Chicago:20250514T130000
DTSTAMP:20260423T173239
CREATED:20230110T220749Z
LAST-MODIFIED:20230110T220749Z
UID:10002856-1747222200-1747227600@www.flcduluth.org
SUMMARY:Al-Anon
DESCRIPTION:
URL:https://www.flcduluth.org/event/al-anon/2025-05-14/
CATEGORIES:Outside Group
END:VEVENT
BEGIN:VEVENT
DTSTART;TZID=America/Chicago:20250515T183000
DTEND;TZID=America/Chicago:20250515T200000
DTSTAMP:20260423T173239
CREATED:20230110T223406Z
LAST-MODIFIED:20230110T223406Z
UID:10003660-1747333800-1747339200@www.flcduluth.org
SUMMARY:District AA Meeting
DESCRIPTION:
URL:https://www.flcduluth.org/event/district-aa-meeting-4/2025-05-15/
CATEGORIES:Outside Group
END:VEVENT
BEGIN:VEVENT
DTSTART;TZID=America/Chicago:20250517T090000
DTEND;TZID=America/Chicago:20250517T110000
DTSTAMP:20260423T173239
CREATED:20230110T222829Z
LAST-MODIFIED:20230110T223030Z
UID:10003491-1747472400-1747479600@www.flcduluth.org
SUMMARY:AA
DESCRIPTION:
URL:https://www.flcduluth.org/event/aa-3/2025-05-17/
CATEGORIES:Outside Group
END:VEVENT
BEGIN:VEVENT
DTSTART;TZID=America/Chicago:20250519T193000
DTEND;TZID=America/Chicago:20250519T210000
DTSTAMP:20260423T173240
CREATED:20230110T215936Z
LAST-MODIFIED:20230110T215936Z
UID:10002320-1747683000-1747688400@www.flcduluth.org
SUMMARY:Nar-Anon Meeting
DESCRIPTION:
URL:https://www.flcduluth.org/event/nar-anon-meeting/2025-05-19/
CATEGORIES:Outside Group
END:VEVENT
BEGIN:VEVENT
DTSTART;TZID=America/Chicago:20250520T063000
DTEND;TZID=America/Chicago:20250520T193000
DTSTAMP:20260423T173240
CREATED:20230110T220428Z
LAST-MODIFIED:20230110T220428Z
UID:10002596-1747722600-1747769400@www.flcduluth.org
SUMMARY:Tai-Chi
DESCRIPTION:
URL:https://www.flcduluth.org/event/tai-chi-3/2025-05-20/
CATEGORIES:Outside Group
END:VEVENT
BEGIN:VEVENT
DTSTART;TZID=America/Chicago:20250521T113000
DTEND;TZID=America/Chicago:20250521T130000
DTSTAMP:20260423T173240
CREATED:20230110T220749Z
LAST-MODIFIED:20230110T220749Z
UID:10002857-1747827000-1747832400@www.flcduluth.org
SUMMARY:Al-Anon
DESCRIPTION:
URL:https://www.flcduluth.org/event/al-anon/2025-05-21/
CATEGORIES:Outside Group
END:VEVENT
BEGIN:VEVENT
DTSTART;TZID=America/Chicago:20250524T090000
DTEND;TZID=America/Chicago:20250524T110000
DTSTAMP:20260423T173240
CREATED:20230110T222829Z
LAST-MODIFIED:20230110T223030Z
UID:10003492-1748077200-1748084400@www.flcduluth.org
SUMMARY:AA
DESCRIPTION:
URL:https://www.flcduluth.org/event/aa-3/2025-05-24/
CATEGORIES:Outside Group
END:VEVENT
BEGIN:VEVENT
DTSTART;TZID=America/Chicago:20250526T193000
DTEND;TZID=America/Chicago:20250526T210000
DTSTAMP:20260423T173240
CREATED:20230110T215936Z
LAST-MODIFIED:20230110T215936Z
UID:10002321-1748287800-1748293200@www.flcduluth.org
SUMMARY:Nar-Anon Meeting
DESCRIPTION:
URL:https://www.flcduluth.org/event/nar-anon-meeting/2025-05-26/
CATEGORIES:Outside Group
END:VEVENT
BEGIN:VEVENT
DTSTART;TZID=America/Chicago:20250527T063000
DTEND;TZID=America/Chicago:20250527T193000
DTSTAMP:20260423T173240
CREATED:20230110T220428Z
LAST-MODIFIED:20230110T220428Z
UID:10002597-1748327400-1748374200@www.flcduluth.org
SUMMARY:Tai-Chi
DESCRIPTION:
URL:https://www.flcduluth.org/event/tai-chi-3/2025-05-27/
CATEGORIES:Outside Group
END:VEVENT
BEGIN:VEVENT
DTSTART;TZID=America/Chicago:20250528T113000
DTEND;TZID=America/Chicago:20250528T130000
DTSTAMP:20260423T173240
CREATED:20230110T220749Z
LAST-MODIFIED:20230110T220749Z
UID:10002858-1748431800-1748437200@www.flcduluth.org
SUMMARY:Al-Anon
DESCRIPTION:
URL:https://www.flcduluth.org/event/al-anon/2025-05-28/
CATEGORIES:Outside Group
END:VEVENT
BEGIN:VEVENT
DTSTART;TZID=America/Chicago:20250531T090000
DTEND;TZID=America/Chicago:20250531T110000
DTSTAMP:20260423T173240
CREATED:20230110T222829Z
LAST-MODIFIED:20230110T223030Z
UID:10003493-1748682000-1748689200@www.flcduluth.org
SUMMARY:AA
DESCRIPTION:
URL:https://www.flcduluth.org/event/aa-3/2025-05-31/
CATEGORIES:Outside Group
END:VEVENT
BEGIN:VEVENT
DTSTART;TZID=America/Chicago:20250602T193000
DTEND;TZID=America/Chicago:20250602T210000
DTSTAMP:20260423T173240
CREATED:20230110T215936Z
LAST-MODIFIED:20230110T215936Z
UID:10002322-1748892600-1748898000@www.flcduluth.org
SUMMARY:Nar-Anon Meeting
DESCRIPTION:
URL:https://www.flcduluth.org/event/nar-anon-meeting/2025-06-02/
CATEGORIES:Outside Group
END:VEVENT
BEGIN:VEVENT
DTSTART;TZID=America/Chicago:20250603T063000
DTEND;TZID=America/Chicago:20250603T193000
DTSTAMP:20260423T173240
CREATED:20230110T220428Z
LAST-MODIFIED:20230110T220428Z
UID:10002598-1748932200-1748979000@www.flcduluth.org
SUMMARY:Tai-Chi
DESCRIPTION:
URL:https://www.flcduluth.org/event/tai-chi-3/2025-06-03/
CATEGORIES:Outside Group
END:VEVENT
BEGIN:VEVENT
DTSTART;TZID=America/Chicago:20250604T113000
DTEND;TZID=America/Chicago:20250604T130000
DTSTAMP:20260423T173240
CREATED:20230110T220749Z
LAST-MODIFIED:20230110T220749Z
UID:10002859-1749036600-1749042000@www.flcduluth.org
SUMMARY:Al-Anon
DESCRIPTION:
URL:https://www.flcduluth.org/event/al-anon/2025-06-04/
CATEGORIES:Outside Group
END:VEVENT
BEGIN:VEVENT
DTSTART;TZID=America/Chicago:20250607T090000
DTEND;TZID=America/Chicago:20250607T110000
DTSTAMP:20260423T173240
CREATED:20230110T222829Z
LAST-MODIFIED:20230110T223030Z
UID:10003494-1749286800-1749294000@www.flcduluth.org
SUMMARY:AA
DESCRIPTION:
URL:https://www.flcduluth.org/event/aa-3/2025-06-07/
CATEGORIES:Outside Group
END:VEVENT
BEGIN:VEVENT
DTSTART;TZID=America/Chicago:20250609T193000
DTEND;TZID=America/Chicago:20250609T210000
DTSTAMP:20260423T173240
CREATED:20230110T215936Z
LAST-MODIFIED:20230110T215936Z
UID:10002323-1749497400-1749502800@www.flcduluth.org
SUMMARY:Nar-Anon Meeting
DESCRIPTION:
URL:https://www.flcduluth.org/event/nar-anon-meeting/2025-06-09/
CATEGORIES:Outside Group
END:VEVENT
BEGIN:VEVENT
DTSTART;TZID=America/Chicago:20250610T063000
DTEND;TZID=America/Chicago:20250610T193000
DTSTAMP:20260423T173240
CREATED:20230110T220428Z
LAST-MODIFIED:20230110T220428Z
UID:10002599-1749537000-1749583800@www.flcduluth.org
SUMMARY:Tai-Chi
DESCRIPTION:
URL:https://www.flcduluth.org/event/tai-chi-3/2025-06-10/
CATEGORIES:Outside Group
END:VEVENT
BEGIN:VEVENT
DTSTART;TZID=America/Chicago:20250611T113000
DTEND;TZID=America/Chicago:20250611T130000
DTSTAMP:20260423T173240
CREATED:20230110T220749Z
LAST-MODIFIED:20230110T220749Z
UID:10002860-1749641400-1749646800@www.flcduluth.org
SUMMARY:Al-Anon
DESCRIPTION:
URL:https://www.flcduluth.org/event/al-anon/2025-06-11/
CATEGORIES:Outside Group
END:VEVENT
BEGIN:VEVENT
DTSTART;TZID=America/Chicago:20250614T090000
DTEND;TZID=America/Chicago:20250614T110000
DTSTAMP:20260423T173240
CREATED:20230110T222829Z
LAST-MODIFIED:20230110T223030Z
UID:10003495-1749891600-1749898800@www.flcduluth.org
SUMMARY:AA
DESCRIPTION:
URL:https://www.flcduluth.org/event/aa-3/2025-06-14/
CATEGORIES:Outside Group
END:VEVENT
BEGIN:VEVENT
DTSTART;TZID=America/Chicago:20250616T193000
DTEND;TZID=America/Chicago:20250616T210000
DTSTAMP:20260423T173240
CREATED:20230110T215936Z
LAST-MODIFIED:20230110T215936Z
UID:10002324-1750102200-1750107600@www.flcduluth.org
SUMMARY:Nar-Anon Meeting
DESCRIPTION:
URL:https://www.flcduluth.org/event/nar-anon-meeting/2025-06-16/
CATEGORIES:Outside Group
END:VEVENT
BEGIN:VEVENT
DTSTART;TZID=America/Chicago:20250617T063000
DTEND;TZID=America/Chicago:20250617T193000
DTSTAMP:20260423T173240
CREATED:20230110T220428Z
LAST-MODIFIED:20230110T220428Z
UID:10002600-1750141800-1750188600@www.flcduluth.org
SUMMARY:Tai-Chi
DESCRIPTION:
URL:https://www.flcduluth.org/event/tai-chi-3/2025-06-17/
CATEGORIES:Outside Group
END:VEVENT
BEGIN:VEVENT
DTSTART;TZID=America/Chicago:20250618T113000
DTEND;TZID=America/Chicago:20250618T130000
DTSTAMP:20260423T173240
CREATED:20230110T220749Z
LAST-MODIFIED:20230110T220749Z
UID:10002861-1750246200-1750251600@www.flcduluth.org
SUMMARY:Al-Anon
DESCRIPTION:
URL:https://www.flcduluth.org/event/al-anon/2025-06-18/
CATEGORIES:Outside Group
END:VEVENT
BEGIN:VEVENT
DTSTART;TZID=America/Chicago:20250619T183000
DTEND;TZID=America/Chicago:20250619T200000
DTSTAMP:20260423T173240
CREATED:20230110T223406Z
LAST-MODIFIED:20230110T223406Z
UID:10003661-1750357800-1750363200@www.flcduluth.org
SUMMARY:District AA Meeting
DESCRIPTION:
URL:https://www.flcduluth.org/event/district-aa-meeting-4/2025-06-19/
CATEGORIES:Outside Group
END:VEVENT
BEGIN:VEVENT
DTSTART;TZID=America/Chicago:20250621T090000
DTEND;TZID=America/Chicago:20250621T110000
DTSTAMP:20260423T173240
CREATED:20230110T222829Z
LAST-MODIFIED:20230110T223030Z
UID:10003496-1750496400-1750503600@www.flcduluth.org
SUMMARY:AA
DESCRIPTION:
URL:https://www.flcduluth.org/event/aa-3/2025-06-21/
CATEGORIES:Outside Group
END:VEVENT
BEGIN:VEVENT
DTSTART;TZID=America/Chicago:20250623T193000
DTEND;TZID=America/Chicago:20250623T210000
DTSTAMP:20260423T173240
CREATED:20230110T215936Z
LAST-MODIFIED:20230110T215936Z
UID:10002325-1750707000-1750712400@www.flcduluth.org
SUMMARY:Nar-Anon Meeting
DESCRIPTION:
URL:https://www.flcduluth.org/event/nar-anon-meeting/2025-06-23/
CATEGORIES:Outside Group
END:VEVENT
BEGIN:VEVENT
DTSTART;TZID=America/Chicago:20250624T063000
DTEND;TZID=America/Chicago:20250624T193000
DTSTAMP:20260423T173240
CREATED:20230110T220428Z
LAST-MODIFIED:20230110T220428Z
UID:10002601-1750746600-1750793400@www.flcduluth.org
SUMMARY:Tai-Chi
DESCRIPTION:
URL:https://www.flcduluth.org/event/tai-chi-3/2025-06-24/
CATEGORIES:Outside Group
END:VEVENT
BEGIN:VEVENT
DTSTART;TZID=America/Chicago:20250625T113000
DTEND;TZID=America/Chicago:20250625T130000
DTSTAMP:20260423T173240
CREATED:20230110T220749Z
LAST-MODIFIED:20230110T220749Z
UID:10002862-1750851000-1750856400@www.flcduluth.org
SUMMARY:Al-Anon
DESCRIPTION:
URL:https://www.flcduluth.org/event/al-anon/2025-06-25/
CATEGORIES:Outside Group
END:VEVENT
END:VCALENDAR