BEGIN:VCALENDAR
VERSION:2.0
PRODID:-//First Lutheran Church - ECPv6.15.20//NONSGML v1.0//EN
CALSCALE:GREGORIAN
METHOD:PUBLISH
X-WR-CALNAME:First Lutheran Church
X-ORIGINAL-URL:https://www.flcduluth.org
X-WR-CALDESC:Events for First Lutheran Church
REFRESH-INTERVAL;VALUE=DURATION:PT1H
X-Robots-Tag:noindex
X-PUBLISHED-TTL:PT1H
BEGIN:VTIMEZONE
TZID:America/Chicago
BEGIN:DAYLIGHT
TZOFFSETFROM:-0600
TZOFFSETTO:-0500
TZNAME:CDT
DTSTART:20230312T080000
END:DAYLIGHT
BEGIN:STANDARD
TZOFFSETFROM:-0500
TZOFFSETTO:-0600
TZNAME:CST
DTSTART:20231105T070000
END:STANDARD
BEGIN:DAYLIGHT
TZOFFSETFROM:-0600
TZOFFSETTO:-0500
TZNAME:CDT
DTSTART:20240310T080000
END:DAYLIGHT
BEGIN:STANDARD
TZOFFSETFROM:-0500
TZOFFSETTO:-0600
TZNAME:CST
DTSTART:20241103T070000
END:STANDARD
BEGIN:DAYLIGHT
TZOFFSETFROM:-0600
TZOFFSETTO:-0500
TZNAME:CDT
DTSTART:20250309T080000
END:DAYLIGHT
BEGIN:STANDARD
TZOFFSETFROM:-0500
TZOFFSETTO:-0600
TZNAME:CST
DTSTART:20251102T070000
END:STANDARD
END:VTIMEZONE
BEGIN:VEVENT
DTSTART;TZID=America/Chicago:20240109T063000
DTEND;TZID=America/Chicago:20240109T193000
DTSTAMP:20260425T071455
CREATED:20230110T220428Z
LAST-MODIFIED:20230110T220428Z
UID:10002525-1704781800-1704828600@www.flcduluth.org
SUMMARY:Tai-Chi
DESCRIPTION:
URL:https://www.flcduluth.org/event/tai-chi-3/2024-01-09/
CATEGORIES:Outside Group
END:VEVENT
BEGIN:VEVENT
DTSTART;TZID=America/Chicago:20240110T113000
DTEND;TZID=America/Chicago:20240110T130000
DTSTAMP:20260425T071455
CREATED:20230110T220749Z
LAST-MODIFIED:20230110T220749Z
UID:10002786-1704886200-1704891600@www.flcduluth.org
SUMMARY:Al-Anon
DESCRIPTION:
URL:https://www.flcduluth.org/event/al-anon/2024-01-10/
CATEGORIES:Outside Group
END:VEVENT
BEGIN:VEVENT
DTSTART;TZID=America/Chicago:20240113T090000
DTEND;TZID=America/Chicago:20240113T110000
DTSTAMP:20260425T071455
CREATED:20230110T222829Z
LAST-MODIFIED:20230110T223030Z
UID:10003421-1705136400-1705143600@www.flcduluth.org
SUMMARY:AA
DESCRIPTION:
URL:https://www.flcduluth.org/event/aa-3/2024-01-13/
CATEGORIES:Outside Group
END:VEVENT
BEGIN:VEVENT
DTSTART;TZID=America/Chicago:20240115T193000
DTEND;TZID=America/Chicago:20240115T210000
DTSTAMP:20260425T071455
CREATED:20230110T215936Z
LAST-MODIFIED:20230110T215936Z
UID:10002250-1705347000-1705352400@www.flcduluth.org
SUMMARY:Nar-Anon Meeting
DESCRIPTION:
URL:https://www.flcduluth.org/event/nar-anon-meeting/2024-01-15/
CATEGORIES:Outside Group
END:VEVENT
BEGIN:VEVENT
DTSTART;TZID=America/Chicago:20240116T063000
DTEND;TZID=America/Chicago:20240116T193000
DTSTAMP:20260425T071455
CREATED:20230110T220428Z
LAST-MODIFIED:20230110T220428Z
UID:10002526-1705386600-1705433400@www.flcduluth.org
SUMMARY:Tai-Chi
DESCRIPTION:
URL:https://www.flcduluth.org/event/tai-chi-3/2024-01-16/
CATEGORIES:Outside Group
END:VEVENT
BEGIN:VEVENT
DTSTART;TZID=America/Chicago:20240117T113000
DTEND;TZID=America/Chicago:20240117T130000
DTSTAMP:20260425T071455
CREATED:20230110T220749Z
LAST-MODIFIED:20230110T220749Z
UID:10002787-1705491000-1705496400@www.flcduluth.org
SUMMARY:Al-Anon
DESCRIPTION:
URL:https://www.flcduluth.org/event/al-anon/2024-01-17/
CATEGORIES:Outside Group
END:VEVENT
BEGIN:VEVENT
DTSTART;TZID=America/Chicago:20240118T183000
DTEND;TZID=America/Chicago:20240118T200000
DTSTAMP:20260425T071455
CREATED:20230110T223406Z
LAST-MODIFIED:20230110T223406Z
UID:10003644-1705602600-1705608000@www.flcduluth.org
SUMMARY:District AA Meeting
DESCRIPTION:
URL:https://www.flcduluth.org/event/district-aa-meeting-4/2024-01-18/
CATEGORIES:Outside Group
END:VEVENT
BEGIN:VEVENT
DTSTART;TZID=America/Chicago:20240120T090000
DTEND;TZID=America/Chicago:20240120T110000
DTSTAMP:20260425T071455
CREATED:20230110T222829Z
LAST-MODIFIED:20230110T223030Z
UID:10003422-1705741200-1705748400@www.flcduluth.org
SUMMARY:AA
DESCRIPTION:
URL:https://www.flcduluth.org/event/aa-3/2024-01-20/
CATEGORIES:Outside Group
END:VEVENT
BEGIN:VEVENT
DTSTART;TZID=America/Chicago:20240122T193000
DTEND;TZID=America/Chicago:20240122T210000
DTSTAMP:20260425T071455
CREATED:20230110T215936Z
LAST-MODIFIED:20230110T215936Z
UID:10002251-1705951800-1705957200@www.flcduluth.org
SUMMARY:Nar-Anon Meeting
DESCRIPTION:
URL:https://www.flcduluth.org/event/nar-anon-meeting/2024-01-22/
CATEGORIES:Outside Group
END:VEVENT
BEGIN:VEVENT
DTSTART;TZID=America/Chicago:20240123T063000
DTEND;TZID=America/Chicago:20240123T193000
DTSTAMP:20260425T071455
CREATED:20230110T220428Z
LAST-MODIFIED:20230110T220428Z
UID:10002527-1705991400-1706038200@www.flcduluth.org
SUMMARY:Tai-Chi
DESCRIPTION:
URL:https://www.flcduluth.org/event/tai-chi-3/2024-01-23/
CATEGORIES:Outside Group
END:VEVENT
BEGIN:VEVENT
DTSTART;TZID=America/Chicago:20240124T113000
DTEND;TZID=America/Chicago:20240124T130000
DTSTAMP:20260425T071455
CREATED:20230110T220749Z
LAST-MODIFIED:20230110T220749Z
UID:10002788-1706095800-1706101200@www.flcduluth.org
SUMMARY:Al-Anon
DESCRIPTION:
URL:https://www.flcduluth.org/event/al-anon/2024-01-24/
CATEGORIES:Outside Group
END:VEVENT
BEGIN:VEVENT
DTSTART;TZID=America/Chicago:20240127T090000
DTEND;TZID=America/Chicago:20240127T110000
DTSTAMP:20260425T071455
CREATED:20230110T222829Z
LAST-MODIFIED:20230110T223030Z
UID:10003423-1706346000-1706353200@www.flcduluth.org
SUMMARY:AA
DESCRIPTION:
URL:https://www.flcduluth.org/event/aa-3/2024-01-27/
CATEGORIES:Outside Group
END:VEVENT
BEGIN:VEVENT
DTSTART;TZID=America/Chicago:20240129T193000
DTEND;TZID=America/Chicago:20240129T210000
DTSTAMP:20260425T071455
CREATED:20230110T215936Z
LAST-MODIFIED:20230110T215936Z
UID:10002252-1706556600-1706562000@www.flcduluth.org
SUMMARY:Nar-Anon Meeting
DESCRIPTION:
URL:https://www.flcduluth.org/event/nar-anon-meeting/2024-01-29/
CATEGORIES:Outside Group
END:VEVENT
BEGIN:VEVENT
DTSTART;TZID=America/Chicago:20240130T063000
DTEND;TZID=America/Chicago:20240130T193000
DTSTAMP:20260425T071455
CREATED:20230110T220428Z
LAST-MODIFIED:20230110T220428Z
UID:10002528-1706596200-1706643000@www.flcduluth.org
SUMMARY:Tai-Chi
DESCRIPTION:
URL:https://www.flcduluth.org/event/tai-chi-3/2024-01-30/
CATEGORIES:Outside Group
END:VEVENT
BEGIN:VEVENT
DTSTART;TZID=America/Chicago:20240131T113000
DTEND;TZID=America/Chicago:20240131T130000
DTSTAMP:20260425T071455
CREATED:20230110T220749Z
LAST-MODIFIED:20230110T220749Z
UID:10002789-1706700600-1706706000@www.flcduluth.org
SUMMARY:Al-Anon
DESCRIPTION:
URL:https://www.flcduluth.org/event/al-anon/2024-01-31/
CATEGORIES:Outside Group
END:VEVENT
BEGIN:VEVENT
DTSTART;TZID=America/Chicago:20240203T090000
DTEND;TZID=America/Chicago:20240203T110000
DTSTAMP:20260425T071455
CREATED:20230110T222829Z
LAST-MODIFIED:20230110T223030Z
UID:10003424-1706950800-1706958000@www.flcduluth.org
SUMMARY:AA
DESCRIPTION:
URL:https://www.flcduluth.org/event/aa-3/2024-02-03/
CATEGORIES:Outside Group
END:VEVENT
BEGIN:VEVENT
DTSTART;TZID=America/Chicago:20240205T193000
DTEND;TZID=America/Chicago:20240205T210000
DTSTAMP:20260425T071455
CREATED:20230110T215936Z
LAST-MODIFIED:20230110T215936Z
UID:10002253-1707161400-1707166800@www.flcduluth.org
SUMMARY:Nar-Anon Meeting
DESCRIPTION:
URL:https://www.flcduluth.org/event/nar-anon-meeting/2024-02-05/
CATEGORIES:Outside Group
END:VEVENT
BEGIN:VEVENT
DTSTART;TZID=America/Chicago:20240206T063000
DTEND;TZID=America/Chicago:20240206T193000
DTSTAMP:20260425T071455
CREATED:20230110T220428Z
LAST-MODIFIED:20230110T220428Z
UID:10002529-1707201000-1707247800@www.flcduluth.org
SUMMARY:Tai-Chi
DESCRIPTION:
URL:https://www.flcduluth.org/event/tai-chi-3/2024-02-06/
CATEGORIES:Outside Group
END:VEVENT
BEGIN:VEVENT
DTSTART;TZID=America/Chicago:20240207T113000
DTEND;TZID=America/Chicago:20240207T130000
DTSTAMP:20260425T071455
CREATED:20230110T220749Z
LAST-MODIFIED:20230110T220749Z
UID:10002790-1707305400-1707310800@www.flcduluth.org
SUMMARY:Al-Anon
DESCRIPTION:
URL:https://www.flcduluth.org/event/al-anon/2024-02-07/
CATEGORIES:Outside Group
END:VEVENT
BEGIN:VEVENT
DTSTART;TZID=America/Chicago:20240210T090000
DTEND;TZID=America/Chicago:20240210T110000
DTSTAMP:20260425T071455
CREATED:20230110T222829Z
LAST-MODIFIED:20230110T223030Z
UID:10003425-1707555600-1707562800@www.flcduluth.org
SUMMARY:AA
DESCRIPTION:
URL:https://www.flcduluth.org/event/aa-3/2024-02-10/
CATEGORIES:Outside Group
END:VEVENT
BEGIN:VEVENT
DTSTART;TZID=America/Chicago:20240212T193000
DTEND;TZID=America/Chicago:20240212T210000
DTSTAMP:20260425T071455
CREATED:20230110T215936Z
LAST-MODIFIED:20230110T215936Z
UID:10002254-1707766200-1707771600@www.flcduluth.org
SUMMARY:Nar-Anon Meeting
DESCRIPTION:
URL:https://www.flcduluth.org/event/nar-anon-meeting/2024-02-12/
CATEGORIES:Outside Group
END:VEVENT
BEGIN:VEVENT
DTSTART;TZID=America/Chicago:20240213T063000
DTEND;TZID=America/Chicago:20240213T193000
DTSTAMP:20260425T071455
CREATED:20230110T220428Z
LAST-MODIFIED:20230110T220428Z
UID:10002530-1707805800-1707852600@www.flcduluth.org
SUMMARY:Tai-Chi
DESCRIPTION:
URL:https://www.flcduluth.org/event/tai-chi-3/2024-02-13/
CATEGORIES:Outside Group
END:VEVENT
BEGIN:VEVENT
DTSTART;TZID=America/Chicago:20240214T113000
DTEND;TZID=America/Chicago:20240214T130000
DTSTAMP:20260425T071455
CREATED:20230110T220749Z
LAST-MODIFIED:20230110T220749Z
UID:10002791-1707910200-1707915600@www.flcduluth.org
SUMMARY:Al-Anon
DESCRIPTION:
URL:https://www.flcduluth.org/event/al-anon/2024-02-14/
CATEGORIES:Outside Group
END:VEVENT
BEGIN:VEVENT
DTSTART;TZID=America/Chicago:20240215T183000
DTEND;TZID=America/Chicago:20240215T200000
DTSTAMP:20260425T071455
CREATED:20230110T223406Z
LAST-MODIFIED:20230110T223406Z
UID:10003645-1708021800-1708027200@www.flcduluth.org
SUMMARY:District AA Meeting
DESCRIPTION:
URL:https://www.flcduluth.org/event/district-aa-meeting-4/2024-02-15/
CATEGORIES:Outside Group
END:VEVENT
BEGIN:VEVENT
DTSTART;TZID=America/Chicago:20240217T090000
DTEND;TZID=America/Chicago:20240217T110000
DTSTAMP:20260425T071455
CREATED:20230110T222829Z
LAST-MODIFIED:20230110T223030Z
UID:10003426-1708160400-1708167600@www.flcduluth.org
SUMMARY:AA
DESCRIPTION:
URL:https://www.flcduluth.org/event/aa-3/2024-02-17/
CATEGORIES:Outside Group
END:VEVENT
BEGIN:VEVENT
DTSTART;TZID=America/Chicago:20240219T193000
DTEND;TZID=America/Chicago:20240219T210000
DTSTAMP:20260425T071455
CREATED:20230110T215936Z
LAST-MODIFIED:20230110T215936Z
UID:10002255-1708371000-1708376400@www.flcduluth.org
SUMMARY:Nar-Anon Meeting
DESCRIPTION:
URL:https://www.flcduluth.org/event/nar-anon-meeting/2024-02-19/
CATEGORIES:Outside Group
END:VEVENT
BEGIN:VEVENT
DTSTART;TZID=America/Chicago:20240220T063000
DTEND;TZID=America/Chicago:20240220T193000
DTSTAMP:20260425T071455
CREATED:20230110T220428Z
LAST-MODIFIED:20230110T220428Z
UID:10002531-1708410600-1708457400@www.flcduluth.org
SUMMARY:Tai-Chi
DESCRIPTION:
URL:https://www.flcduluth.org/event/tai-chi-3/2024-02-20/
CATEGORIES:Outside Group
END:VEVENT
BEGIN:VEVENT
DTSTART;TZID=America/Chicago:20240221T113000
DTEND;TZID=America/Chicago:20240221T130000
DTSTAMP:20260425T071455
CREATED:20230110T220749Z
LAST-MODIFIED:20230110T220749Z
UID:10002792-1708515000-1708520400@www.flcduluth.org
SUMMARY:Al-Anon
DESCRIPTION:
URL:https://www.flcduluth.org/event/al-anon/2024-02-21/
CATEGORIES:Outside Group
END:VEVENT
BEGIN:VEVENT
DTSTART;TZID=America/Chicago:20240224T090000
DTEND;TZID=America/Chicago:20240224T110000
DTSTAMP:20260425T071455
CREATED:20230110T222829Z
LAST-MODIFIED:20230110T223030Z
UID:10003427-1708765200-1708772400@www.flcduluth.org
SUMMARY:AA
DESCRIPTION:
URL:https://www.flcduluth.org/event/aa-3/2024-02-24/
CATEGORIES:Outside Group
END:VEVENT
BEGIN:VEVENT
DTSTART;TZID=America/Chicago:20240226T193000
DTEND;TZID=America/Chicago:20240226T210000
DTSTAMP:20260425T071455
CREATED:20230110T215936Z
LAST-MODIFIED:20230110T215936Z
UID:10002256-1708975800-1708981200@www.flcduluth.org
SUMMARY:Nar-Anon Meeting
DESCRIPTION:
URL:https://www.flcduluth.org/event/nar-anon-meeting/2024-02-26/
CATEGORIES:Outside Group
END:VEVENT
END:VCALENDAR