BEGIN:VCALENDAR
VERSION:2.0
PRODID:-//First Lutheran Church - ECPv6.15.20//NONSGML v1.0//EN
CALSCALE:GREGORIAN
METHOD:PUBLISH
X-WR-CALNAME:First Lutheran Church
X-ORIGINAL-URL:https://www.flcduluth.org
X-WR-CALDESC:Events for First Lutheran Church
REFRESH-INTERVAL;VALUE=DURATION:PT1H
X-Robots-Tag:noindex
X-PUBLISHED-TTL:PT1H
BEGIN:VTIMEZONE
TZID:America/Chicago
BEGIN:DAYLIGHT
TZOFFSETFROM:-0600
TZOFFSETTO:-0500
TZNAME:CDT
DTSTART:20230312T080000
END:DAYLIGHT
BEGIN:STANDARD
TZOFFSETFROM:-0500
TZOFFSETTO:-0600
TZNAME:CST
DTSTART:20231105T070000
END:STANDARD
BEGIN:DAYLIGHT
TZOFFSETFROM:-0600
TZOFFSETTO:-0500
TZNAME:CDT
DTSTART:20240310T080000
END:DAYLIGHT
BEGIN:STANDARD
TZOFFSETFROM:-0500
TZOFFSETTO:-0600
TZNAME:CST
DTSTART:20241103T070000
END:STANDARD
BEGIN:DAYLIGHT
TZOFFSETFROM:-0600
TZOFFSETTO:-0500
TZNAME:CDT
DTSTART:20250309T080000
END:DAYLIGHT
BEGIN:STANDARD
TZOFFSETFROM:-0500
TZOFFSETTO:-0600
TZNAME:CST
DTSTART:20251102T070000
END:STANDARD
END:VTIMEZONE
BEGIN:VEVENT
DTSTART;TZID=America/Chicago:20240604T063000
DTEND;TZID=America/Chicago:20240604T193000
DTSTAMP:20260425T071319
CREATED:20230110T220428Z
LAST-MODIFIED:20230110T220428Z
UID:10002546-1717482600-1717529400@www.flcduluth.org
SUMMARY:Tai-Chi
DESCRIPTION:
URL:https://www.flcduluth.org/event/tai-chi-3/2024-06-04/
CATEGORIES:Outside Group
END:VEVENT
BEGIN:VEVENT
DTSTART;TZID=America/Chicago:20240605T113000
DTEND;TZID=America/Chicago:20240605T130000
DTSTAMP:20260425T071319
CREATED:20230110T220749Z
LAST-MODIFIED:20230110T220749Z
UID:10002807-1717587000-1717592400@www.flcduluth.org
SUMMARY:Al-Anon
DESCRIPTION:
URL:https://www.flcduluth.org/event/al-anon/2024-06-05/
CATEGORIES:Outside Group
END:VEVENT
BEGIN:VEVENT
DTSTART;TZID=America/Chicago:20240608T090000
DTEND;TZID=America/Chicago:20240608T110000
DTSTAMP:20260425T071319
CREATED:20230110T222829Z
LAST-MODIFIED:20230110T223030Z
UID:10003442-1717837200-1717844400@www.flcduluth.org
SUMMARY:AA
DESCRIPTION:
URL:https://www.flcduluth.org/event/aa-3/2024-06-08/
CATEGORIES:Outside Group
END:VEVENT
BEGIN:VEVENT
DTSTART;TZID=America/Chicago:20240610T193000
DTEND;TZID=America/Chicago:20240610T210000
DTSTAMP:20260425T071319
CREATED:20230110T215936Z
LAST-MODIFIED:20230110T215936Z
UID:10002271-1718047800-1718053200@www.flcduluth.org
SUMMARY:Nar-Anon Meeting
DESCRIPTION:
URL:https://www.flcduluth.org/event/nar-anon-meeting/2024-06-10/
CATEGORIES:Outside Group
END:VEVENT
BEGIN:VEVENT
DTSTART;TZID=America/Chicago:20240611T063000
DTEND;TZID=America/Chicago:20240611T193000
DTSTAMP:20260425T071319
CREATED:20230110T220428Z
LAST-MODIFIED:20230110T220428Z
UID:10002547-1718087400-1718134200@www.flcduluth.org
SUMMARY:Tai-Chi
DESCRIPTION:
URL:https://www.flcduluth.org/event/tai-chi-3/2024-06-11/
CATEGORIES:Outside Group
END:VEVENT
BEGIN:VEVENT
DTSTART;TZID=America/Chicago:20240612T113000
DTEND;TZID=America/Chicago:20240612T130000
DTSTAMP:20260425T071319
CREATED:20230110T220749Z
LAST-MODIFIED:20230110T220749Z
UID:10002808-1718191800-1718197200@www.flcduluth.org
SUMMARY:Al-Anon
DESCRIPTION:
URL:https://www.flcduluth.org/event/al-anon/2024-06-12/
CATEGORIES:Outside Group
END:VEVENT
BEGIN:VEVENT
DTSTART;TZID=America/Chicago:20240615T090000
DTEND;TZID=America/Chicago:20240615T110000
DTSTAMP:20260425T071319
CREATED:20230110T222829Z
LAST-MODIFIED:20230110T223030Z
UID:10003443-1718442000-1718449200@www.flcduluth.org
SUMMARY:AA
DESCRIPTION:
URL:https://www.flcduluth.org/event/aa-3/2024-06-15/
CATEGORIES:Outside Group
END:VEVENT
BEGIN:VEVENT
DTSTART;TZID=America/Chicago:20240617T193000
DTEND;TZID=America/Chicago:20240617T210000
DTSTAMP:20260425T071319
CREATED:20230110T215936Z
LAST-MODIFIED:20230110T215936Z
UID:10002272-1718652600-1718658000@www.flcduluth.org
SUMMARY:Nar-Anon Meeting
DESCRIPTION:
URL:https://www.flcduluth.org/event/nar-anon-meeting/2024-06-17/
CATEGORIES:Outside Group
END:VEVENT
BEGIN:VEVENT
DTSTART;TZID=America/Chicago:20240618T063000
DTEND;TZID=America/Chicago:20240618T193000
DTSTAMP:20260425T071319
CREATED:20230110T220428Z
LAST-MODIFIED:20230110T220428Z
UID:10002548-1718692200-1718739000@www.flcduluth.org
SUMMARY:Tai-Chi
DESCRIPTION:
URL:https://www.flcduluth.org/event/tai-chi-3/2024-06-18/
CATEGORIES:Outside Group
END:VEVENT
BEGIN:VEVENT
DTSTART;TZID=America/Chicago:20240619T113000
DTEND;TZID=America/Chicago:20240619T130000
DTSTAMP:20260425T071319
CREATED:20230110T220749Z
LAST-MODIFIED:20230110T220749Z
UID:10002809-1718796600-1718802000@www.flcduluth.org
SUMMARY:Al-Anon
DESCRIPTION:
URL:https://www.flcduluth.org/event/al-anon/2024-06-19/
CATEGORIES:Outside Group
END:VEVENT
BEGIN:VEVENT
DTSTART;TZID=America/Chicago:20240620T183000
DTEND;TZID=America/Chicago:20240620T200000
DTSTAMP:20260425T071319
CREATED:20230110T223406Z
LAST-MODIFIED:20230110T223406Z
UID:10003649-1718908200-1718913600@www.flcduluth.org
SUMMARY:District AA Meeting
DESCRIPTION:
URL:https://www.flcduluth.org/event/district-aa-meeting-4/2024-06-20/
CATEGORIES:Outside Group
END:VEVENT
BEGIN:VEVENT
DTSTART;TZID=America/Chicago:20240622T090000
DTEND;TZID=America/Chicago:20240622T110000
DTSTAMP:20260425T071319
CREATED:20230110T222829Z
LAST-MODIFIED:20230110T223030Z
UID:10003444-1719046800-1719054000@www.flcduluth.org
SUMMARY:AA
DESCRIPTION:
URL:https://www.flcduluth.org/event/aa-3/2024-06-22/
CATEGORIES:Outside Group
END:VEVENT
BEGIN:VEVENT
DTSTART;TZID=America/Chicago:20240624T193000
DTEND;TZID=America/Chicago:20240624T210000
DTSTAMP:20260425T071319
CREATED:20230110T215936Z
LAST-MODIFIED:20230110T215936Z
UID:10002273-1719257400-1719262800@www.flcduluth.org
SUMMARY:Nar-Anon Meeting
DESCRIPTION:
URL:https://www.flcduluth.org/event/nar-anon-meeting/2024-06-24/
CATEGORIES:Outside Group
END:VEVENT
BEGIN:VEVENT
DTSTART;TZID=America/Chicago:20240625T063000
DTEND;TZID=America/Chicago:20240625T193000
DTSTAMP:20260425T071319
CREATED:20230110T220428Z
LAST-MODIFIED:20230110T220428Z
UID:10002549-1719297000-1719343800@www.flcduluth.org
SUMMARY:Tai-Chi
DESCRIPTION:
URL:https://www.flcduluth.org/event/tai-chi-3/2024-06-25/
CATEGORIES:Outside Group
END:VEVENT
BEGIN:VEVENT
DTSTART;TZID=America/Chicago:20240626T113000
DTEND;TZID=America/Chicago:20240626T130000
DTSTAMP:20260425T071319
CREATED:20230110T220749Z
LAST-MODIFIED:20230110T220749Z
UID:10002810-1719401400-1719406800@www.flcduluth.org
SUMMARY:Al-Anon
DESCRIPTION:
URL:https://www.flcduluth.org/event/al-anon/2024-06-26/
CATEGORIES:Outside Group
END:VEVENT
BEGIN:VEVENT
DTSTART;TZID=America/Chicago:20240629T090000
DTEND;TZID=America/Chicago:20240629T110000
DTSTAMP:20260425T071319
CREATED:20230110T222829Z
LAST-MODIFIED:20230110T223030Z
UID:10003445-1719651600-1719658800@www.flcduluth.org
SUMMARY:AA
DESCRIPTION:
URL:https://www.flcduluth.org/event/aa-3/2024-06-29/
CATEGORIES:Outside Group
END:VEVENT
BEGIN:VEVENT
DTSTART;TZID=America/Chicago:20240701T193000
DTEND;TZID=America/Chicago:20240701T210000
DTSTAMP:20260425T071319
CREATED:20230110T215936Z
LAST-MODIFIED:20230110T215936Z
UID:10002274-1719862200-1719867600@www.flcduluth.org
SUMMARY:Nar-Anon Meeting
DESCRIPTION:
URL:https://www.flcduluth.org/event/nar-anon-meeting/2024-07-01/
CATEGORIES:Outside Group
END:VEVENT
BEGIN:VEVENT
DTSTART;TZID=America/Chicago:20240702T063000
DTEND;TZID=America/Chicago:20240702T193000
DTSTAMP:20260425T071319
CREATED:20230110T220428Z
LAST-MODIFIED:20230110T220428Z
UID:10002550-1719901800-1719948600@www.flcduluth.org
SUMMARY:Tai-Chi
DESCRIPTION:
URL:https://www.flcduluth.org/event/tai-chi-3/2024-07-02/
CATEGORIES:Outside Group
END:VEVENT
BEGIN:VEVENT
DTSTART;TZID=America/Chicago:20240703T113000
DTEND;TZID=America/Chicago:20240703T130000
DTSTAMP:20260425T071319
CREATED:20230110T220749Z
LAST-MODIFIED:20230110T220749Z
UID:10002811-1720006200-1720011600@www.flcduluth.org
SUMMARY:Al-Anon
DESCRIPTION:
URL:https://www.flcduluth.org/event/al-anon/2024-07-03/
CATEGORIES:Outside Group
END:VEVENT
BEGIN:VEVENT
DTSTART;TZID=America/Chicago:20240706T090000
DTEND;TZID=America/Chicago:20240706T110000
DTSTAMP:20260425T071319
CREATED:20230110T222829Z
LAST-MODIFIED:20230110T223030Z
UID:10003446-1720256400-1720263600@www.flcduluth.org
SUMMARY:AA
DESCRIPTION:
URL:https://www.flcduluth.org/event/aa-3/2024-07-06/
CATEGORIES:Outside Group
END:VEVENT
BEGIN:VEVENT
DTSTART;TZID=America/Chicago:20240708T193000
DTEND;TZID=America/Chicago:20240708T210000
DTSTAMP:20260425T071319
CREATED:20230110T215936Z
LAST-MODIFIED:20230110T215936Z
UID:10002275-1720467000-1720472400@www.flcduluth.org
SUMMARY:Nar-Anon Meeting
DESCRIPTION:
URL:https://www.flcduluth.org/event/nar-anon-meeting/2024-07-08/
CATEGORIES:Outside Group
END:VEVENT
BEGIN:VEVENT
DTSTART;TZID=America/Chicago:20240709T063000
DTEND;TZID=America/Chicago:20240709T193000
DTSTAMP:20260425T071319
CREATED:20230110T220428Z
LAST-MODIFIED:20230110T220428Z
UID:10002551-1720506600-1720553400@www.flcduluth.org
SUMMARY:Tai-Chi
DESCRIPTION:
URL:https://www.flcduluth.org/event/tai-chi-3/2024-07-09/
CATEGORIES:Outside Group
END:VEVENT
BEGIN:VEVENT
DTSTART;TZID=America/Chicago:20240710T113000
DTEND;TZID=America/Chicago:20240710T130000
DTSTAMP:20260425T071319
CREATED:20230110T220749Z
LAST-MODIFIED:20230110T220749Z
UID:10002812-1720611000-1720616400@www.flcduluth.org
SUMMARY:Al-Anon
DESCRIPTION:
URL:https://www.flcduluth.org/event/al-anon/2024-07-10/
CATEGORIES:Outside Group
END:VEVENT
BEGIN:VEVENT
DTSTART;TZID=America/Chicago:20240713T090000
DTEND;TZID=America/Chicago:20240713T110000
DTSTAMP:20260425T071319
CREATED:20230110T222829Z
LAST-MODIFIED:20230110T223030Z
UID:10003447-1720861200-1720868400@www.flcduluth.org
SUMMARY:AA
DESCRIPTION:
URL:https://www.flcduluth.org/event/aa-3/2024-07-13/
CATEGORIES:Outside Group
END:VEVENT
BEGIN:VEVENT
DTSTART;TZID=America/Chicago:20240715T193000
DTEND;TZID=America/Chicago:20240715T210000
DTSTAMP:20260425T071319
CREATED:20230110T215936Z
LAST-MODIFIED:20230110T215936Z
UID:10002276-1721071800-1721077200@www.flcduluth.org
SUMMARY:Nar-Anon Meeting
DESCRIPTION:
URL:https://www.flcduluth.org/event/nar-anon-meeting/2024-07-15/
CATEGORIES:Outside Group
END:VEVENT
BEGIN:VEVENT
DTSTART;TZID=America/Chicago:20240716T063000
DTEND;TZID=America/Chicago:20240716T193000
DTSTAMP:20260425T071319
CREATED:20230110T220428Z
LAST-MODIFIED:20230110T220428Z
UID:10002552-1721111400-1721158200@www.flcduluth.org
SUMMARY:Tai-Chi
DESCRIPTION:
URL:https://www.flcduluth.org/event/tai-chi-3/2024-07-16/
CATEGORIES:Outside Group
END:VEVENT
BEGIN:VEVENT
DTSTART;TZID=America/Chicago:20240717T113000
DTEND;TZID=America/Chicago:20240717T130000
DTSTAMP:20260425T071319
CREATED:20230110T220749Z
LAST-MODIFIED:20230110T220749Z
UID:10002813-1721215800-1721221200@www.flcduluth.org
SUMMARY:Al-Anon
DESCRIPTION:
URL:https://www.flcduluth.org/event/al-anon/2024-07-17/
CATEGORIES:Outside Group
END:VEVENT
BEGIN:VEVENT
DTSTART;TZID=America/Chicago:20240718T183000
DTEND;TZID=America/Chicago:20240718T200000
DTSTAMP:20260425T071319
CREATED:20230110T223406Z
LAST-MODIFIED:20230110T223406Z
UID:10003650-1721327400-1721332800@www.flcduluth.org
SUMMARY:District AA Meeting
DESCRIPTION:
URL:https://www.flcduluth.org/event/district-aa-meeting-4/2024-07-18/
CATEGORIES:Outside Group
END:VEVENT
BEGIN:VEVENT
DTSTART;TZID=America/Chicago:20240720T090000
DTEND;TZID=America/Chicago:20240720T110000
DTSTAMP:20260425T071319
CREATED:20230110T222829Z
LAST-MODIFIED:20230110T223030Z
UID:10003448-1721466000-1721473200@www.flcduluth.org
SUMMARY:AA
DESCRIPTION:
URL:https://www.flcduluth.org/event/aa-3/2024-07-20/
CATEGORIES:Outside Group
END:VEVENT
BEGIN:VEVENT
DTSTART;TZID=America/Chicago:20240722T193000
DTEND;TZID=America/Chicago:20240722T210000
DTSTAMP:20260425T071319
CREATED:20230110T215936Z
LAST-MODIFIED:20230110T215936Z
UID:10002277-1721676600-1721682000@www.flcduluth.org
SUMMARY:Nar-Anon Meeting
DESCRIPTION:
URL:https://www.flcduluth.org/event/nar-anon-meeting/2024-07-22/
CATEGORIES:Outside Group
END:VEVENT
END:VCALENDAR