BEGIN:VCALENDAR
VERSION:2.0
PRODID:-//First Lutheran Church - ECPv6.15.20//NONSGML v1.0//EN
CALSCALE:GREGORIAN
METHOD:PUBLISH
X-WR-CALNAME:First Lutheran Church
X-ORIGINAL-URL:https://www.flcduluth.org
X-WR-CALDESC:Events for First Lutheran Church
REFRESH-INTERVAL;VALUE=DURATION:PT1H
X-Robots-Tag:noindex
X-PUBLISHED-TTL:PT1H
BEGIN:VTIMEZONE
TZID:America/Chicago
BEGIN:DAYLIGHT
TZOFFSETFROM:-0600
TZOFFSETTO:-0500
TZNAME:CDT
DTSTART:20230312T080000
END:DAYLIGHT
BEGIN:STANDARD
TZOFFSETFROM:-0500
TZOFFSETTO:-0600
TZNAME:CST
DTSTART:20231105T070000
END:STANDARD
BEGIN:DAYLIGHT
TZOFFSETFROM:-0600
TZOFFSETTO:-0500
TZNAME:CDT
DTSTART:20240310T080000
END:DAYLIGHT
BEGIN:STANDARD
TZOFFSETFROM:-0500
TZOFFSETTO:-0600
TZNAME:CST
DTSTART:20241103T070000
END:STANDARD
BEGIN:DAYLIGHT
TZOFFSETFROM:-0600
TZOFFSETTO:-0500
TZNAME:CDT
DTSTART:20250309T080000
END:DAYLIGHT
BEGIN:STANDARD
TZOFFSETFROM:-0500
TZOFFSETTO:-0600
TZNAME:CST
DTSTART:20251102T070000
END:STANDARD
END:VTIMEZONE
BEGIN:VEVENT
DTSTART;TZID=America/Chicago:20240729T193000
DTEND;TZID=America/Chicago:20240729T210000
DTSTAMP:20260425T071244
CREATED:20230110T215936Z
LAST-MODIFIED:20230110T215936Z
UID:10002278-1722281400-1722286800@www.flcduluth.org
SUMMARY:Nar-Anon Meeting
DESCRIPTION:
URL:https://www.flcduluth.org/event/nar-anon-meeting/2024-07-29/
CATEGORIES:Outside Group
END:VEVENT
BEGIN:VEVENT
DTSTART;TZID=America/Chicago:20240730T063000
DTEND;TZID=America/Chicago:20240730T193000
DTSTAMP:20260425T071244
CREATED:20230110T220428Z
LAST-MODIFIED:20230110T220428Z
UID:10002554-1722321000-1722367800@www.flcduluth.org
SUMMARY:Tai-Chi
DESCRIPTION:
URL:https://www.flcduluth.org/event/tai-chi-3/2024-07-30/
CATEGORIES:Outside Group
END:VEVENT
BEGIN:VEVENT
DTSTART;TZID=America/Chicago:20240731T113000
DTEND;TZID=America/Chicago:20240731T130000
DTSTAMP:20260425T071244
CREATED:20230110T220749Z
LAST-MODIFIED:20230110T220749Z
UID:10002815-1722425400-1722430800@www.flcduluth.org
SUMMARY:Al-Anon
DESCRIPTION:
URL:https://www.flcduluth.org/event/al-anon/2024-07-31/
CATEGORIES:Outside Group
END:VEVENT
BEGIN:VEVENT
DTSTART;TZID=America/Chicago:20240803T090000
DTEND;TZID=America/Chicago:20240803T110000
DTSTAMP:20260425T071244
CREATED:20230110T222829Z
LAST-MODIFIED:20230110T223030Z
UID:10003450-1722675600-1722682800@www.flcduluth.org
SUMMARY:AA
DESCRIPTION:
URL:https://www.flcduluth.org/event/aa-3/2024-08-03/
CATEGORIES:Outside Group
END:VEVENT
BEGIN:VEVENT
DTSTART;TZID=America/Chicago:20240805T193000
DTEND;TZID=America/Chicago:20240805T210000
DTSTAMP:20260425T071244
CREATED:20230110T215936Z
LAST-MODIFIED:20230110T215936Z
UID:10002279-1722886200-1722891600@www.flcduluth.org
SUMMARY:Nar-Anon Meeting
DESCRIPTION:
URL:https://www.flcduluth.org/event/nar-anon-meeting/2024-08-05/
CATEGORIES:Outside Group
END:VEVENT
BEGIN:VEVENT
DTSTART;TZID=America/Chicago:20240806T063000
DTEND;TZID=America/Chicago:20240806T193000
DTSTAMP:20260425T071244
CREATED:20230110T220428Z
LAST-MODIFIED:20230110T220428Z
UID:10002555-1722925800-1722972600@www.flcduluth.org
SUMMARY:Tai-Chi
DESCRIPTION:
URL:https://www.flcduluth.org/event/tai-chi-3/2024-08-06/
CATEGORIES:Outside Group
END:VEVENT
BEGIN:VEVENT
DTSTART;TZID=America/Chicago:20240807T113000
DTEND;TZID=America/Chicago:20240807T130000
DTSTAMP:20260425T071244
CREATED:20230110T220749Z
LAST-MODIFIED:20230110T220749Z
UID:10002816-1723030200-1723035600@www.flcduluth.org
SUMMARY:Al-Anon
DESCRIPTION:
URL:https://www.flcduluth.org/event/al-anon/2024-08-07/
CATEGORIES:Outside Group
END:VEVENT
BEGIN:VEVENT
DTSTART;TZID=America/Chicago:20240810T090000
DTEND;TZID=America/Chicago:20240810T110000
DTSTAMP:20260425T071244
CREATED:20230110T222829Z
LAST-MODIFIED:20230110T223030Z
UID:10003451-1723280400-1723287600@www.flcduluth.org
SUMMARY:AA
DESCRIPTION:
URL:https://www.flcduluth.org/event/aa-3/2024-08-10/
CATEGORIES:Outside Group
END:VEVENT
BEGIN:VEVENT
DTSTART;TZID=America/Chicago:20240812T193000
DTEND;TZID=America/Chicago:20240812T210000
DTSTAMP:20260425T071244
CREATED:20230110T215936Z
LAST-MODIFIED:20230110T215936Z
UID:10002280-1723491000-1723496400@www.flcduluth.org
SUMMARY:Nar-Anon Meeting
DESCRIPTION:
URL:https://www.flcduluth.org/event/nar-anon-meeting/2024-08-12/
CATEGORIES:Outside Group
END:VEVENT
BEGIN:VEVENT
DTSTART;TZID=America/Chicago:20240813T063000
DTEND;TZID=America/Chicago:20240813T193000
DTSTAMP:20260425T071244
CREATED:20230110T220428Z
LAST-MODIFIED:20230110T220428Z
UID:10002556-1723530600-1723577400@www.flcduluth.org
SUMMARY:Tai-Chi
DESCRIPTION:
URL:https://www.flcduluth.org/event/tai-chi-3/2024-08-13/
CATEGORIES:Outside Group
END:VEVENT
BEGIN:VEVENT
DTSTART;TZID=America/Chicago:20240814T113000
DTEND;TZID=America/Chicago:20240814T130000
DTSTAMP:20260425T071244
CREATED:20230110T220749Z
LAST-MODIFIED:20230110T220749Z
UID:10002817-1723635000-1723640400@www.flcduluth.org
SUMMARY:Al-Anon
DESCRIPTION:
URL:https://www.flcduluth.org/event/al-anon/2024-08-14/
CATEGORIES:Outside Group
END:VEVENT
BEGIN:VEVENT
DTSTART;TZID=America/Chicago:20240815T183000
DTEND;TZID=America/Chicago:20240815T200000
DTSTAMP:20260425T071244
CREATED:20230110T223406Z
LAST-MODIFIED:20230110T223406Z
UID:10003651-1723746600-1723752000@www.flcduluth.org
SUMMARY:District AA Meeting
DESCRIPTION:
URL:https://www.flcduluth.org/event/district-aa-meeting-4/2024-08-15/
CATEGORIES:Outside Group
END:VEVENT
BEGIN:VEVENT
DTSTART;TZID=America/Chicago:20240817T090000
DTEND;TZID=America/Chicago:20240817T110000
DTSTAMP:20260425T071244
CREATED:20230110T222829Z
LAST-MODIFIED:20230110T223030Z
UID:10003452-1723885200-1723892400@www.flcduluth.org
SUMMARY:AA
DESCRIPTION:
URL:https://www.flcduluth.org/event/aa-3/2024-08-17/
CATEGORIES:Outside Group
END:VEVENT
BEGIN:VEVENT
DTSTART;TZID=America/Chicago:20240819T193000
DTEND;TZID=America/Chicago:20240819T210000
DTSTAMP:20260425T071244
CREATED:20230110T215936Z
LAST-MODIFIED:20230110T215936Z
UID:10002281-1724095800-1724101200@www.flcduluth.org
SUMMARY:Nar-Anon Meeting
DESCRIPTION:
URL:https://www.flcduluth.org/event/nar-anon-meeting/2024-08-19/
CATEGORIES:Outside Group
END:VEVENT
BEGIN:VEVENT
DTSTART;TZID=America/Chicago:20240820T063000
DTEND;TZID=America/Chicago:20240820T193000
DTSTAMP:20260425T071244
CREATED:20230110T220428Z
LAST-MODIFIED:20230110T220428Z
UID:10002557-1724135400-1724182200@www.flcduluth.org
SUMMARY:Tai-Chi
DESCRIPTION:
URL:https://www.flcduluth.org/event/tai-chi-3/2024-08-20/
CATEGORIES:Outside Group
END:VEVENT
BEGIN:VEVENT
DTSTART;TZID=America/Chicago:20240821T113000
DTEND;TZID=America/Chicago:20240821T130000
DTSTAMP:20260425T071244
CREATED:20230110T220749Z
LAST-MODIFIED:20230110T220749Z
UID:10002818-1724239800-1724245200@www.flcduluth.org
SUMMARY:Al-Anon
DESCRIPTION:
URL:https://www.flcduluth.org/event/al-anon/2024-08-21/
CATEGORIES:Outside Group
END:VEVENT
BEGIN:VEVENT
DTSTART;TZID=America/Chicago:20240824T090000
DTEND;TZID=America/Chicago:20240824T110000
DTSTAMP:20260425T071244
CREATED:20230110T222829Z
LAST-MODIFIED:20230110T223030Z
UID:10003453-1724490000-1724497200@www.flcduluth.org
SUMMARY:AA
DESCRIPTION:
URL:https://www.flcduluth.org/event/aa-3/2024-08-24/
CATEGORIES:Outside Group
END:VEVENT
BEGIN:VEVENT
DTSTART;TZID=America/Chicago:20240826T193000
DTEND;TZID=America/Chicago:20240826T210000
DTSTAMP:20260425T071244
CREATED:20230110T215936Z
LAST-MODIFIED:20230110T215936Z
UID:10002282-1724700600-1724706000@www.flcduluth.org
SUMMARY:Nar-Anon Meeting
DESCRIPTION:
URL:https://www.flcduluth.org/event/nar-anon-meeting/2024-08-26/
CATEGORIES:Outside Group
END:VEVENT
BEGIN:VEVENT
DTSTART;TZID=America/Chicago:20240827T063000
DTEND;TZID=America/Chicago:20240827T193000
DTSTAMP:20260425T071244
CREATED:20230110T220428Z
LAST-MODIFIED:20230110T220428Z
UID:10002558-1724740200-1724787000@www.flcduluth.org
SUMMARY:Tai-Chi
DESCRIPTION:
URL:https://www.flcduluth.org/event/tai-chi-3/2024-08-27/
CATEGORIES:Outside Group
END:VEVENT
BEGIN:VEVENT
DTSTART;TZID=America/Chicago:20240828T113000
DTEND;TZID=America/Chicago:20240828T130000
DTSTAMP:20260425T071244
CREATED:20230110T220749Z
LAST-MODIFIED:20230110T220749Z
UID:10002819-1724844600-1724850000@www.flcduluth.org
SUMMARY:Al-Anon
DESCRIPTION:
URL:https://www.flcduluth.org/event/al-anon/2024-08-28/
CATEGORIES:Outside Group
END:VEVENT
BEGIN:VEVENT
DTSTART;TZID=America/Chicago:20240831T090000
DTEND;TZID=America/Chicago:20240831T110000
DTSTAMP:20260425T071244
CREATED:20230110T222829Z
LAST-MODIFIED:20230110T223030Z
UID:10003454-1725094800-1725102000@www.flcduluth.org
SUMMARY:AA
DESCRIPTION:
URL:https://www.flcduluth.org/event/aa-3/2024-08-31/
CATEGORIES:Outside Group
END:VEVENT
BEGIN:VEVENT
DTSTART;TZID=America/Chicago:20240902T193000
DTEND;TZID=America/Chicago:20240902T210000
DTSTAMP:20260425T071244
CREATED:20230110T215936Z
LAST-MODIFIED:20230110T215936Z
UID:10002283-1725305400-1725310800@www.flcduluth.org
SUMMARY:Nar-Anon Meeting
DESCRIPTION:
URL:https://www.flcduluth.org/event/nar-anon-meeting/2024-09-02/
CATEGORIES:Outside Group
END:VEVENT
BEGIN:VEVENT
DTSTART;TZID=America/Chicago:20240903T063000
DTEND;TZID=America/Chicago:20240903T193000
DTSTAMP:20260425T071244
CREATED:20230110T220428Z
LAST-MODIFIED:20230110T220428Z
UID:10002559-1725345000-1725391800@www.flcduluth.org
SUMMARY:Tai-Chi
DESCRIPTION:
URL:https://www.flcduluth.org/event/tai-chi-3/2024-09-03/
CATEGORIES:Outside Group
END:VEVENT
BEGIN:VEVENT
DTSTART;TZID=America/Chicago:20240904T113000
DTEND;TZID=America/Chicago:20240904T130000
DTSTAMP:20260425T071244
CREATED:20230110T220749Z
LAST-MODIFIED:20230110T220749Z
UID:10002820-1725449400-1725454800@www.flcduluth.org
SUMMARY:Al-Anon
DESCRIPTION:
URL:https://www.flcduluth.org/event/al-anon/2024-09-04/
CATEGORIES:Outside Group
END:VEVENT
BEGIN:VEVENT
DTSTART;TZID=America/Chicago:20240907T090000
DTEND;TZID=America/Chicago:20240907T110000
DTSTAMP:20260425T071244
CREATED:20230110T222829Z
LAST-MODIFIED:20230110T223030Z
UID:10003455-1725699600-1725706800@www.flcduluth.org
SUMMARY:AA
DESCRIPTION:
URL:https://www.flcduluth.org/event/aa-3/2024-09-07/
CATEGORIES:Outside Group
END:VEVENT
BEGIN:VEVENT
DTSTART;TZID=America/Chicago:20240909T193000
DTEND;TZID=America/Chicago:20240909T210000
DTSTAMP:20260425T071244
CREATED:20230110T215936Z
LAST-MODIFIED:20230110T215936Z
UID:10002284-1725910200-1725915600@www.flcduluth.org
SUMMARY:Nar-Anon Meeting
DESCRIPTION:
URL:https://www.flcduluth.org/event/nar-anon-meeting/2024-09-09/
CATEGORIES:Outside Group
END:VEVENT
BEGIN:VEVENT
DTSTART;TZID=America/Chicago:20240910T063000
DTEND;TZID=America/Chicago:20240910T193000
DTSTAMP:20260425T071244
CREATED:20230110T220428Z
LAST-MODIFIED:20230110T220428Z
UID:10002560-1725949800-1725996600@www.flcduluth.org
SUMMARY:Tai-Chi
DESCRIPTION:
URL:https://www.flcduluth.org/event/tai-chi-3/2024-09-10/
CATEGORIES:Outside Group
END:VEVENT
BEGIN:VEVENT
DTSTART;TZID=America/Chicago:20240911T113000
DTEND;TZID=America/Chicago:20240911T130000
DTSTAMP:20260425T071244
CREATED:20230110T220749Z
LAST-MODIFIED:20230110T220749Z
UID:10002821-1726054200-1726059600@www.flcduluth.org
SUMMARY:Al-Anon
DESCRIPTION:
URL:https://www.flcduluth.org/event/al-anon/2024-09-11/
CATEGORIES:Outside Group
END:VEVENT
BEGIN:VEVENT
DTSTART;TZID=America/Chicago:20240914T090000
DTEND;TZID=America/Chicago:20240914T110000
DTSTAMP:20260425T071244
CREATED:20230110T222829Z
LAST-MODIFIED:20230110T223030Z
UID:10003456-1726304400-1726311600@www.flcduluth.org
SUMMARY:AA
DESCRIPTION:
URL:https://www.flcduluth.org/event/aa-3/2024-09-14/
CATEGORIES:Outside Group
END:VEVENT
BEGIN:VEVENT
DTSTART;TZID=America/Chicago:20240916T193000
DTEND;TZID=America/Chicago:20240916T210000
DTSTAMP:20260425T071244
CREATED:20230110T215936Z
LAST-MODIFIED:20230110T215936Z
UID:10002285-1726515000-1726520400@www.flcduluth.org
SUMMARY:Nar-Anon Meeting
DESCRIPTION:
URL:https://www.flcduluth.org/event/nar-anon-meeting/2024-09-16/
CATEGORIES:Outside Group
END:VEVENT
END:VCALENDAR