BEGIN:VCALENDAR
VERSION:2.0
PRODID:-//First Lutheran Church - ECPv6.15.20//NONSGML v1.0//EN
CALSCALE:GREGORIAN
METHOD:PUBLISH
X-WR-CALNAME:First Lutheran Church
X-ORIGINAL-URL:https://www.flcduluth.org
X-WR-CALDESC:Events for First Lutheran Church
REFRESH-INTERVAL;VALUE=DURATION:PT1H
X-Robots-Tag:noindex
X-PUBLISHED-TTL:PT1H
BEGIN:VTIMEZONE
TZID:America/Chicago
BEGIN:DAYLIGHT
TZOFFSETFROM:-0600
TZOFFSETTO:-0500
TZNAME:CDT
DTSTART:20240310T080000
END:DAYLIGHT
BEGIN:STANDARD
TZOFFSETFROM:-0500
TZOFFSETTO:-0600
TZNAME:CST
DTSTART:20241103T070000
END:STANDARD
BEGIN:DAYLIGHT
TZOFFSETFROM:-0600
TZOFFSETTO:-0500
TZNAME:CDT
DTSTART:20250309T080000
END:DAYLIGHT
BEGIN:STANDARD
TZOFFSETFROM:-0500
TZOFFSETTO:-0600
TZNAME:CST
DTSTART:20251102T070000
END:STANDARD
BEGIN:DAYLIGHT
TZOFFSETFROM:-0600
TZOFFSETTO:-0500
TZNAME:CDT
DTSTART:20260308T080000
END:DAYLIGHT
BEGIN:STANDARD
TZOFFSETFROM:-0500
TZOFFSETTO:-0600
TZNAME:CST
DTSTART:20261101T070000
END:STANDARD
END:VTIMEZONE
BEGIN:VEVENT
DTSTART;TZID=America/Chicago:20250802T090000
DTEND;TZID=America/Chicago:20250802T110000
DTSTAMP:20260423T191147
CREATED:20230110T222829Z
LAST-MODIFIED:20230110T223030Z
UID:10003502-1754125200-1754132400@www.flcduluth.org
SUMMARY:AA
DESCRIPTION:
URL:https://www.flcduluth.org/event/aa-3/2025-08-02/
CATEGORIES:Outside Group
END:VEVENT
BEGIN:VEVENT
DTSTART;TZID=America/Chicago:20250804T193000
DTEND;TZID=America/Chicago:20250804T210000
DTSTAMP:20260423T191147
CREATED:20230110T215936Z
LAST-MODIFIED:20230110T215936Z
UID:10002331-1754335800-1754341200@www.flcduluth.org
SUMMARY:Nar-Anon Meeting
DESCRIPTION:
URL:https://www.flcduluth.org/event/nar-anon-meeting/2025-08-04/
CATEGORIES:Outside Group
END:VEVENT
BEGIN:VEVENT
DTSTART;TZID=America/Chicago:20250805T063000
DTEND;TZID=America/Chicago:20250805T193000
DTSTAMP:20260423T191147
CREATED:20230110T220428Z
LAST-MODIFIED:20230110T220428Z
UID:10002607-1754375400-1754422200@www.flcduluth.org
SUMMARY:Tai-Chi
DESCRIPTION:
URL:https://www.flcduluth.org/event/tai-chi-3/2025-08-05/
CATEGORIES:Outside Group
END:VEVENT
BEGIN:VEVENT
DTSTART;TZID=America/Chicago:20250806T113000
DTEND;TZID=America/Chicago:20250806T130000
DTSTAMP:20260423T191147
CREATED:20230110T220749Z
LAST-MODIFIED:20230110T220749Z
UID:10002868-1754479800-1754485200@www.flcduluth.org
SUMMARY:Al-Anon
DESCRIPTION:
URL:https://www.flcduluth.org/event/al-anon/2025-08-06/
CATEGORIES:Outside Group
END:VEVENT
BEGIN:VEVENT
DTSTART;TZID=America/Chicago:20250809T090000
DTEND;TZID=America/Chicago:20250809T110000
DTSTAMP:20260423T191147
CREATED:20230110T222829Z
LAST-MODIFIED:20230110T223030Z
UID:10003503-1754730000-1754737200@www.flcduluth.org
SUMMARY:AA
DESCRIPTION:
URL:https://www.flcduluth.org/event/aa-3/2025-08-09/
CATEGORIES:Outside Group
END:VEVENT
BEGIN:VEVENT
DTSTART;TZID=America/Chicago:20250811T193000
DTEND;TZID=America/Chicago:20250811T210000
DTSTAMP:20260423T191147
CREATED:20230110T215936Z
LAST-MODIFIED:20230110T215936Z
UID:10002332-1754940600-1754946000@www.flcduluth.org
SUMMARY:Nar-Anon Meeting
DESCRIPTION:
URL:https://www.flcduluth.org/event/nar-anon-meeting/2025-08-11/
CATEGORIES:Outside Group
END:VEVENT
BEGIN:VEVENT
DTSTART;TZID=America/Chicago:20250812T063000
DTEND;TZID=America/Chicago:20250812T193000
DTSTAMP:20260423T191147
CREATED:20230110T220428Z
LAST-MODIFIED:20230110T220428Z
UID:10002608-1754980200-1755027000@www.flcduluth.org
SUMMARY:Tai-Chi
DESCRIPTION:
URL:https://www.flcduluth.org/event/tai-chi-3/2025-08-12/
CATEGORIES:Outside Group
END:VEVENT
BEGIN:VEVENT
DTSTART;TZID=America/Chicago:20250813T113000
DTEND;TZID=America/Chicago:20250813T130000
DTSTAMP:20260423T191147
CREATED:20230110T220749Z
LAST-MODIFIED:20230110T220749Z
UID:10002869-1755084600-1755090000@www.flcduluth.org
SUMMARY:Al-Anon
DESCRIPTION:
URL:https://www.flcduluth.org/event/al-anon/2025-08-13/
CATEGORIES:Outside Group
END:VEVENT
BEGIN:VEVENT
DTSTART;TZID=America/Chicago:20250816T090000
DTEND;TZID=America/Chicago:20250816T110000
DTSTAMP:20260423T191147
CREATED:20230110T222829Z
LAST-MODIFIED:20230110T223030Z
UID:10003504-1755334800-1755342000@www.flcduluth.org
SUMMARY:AA
DESCRIPTION:
URL:https://www.flcduluth.org/event/aa-3/2025-08-16/
CATEGORIES:Outside Group
END:VEVENT
BEGIN:VEVENT
DTSTART;TZID=America/Chicago:20250818T193000
DTEND;TZID=America/Chicago:20250818T210000
DTSTAMP:20260423T191147
CREATED:20230110T215936Z
LAST-MODIFIED:20230110T215936Z
UID:10002333-1755545400-1755550800@www.flcduluth.org
SUMMARY:Nar-Anon Meeting
DESCRIPTION:
URL:https://www.flcduluth.org/event/nar-anon-meeting/2025-08-18/
CATEGORIES:Outside Group
END:VEVENT
BEGIN:VEVENT
DTSTART;TZID=America/Chicago:20250819T063000
DTEND;TZID=America/Chicago:20250819T193000
DTSTAMP:20260423T191147
CREATED:20230110T220428Z
LAST-MODIFIED:20230110T220428Z
UID:10002609-1755585000-1755631800@www.flcduluth.org
SUMMARY:Tai-Chi
DESCRIPTION:
URL:https://www.flcduluth.org/event/tai-chi-3/2025-08-19/
CATEGORIES:Outside Group
END:VEVENT
BEGIN:VEVENT
DTSTART;TZID=America/Chicago:20250820T113000
DTEND;TZID=America/Chicago:20250820T130000
DTSTAMP:20260423T191147
CREATED:20230110T220749Z
LAST-MODIFIED:20230110T220749Z
UID:10002870-1755689400-1755694800@www.flcduluth.org
SUMMARY:Al-Anon
DESCRIPTION:
URL:https://www.flcduluth.org/event/al-anon/2025-08-20/
CATEGORIES:Outside Group
END:VEVENT
BEGIN:VEVENT
DTSTART;TZID=America/Chicago:20250821T183000
DTEND;TZID=America/Chicago:20250821T200000
DTSTAMP:20260423T191147
CREATED:20230110T223406Z
LAST-MODIFIED:20230110T223406Z
UID:10003663-1755801000-1755806400@www.flcduluth.org
SUMMARY:District AA Meeting
DESCRIPTION:
URL:https://www.flcduluth.org/event/district-aa-meeting-4/2025-08-21/
CATEGORIES:Outside Group
END:VEVENT
BEGIN:VEVENT
DTSTART;TZID=America/Chicago:20250823T090000
DTEND;TZID=America/Chicago:20250823T110000
DTSTAMP:20260423T191147
CREATED:20230110T222829Z
LAST-MODIFIED:20230110T223030Z
UID:10003505-1755939600-1755946800@www.flcduluth.org
SUMMARY:AA
DESCRIPTION:
URL:https://www.flcduluth.org/event/aa-3/2025-08-23/
CATEGORIES:Outside Group
END:VEVENT
BEGIN:VEVENT
DTSTART;TZID=America/Chicago:20250825T193000
DTEND;TZID=America/Chicago:20250825T210000
DTSTAMP:20260423T191147
CREATED:20230110T215936Z
LAST-MODIFIED:20230110T215936Z
UID:10002334-1756150200-1756155600@www.flcduluth.org
SUMMARY:Nar-Anon Meeting
DESCRIPTION:
URL:https://www.flcduluth.org/event/nar-anon-meeting/2025-08-25/
CATEGORIES:Outside Group
END:VEVENT
BEGIN:VEVENT
DTSTART;TZID=America/Chicago:20250826T063000
DTEND;TZID=America/Chicago:20250826T193000
DTSTAMP:20260423T191147
CREATED:20230110T220428Z
LAST-MODIFIED:20230110T220428Z
UID:10002610-1756189800-1756236600@www.flcduluth.org
SUMMARY:Tai-Chi
DESCRIPTION:
URL:https://www.flcduluth.org/event/tai-chi-3/2025-08-26/
CATEGORIES:Outside Group
END:VEVENT
BEGIN:VEVENT
DTSTART;TZID=America/Chicago:20250827T113000
DTEND;TZID=America/Chicago:20250827T130000
DTSTAMP:20260423T191147
CREATED:20230110T220749Z
LAST-MODIFIED:20230110T220749Z
UID:10002871-1756294200-1756299600@www.flcduluth.org
SUMMARY:Al-Anon
DESCRIPTION:
URL:https://www.flcduluth.org/event/al-anon/2025-08-27/
CATEGORIES:Outside Group
END:VEVENT
BEGIN:VEVENT
DTSTART;TZID=America/Chicago:20250830T090000
DTEND;TZID=America/Chicago:20250830T110000
DTSTAMP:20260423T191147
CREATED:20230110T222829Z
LAST-MODIFIED:20230110T223030Z
UID:10003506-1756544400-1756551600@www.flcduluth.org
SUMMARY:AA
DESCRIPTION:
URL:https://www.flcduluth.org/event/aa-3/2025-08-30/
CATEGORIES:Outside Group
END:VEVENT
BEGIN:VEVENT
DTSTART;TZID=America/Chicago:20250901T193000
DTEND;TZID=America/Chicago:20250901T210000
DTSTAMP:20260423T191147
CREATED:20230110T215936Z
LAST-MODIFIED:20230110T215936Z
UID:10002335-1756755000-1756760400@www.flcduluth.org
SUMMARY:Nar-Anon Meeting
DESCRIPTION:
URL:https://www.flcduluth.org/event/nar-anon-meeting/2025-09-01/
CATEGORIES:Outside Group
END:VEVENT
BEGIN:VEVENT
DTSTART;TZID=America/Chicago:20250902T063000
DTEND;TZID=America/Chicago:20250902T193000
DTSTAMP:20260423T191147
CREATED:20230110T220428Z
LAST-MODIFIED:20230110T220428Z
UID:10002611-1756794600-1756841400@www.flcduluth.org
SUMMARY:Tai-Chi
DESCRIPTION:
URL:https://www.flcduluth.org/event/tai-chi-3/2025-09-02/
CATEGORIES:Outside Group
END:VEVENT
BEGIN:VEVENT
DTSTART;TZID=America/Chicago:20250903T113000
DTEND;TZID=America/Chicago:20250903T130000
DTSTAMP:20260423T191147
CREATED:20230110T220749Z
LAST-MODIFIED:20230110T220749Z
UID:10002872-1756899000-1756904400@www.flcduluth.org
SUMMARY:Al-Anon
DESCRIPTION:
URL:https://www.flcduluth.org/event/al-anon/2025-09-03/
CATEGORIES:Outside Group
END:VEVENT
BEGIN:VEVENT
DTSTART;TZID=America/Chicago:20250906T090000
DTEND;TZID=America/Chicago:20250906T110000
DTSTAMP:20260423T191147
CREATED:20230110T222829Z
LAST-MODIFIED:20230110T223030Z
UID:10003507-1757149200-1757156400@www.flcduluth.org
SUMMARY:AA
DESCRIPTION:
URL:https://www.flcduluth.org/event/aa-3/2025-09-06/
CATEGORIES:Outside Group
END:VEVENT
BEGIN:VEVENT
DTSTART;TZID=America/Chicago:20250908T193000
DTEND;TZID=America/Chicago:20250908T210000
DTSTAMP:20260423T191147
CREATED:20230110T215936Z
LAST-MODIFIED:20230110T215936Z
UID:10002336-1757359800-1757365200@www.flcduluth.org
SUMMARY:Nar-Anon Meeting
DESCRIPTION:
URL:https://www.flcduluth.org/event/nar-anon-meeting/2025-09-08/
CATEGORIES:Outside Group
END:VEVENT
BEGIN:VEVENT
DTSTART;TZID=America/Chicago:20250909T063000
DTEND;TZID=America/Chicago:20250909T193000
DTSTAMP:20260423T191147
CREATED:20230110T220428Z
LAST-MODIFIED:20230110T220428Z
UID:10002612-1757399400-1757446200@www.flcduluth.org
SUMMARY:Tai-Chi
DESCRIPTION:
URL:https://www.flcduluth.org/event/tai-chi-3/2025-09-09/
CATEGORIES:Outside Group
END:VEVENT
BEGIN:VEVENT
DTSTART;TZID=America/Chicago:20250910T113000
DTEND;TZID=America/Chicago:20250910T130000
DTSTAMP:20260423T191147
CREATED:20230110T220749Z
LAST-MODIFIED:20230110T220749Z
UID:10002873-1757503800-1757509200@www.flcduluth.org
SUMMARY:Al-Anon
DESCRIPTION:
URL:https://www.flcduluth.org/event/al-anon/2025-09-10/
CATEGORIES:Outside Group
END:VEVENT
BEGIN:VEVENT
DTSTART;TZID=America/Chicago:20250913T090000
DTEND;TZID=America/Chicago:20250913T110000
DTSTAMP:20260423T191147
CREATED:20230110T222829Z
LAST-MODIFIED:20230110T223030Z
UID:10003508-1757754000-1757761200@www.flcduluth.org
SUMMARY:AA
DESCRIPTION:
URL:https://www.flcduluth.org/event/aa-3/2025-09-13/
CATEGORIES:Outside Group
END:VEVENT
BEGIN:VEVENT
DTSTART;TZID=America/Chicago:20250915T193000
DTEND;TZID=America/Chicago:20250915T210000
DTSTAMP:20260423T191147
CREATED:20230110T215936Z
LAST-MODIFIED:20230110T215936Z
UID:10002337-1757964600-1757970000@www.flcduluth.org
SUMMARY:Nar-Anon Meeting
DESCRIPTION:
URL:https://www.flcduluth.org/event/nar-anon-meeting/2025-09-15/
CATEGORIES:Outside Group
END:VEVENT
BEGIN:VEVENT
DTSTART;TZID=America/Chicago:20250916T063000
DTEND;TZID=America/Chicago:20250916T193000
DTSTAMP:20260423T191147
CREATED:20230110T220428Z
LAST-MODIFIED:20230110T220428Z
UID:10002613-1758004200-1758051000@www.flcduluth.org
SUMMARY:Tai-Chi
DESCRIPTION:
URL:https://www.flcduluth.org/event/tai-chi-3/2025-09-16/
CATEGORIES:Outside Group
END:VEVENT
BEGIN:VEVENT
DTSTART;TZID=America/Chicago:20250917T113000
DTEND;TZID=America/Chicago:20250917T130000
DTSTAMP:20260423T191147
CREATED:20230110T220749Z
LAST-MODIFIED:20230110T220749Z
UID:10002874-1758108600-1758114000@www.flcduluth.org
SUMMARY:Al-Anon
DESCRIPTION:
URL:https://www.flcduluth.org/event/al-anon/2025-09-17/
CATEGORIES:Outside Group
END:VEVENT
BEGIN:VEVENT
DTSTART;TZID=America/Chicago:20250918T183000
DTEND;TZID=America/Chicago:20250918T200000
DTSTAMP:20260423T191147
CREATED:20230110T223406Z
LAST-MODIFIED:20230110T223406Z
UID:10003664-1758220200-1758225600@www.flcduluth.org
SUMMARY:District AA Meeting
DESCRIPTION:
URL:https://www.flcduluth.org/event/district-aa-meeting-4/2025-09-18/
CATEGORIES:Outside Group
END:VEVENT
END:VCALENDAR