BEGIN:VCALENDAR
VERSION:2.0
PRODID:-//First Lutheran Church - ECPv6.15.20//NONSGML v1.0//EN
CALSCALE:GREGORIAN
METHOD:PUBLISH
X-WR-CALNAME:First Lutheran Church
X-ORIGINAL-URL:https://www.flcduluth.org
X-WR-CALDESC:Events for First Lutheran Church
REFRESH-INTERVAL;VALUE=DURATION:PT1H
X-Robots-Tag:noindex
X-PUBLISHED-TTL:PT1H
BEGIN:VTIMEZONE
TZID:America/Chicago
BEGIN:DAYLIGHT
TZOFFSETFROM:-0600
TZOFFSETTO:-0500
TZNAME:CDT
DTSTART:20250309T080000
END:DAYLIGHT
BEGIN:STANDARD
TZOFFSETFROM:-0500
TZOFFSETTO:-0600
TZNAME:CST
DTSTART:20251102T070000
END:STANDARD
BEGIN:DAYLIGHT
TZOFFSETFROM:-0600
TZOFFSETTO:-0500
TZNAME:CDT
DTSTART:20260308T080000
END:DAYLIGHT
BEGIN:STANDARD
TZOFFSETFROM:-0500
TZOFFSETTO:-0600
TZNAME:CST
DTSTART:20261101T070000
END:STANDARD
BEGIN:DAYLIGHT
TZOFFSETFROM:-0600
TZOFFSETTO:-0500
TZNAME:CDT
DTSTART:20270314T080000
END:DAYLIGHT
BEGIN:STANDARD
TZOFFSETFROM:-0500
TZOFFSETTO:-0600
TZNAME:CST
DTSTART:20271107T070000
END:STANDARD
BEGIN:DAYLIGHT
TZOFFSETFROM:-0600
TZOFFSETTO:-0500
TZNAME:CDT
DTSTART:20280312T080000
END:DAYLIGHT
BEGIN:STANDARD
TZOFFSETFROM:-0500
TZOFFSETTO:-0600
TZNAME:CST
DTSTART:20281105T070000
END:STANDARD
END:VTIMEZONE
BEGIN:VEVENT
DTSTART;TZID=America/Chicago:20261209T113000
DTEND;TZID=America/Chicago:20261209T130000
DTSTAMP:20260424T101058
CREATED:20230110T220749Z
LAST-MODIFIED:20230110T220749Z
UID:10002938-1796815800-1796821200@www.flcduluth.org
SUMMARY:Al-Anon
DESCRIPTION:
URL:https://www.flcduluth.org/event/al-anon/2026-12-09/
CATEGORIES:Outside Group
END:VEVENT
BEGIN:VEVENT
DTSTART;TZID=America/Chicago:20261212T090000
DTEND;TZID=America/Chicago:20261212T110000
DTSTAMP:20260424T101058
CREATED:20230110T222829Z
LAST-MODIFIED:20230110T223030Z
UID:10003573-1797066000-1797073200@www.flcduluth.org
SUMMARY:AA
DESCRIPTION:
URL:https://www.flcduluth.org/event/aa-3/2026-12-12/
CATEGORIES:Outside Group
END:VEVENT
BEGIN:VEVENT
DTSTART;TZID=America/Chicago:20261214T193000
DTEND;TZID=America/Chicago:20261214T210000
DTSTAMP:20260424T101058
CREATED:20230110T215936Z
LAST-MODIFIED:20230110T215936Z
UID:10002402-1797276600-1797282000@www.flcduluth.org
SUMMARY:Nar-Anon Meeting
DESCRIPTION:
URL:https://www.flcduluth.org/event/nar-anon-meeting/2026-12-14/
CATEGORIES:Outside Group
END:VEVENT
BEGIN:VEVENT
DTSTART;TZID=America/Chicago:20261215T063000
DTEND;TZID=America/Chicago:20261215T193000
DTSTAMP:20260424T101058
CREATED:20230110T220428Z
LAST-MODIFIED:20230110T220428Z
UID:10002678-1797316200-1797363000@www.flcduluth.org
SUMMARY:Tai-Chi
DESCRIPTION:
URL:https://www.flcduluth.org/event/tai-chi-3/2026-12-15/
CATEGORIES:Outside Group
END:VEVENT
BEGIN:VEVENT
DTSTART;TZID=America/Chicago:20261216T113000
DTEND;TZID=America/Chicago:20261216T130000
DTSTAMP:20260424T101058
CREATED:20230110T220749Z
LAST-MODIFIED:20230110T220749Z
UID:10002939-1797420600-1797426000@www.flcduluth.org
SUMMARY:Al-Anon
DESCRIPTION:
URL:https://www.flcduluth.org/event/al-anon/2026-12-16/
CATEGORIES:Outside Group
END:VEVENT
BEGIN:VEVENT
DTSTART;TZID=America/Chicago:20261217T183000
DTEND;TZID=America/Chicago:20261217T200000
DTSTAMP:20260424T101058
CREATED:20230110T223406Z
LAST-MODIFIED:20230110T223406Z
UID:10003679-1797532200-1797537600@www.flcduluth.org
SUMMARY:District AA Meeting
DESCRIPTION:
URL:https://www.flcduluth.org/event/district-aa-meeting-4/2026-12-17/
CATEGORIES:Outside Group
END:VEVENT
BEGIN:VEVENT
DTSTART;TZID=America/Chicago:20261219T090000
DTEND;TZID=America/Chicago:20261219T110000
DTSTAMP:20260424T101058
CREATED:20230110T222829Z
LAST-MODIFIED:20230110T223030Z
UID:10003574-1797670800-1797678000@www.flcduluth.org
SUMMARY:AA
DESCRIPTION:
URL:https://www.flcduluth.org/event/aa-3/2026-12-19/
CATEGORIES:Outside Group
END:VEVENT
BEGIN:VEVENT
DTSTART;TZID=America/Chicago:20261221T193000
DTEND;TZID=America/Chicago:20261221T210000
DTSTAMP:20260424T101058
CREATED:20230110T215936Z
LAST-MODIFIED:20230110T215936Z
UID:10002403-1797881400-1797886800@www.flcduluth.org
SUMMARY:Nar-Anon Meeting
DESCRIPTION:
URL:https://www.flcduluth.org/event/nar-anon-meeting/2026-12-21/
CATEGORIES:Outside Group
END:VEVENT
BEGIN:VEVENT
DTSTART;TZID=America/Chicago:20261222T063000
DTEND;TZID=America/Chicago:20261222T193000
DTSTAMP:20260424T101058
CREATED:20230110T220428Z
LAST-MODIFIED:20230110T220428Z
UID:10002679-1797921000-1797967800@www.flcduluth.org
SUMMARY:Tai-Chi
DESCRIPTION:
URL:https://www.flcduluth.org/event/tai-chi-3/2026-12-22/
CATEGORIES:Outside Group
END:VEVENT
BEGIN:VEVENT
DTSTART;TZID=America/Chicago:20261223T113000
DTEND;TZID=America/Chicago:20261223T130000
DTSTAMP:20260424T101058
CREATED:20230110T220749Z
LAST-MODIFIED:20230110T220749Z
UID:10002940-1798025400-1798030800@www.flcduluth.org
SUMMARY:Al-Anon
DESCRIPTION:
URL:https://www.flcduluth.org/event/al-anon/2026-12-23/
CATEGORIES:Outside Group
END:VEVENT
BEGIN:VEVENT
DTSTART;TZID=America/Chicago:20261226T090000
DTEND;TZID=America/Chicago:20261226T110000
DTSTAMP:20260424T101058
CREATED:20230110T222829Z
LAST-MODIFIED:20230110T223030Z
UID:10003575-1798275600-1798282800@www.flcduluth.org
SUMMARY:AA
DESCRIPTION:
URL:https://www.flcduluth.org/event/aa-3/2026-12-26/
CATEGORIES:Outside Group
END:VEVENT
BEGIN:VEVENT
DTSTART;TZID=America/Chicago:20261228T193000
DTEND;TZID=America/Chicago:20261228T210000
DTSTAMP:20260424T101058
CREATED:20230110T215936Z
LAST-MODIFIED:20230110T215936Z
UID:10002404-1798486200-1798491600@www.flcduluth.org
SUMMARY:Nar-Anon Meeting
DESCRIPTION:
URL:https://www.flcduluth.org/event/nar-anon-meeting/2026-12-28/
CATEGORIES:Outside Group
END:VEVENT
BEGIN:VEVENT
DTSTART;TZID=America/Chicago:20261229T063000
DTEND;TZID=America/Chicago:20261229T193000
DTSTAMP:20260424T101058
CREATED:20230110T220428Z
LAST-MODIFIED:20230110T220428Z
UID:10002680-1798525800-1798572600@www.flcduluth.org
SUMMARY:Tai-Chi
DESCRIPTION:
URL:https://www.flcduluth.org/event/tai-chi-3/2026-12-29/
CATEGORIES:Outside Group
END:VEVENT
BEGIN:VEVENT
DTSTART;TZID=America/Chicago:20261230T113000
DTEND;TZID=America/Chicago:20261230T130000
DTSTAMP:20260424T101058
CREATED:20230110T220749Z
LAST-MODIFIED:20230110T220749Z
UID:10002941-1798630200-1798635600@www.flcduluth.org
SUMMARY:Al-Anon
DESCRIPTION:
URL:https://www.flcduluth.org/event/al-anon/2026-12-30/
CATEGORIES:Outside Group
END:VEVENT
BEGIN:VEVENT
DTSTART;TZID=America/Chicago:20270102T090000
DTEND;TZID=America/Chicago:20270102T110000
DTSTAMP:20260424T101058
CREATED:20230110T222829Z
LAST-MODIFIED:20230110T223030Z
UID:10003576-1798880400-1798887600@www.flcduluth.org
SUMMARY:AA
DESCRIPTION:
URL:https://www.flcduluth.org/event/aa-3/2027-01-02/
CATEGORIES:Outside Group
END:VEVENT
BEGIN:VEVENT
DTSTART;TZID=America/Chicago:20270104T193000
DTEND;TZID=America/Chicago:20270104T210000
DTSTAMP:20260424T101058
CREATED:20230110T215936Z
LAST-MODIFIED:20230110T215936Z
UID:10002405-1799091000-1799096400@www.flcduluth.org
SUMMARY:Nar-Anon Meeting
DESCRIPTION:
URL:https://www.flcduluth.org/event/nar-anon-meeting/2027-01-04/
CATEGORIES:Outside Group
END:VEVENT
BEGIN:VEVENT
DTSTART;TZID=America/Chicago:20270105T063000
DTEND;TZID=America/Chicago:20270105T193000
DTSTAMP:20260424T101058
CREATED:20230110T220428Z
LAST-MODIFIED:20230110T220428Z
UID:10002681-1799130600-1799177400@www.flcduluth.org
SUMMARY:Tai-Chi
DESCRIPTION:
URL:https://www.flcduluth.org/event/tai-chi-3/2027-01-05/
CATEGORIES:Outside Group
END:VEVENT
BEGIN:VEVENT
DTSTART;TZID=America/Chicago:20270106T113000
DTEND;TZID=America/Chicago:20270106T130000
DTSTAMP:20260424T101058
CREATED:20230110T220749Z
LAST-MODIFIED:20230110T220749Z
UID:10002942-1799235000-1799240400@www.flcduluth.org
SUMMARY:Al-Anon
DESCRIPTION:
URL:https://www.flcduluth.org/event/al-anon/2027-01-06/
CATEGORIES:Outside Group
END:VEVENT
BEGIN:VEVENT
DTSTART;TZID=America/Chicago:20270109T090000
DTEND;TZID=America/Chicago:20270109T110000
DTSTAMP:20260424T101058
CREATED:20230110T222829Z
LAST-MODIFIED:20230110T223030Z
UID:10003577-1799485200-1799492400@www.flcduluth.org
SUMMARY:AA
DESCRIPTION:
URL:https://www.flcduluth.org/event/aa-3/2027-01-09/
CATEGORIES:Outside Group
END:VEVENT
BEGIN:VEVENT
DTSTART;TZID=America/Chicago:20270111T193000
DTEND;TZID=America/Chicago:20270111T210000
DTSTAMP:20260424T101058
CREATED:20230110T215936Z
LAST-MODIFIED:20230110T215936Z
UID:10002406-1799695800-1799701200@www.flcduluth.org
SUMMARY:Nar-Anon Meeting
DESCRIPTION:
URL:https://www.flcduluth.org/event/nar-anon-meeting/2027-01-11/
CATEGORIES:Outside Group
END:VEVENT
BEGIN:VEVENT
DTSTART;TZID=America/Chicago:20270112T063000
DTEND;TZID=America/Chicago:20270112T193000
DTSTAMP:20260424T101058
CREATED:20230110T220428Z
LAST-MODIFIED:20230110T220428Z
UID:10002682-1799735400-1799782200@www.flcduluth.org
SUMMARY:Tai-Chi
DESCRIPTION:
URL:https://www.flcduluth.org/event/tai-chi-3/2027-01-12/
CATEGORIES:Outside Group
END:VEVENT
BEGIN:VEVENT
DTSTART;TZID=America/Chicago:20270113T113000
DTEND;TZID=America/Chicago:20270113T130000
DTSTAMP:20260424T101058
CREATED:20230110T220749Z
LAST-MODIFIED:20230110T220749Z
UID:10002943-1799839800-1799845200@www.flcduluth.org
SUMMARY:Al-Anon
DESCRIPTION:
URL:https://www.flcduluth.org/event/al-anon/2027-01-13/
CATEGORIES:Outside Group
END:VEVENT
BEGIN:VEVENT
DTSTART;TZID=America/Chicago:20270116T090000
DTEND;TZID=America/Chicago:20270116T110000
DTSTAMP:20260424T101058
CREATED:20230110T222829Z
LAST-MODIFIED:20230110T223030Z
UID:10003578-1800090000-1800097200@www.flcduluth.org
SUMMARY:AA
DESCRIPTION:
URL:https://www.flcduluth.org/event/aa-3/2027-01-16/
CATEGORIES:Outside Group
END:VEVENT
BEGIN:VEVENT
DTSTART;TZID=America/Chicago:20270118T193000
DTEND;TZID=America/Chicago:20270118T210000
DTSTAMP:20260424T101058
CREATED:20230110T215936Z
LAST-MODIFIED:20230110T215936Z
UID:10002407-1800300600-1800306000@www.flcduluth.org
SUMMARY:Nar-Anon Meeting
DESCRIPTION:
URL:https://www.flcduluth.org/event/nar-anon-meeting/2027-01-18/
CATEGORIES:Outside Group
END:VEVENT
BEGIN:VEVENT
DTSTART;TZID=America/Chicago:20270119T063000
DTEND;TZID=America/Chicago:20270119T193000
DTSTAMP:20260424T101058
CREATED:20230110T220428Z
LAST-MODIFIED:20230110T220428Z
UID:10002683-1800340200-1800387000@www.flcduluth.org
SUMMARY:Tai-Chi
DESCRIPTION:
URL:https://www.flcduluth.org/event/tai-chi-3/2027-01-19/
CATEGORIES:Outside Group
END:VEVENT
BEGIN:VEVENT
DTSTART;TZID=America/Chicago:20270120T113000
DTEND;TZID=America/Chicago:20270120T130000
DTSTAMP:20260424T101058
CREATED:20230110T220749Z
LAST-MODIFIED:20230110T220749Z
UID:10002944-1800444600-1800450000@www.flcduluth.org
SUMMARY:Al-Anon
DESCRIPTION:
URL:https://www.flcduluth.org/event/al-anon/2027-01-20/
CATEGORIES:Outside Group
END:VEVENT
BEGIN:VEVENT
DTSTART;TZID=America/Chicago:20270121T183000
DTEND;TZID=America/Chicago:20270121T200000
DTSTAMP:20260424T101058
CREATED:20230110T223406Z
LAST-MODIFIED:20230110T223406Z
UID:10003680-1800556200-1800561600@www.flcduluth.org
SUMMARY:District AA Meeting
DESCRIPTION:
URL:https://www.flcduluth.org/event/district-aa-meeting-4/2027-01-21/
CATEGORIES:Outside Group
END:VEVENT
BEGIN:VEVENT
DTSTART;TZID=America/Chicago:20270123T090000
DTEND;TZID=America/Chicago:20270123T110000
DTSTAMP:20260424T101058
CREATED:20230110T222829Z
LAST-MODIFIED:20230110T223030Z
UID:10003579-1800694800-1800702000@www.flcduluth.org
SUMMARY:AA
DESCRIPTION:
URL:https://www.flcduluth.org/event/aa-3/2027-01-23/
CATEGORIES:Outside Group
END:VEVENT
BEGIN:VEVENT
DTSTART;TZID=America/Chicago:20270125T193000
DTEND;TZID=America/Chicago:20270125T210000
DTSTAMP:20260424T101058
CREATED:20230110T215936Z
LAST-MODIFIED:20230110T215936Z
UID:10002408-1800905400-1800910800@www.flcduluth.org
SUMMARY:Nar-Anon Meeting
DESCRIPTION:
URL:https://www.flcduluth.org/event/nar-anon-meeting/2027-01-25/
CATEGORIES:Outside Group
END:VEVENT
BEGIN:VEVENT
DTSTART;TZID=America/Chicago:20270126T063000
DTEND;TZID=America/Chicago:20270126T193000
DTSTAMP:20260424T101058
CREATED:20230110T220428Z
LAST-MODIFIED:20230110T220428Z
UID:10002684-1800945000-1800991800@www.flcduluth.org
SUMMARY:Tai-Chi
DESCRIPTION:
URL:https://www.flcduluth.org/event/tai-chi-3/2027-01-26/
CATEGORIES:Outside Group
END:VEVENT
END:VCALENDAR