BEGIN:VCALENDAR
VERSION:2.0
PRODID:-//First Lutheran Church - ECPv6.15.20//NONSGML v1.0//EN
CALSCALE:GREGORIAN
METHOD:PUBLISH
X-ORIGINAL-URL:https://www.flcduluth.org
X-WR-CALDESC:Events for First Lutheran Church
REFRESH-INTERVAL;VALUE=DURATION:PT1H
X-Robots-Tag:noindex
X-PUBLISHED-TTL:PT1H
BEGIN:VTIMEZONE
TZID:America/Chicago
BEGIN:DAYLIGHT
TZOFFSETFROM:-0600
TZOFFSETTO:-0500
TZNAME:CDT
DTSTART:20240310T080000
END:DAYLIGHT
BEGIN:STANDARD
TZOFFSETFROM:-0500
TZOFFSETTO:-0600
TZNAME:CST
DTSTART:20241103T070000
END:STANDARD
BEGIN:DAYLIGHT
TZOFFSETFROM:-0600
TZOFFSETTO:-0500
TZNAME:CDT
DTSTART:20250309T080000
END:DAYLIGHT
BEGIN:STANDARD
TZOFFSETFROM:-0500
TZOFFSETTO:-0600
TZNAME:CST
DTSTART:20251102T070000
END:STANDARD
BEGIN:DAYLIGHT
TZOFFSETFROM:-0600
TZOFFSETTO:-0500
TZNAME:CDT
DTSTART:20260308T080000
END:DAYLIGHT
BEGIN:STANDARD
TZOFFSETFROM:-0500
TZOFFSETTO:-0600
TZNAME:CST
DTSTART:20261101T070000
END:STANDARD
END:VTIMEZONE
BEGIN:VEVENT
DTSTART;TZID=America/Chicago:20250208T090000
DTEND;TZID=America/Chicago:20250208T110000
DTSTAMP:20260424T101757
CREATED:20230110T222829Z
LAST-MODIFIED:20230110T223030Z
UID:10003477-1739005200-1739012400@www.flcduluth.org
SUMMARY:AA
DESCRIPTION:
URL:https://www.flcduluth.org/event/aa-3/2025-02-08/
CATEGORIES:Outside Group
END:VEVENT
BEGIN:VEVENT
DTSTART;TZID=America/Chicago:20250210T193000
DTEND;TZID=America/Chicago:20250210T210000
DTSTAMP:20260424T101757
CREATED:20230110T215936Z
LAST-MODIFIED:20230110T215936Z
UID:10002306-1739215800-1739221200@www.flcduluth.org
SUMMARY:Nar-Anon Meeting
DESCRIPTION:
URL:https://www.flcduluth.org/event/nar-anon-meeting/2025-02-10/
CATEGORIES:Outside Group
END:VEVENT
BEGIN:VEVENT
DTSTART;TZID=America/Chicago:20250211T063000
DTEND;TZID=America/Chicago:20250211T193000
DTSTAMP:20260424T101757
CREATED:20230110T220428Z
LAST-MODIFIED:20230110T220428Z
UID:10002582-1739255400-1739302200@www.flcduluth.org
SUMMARY:Tai-Chi
DESCRIPTION:
URL:https://www.flcduluth.org/event/tai-chi-3/2025-02-11/
CATEGORIES:Outside Group
END:VEVENT
BEGIN:VEVENT
DTSTART;TZID=America/Chicago:20250212T113000
DTEND;TZID=America/Chicago:20250212T130000
DTSTAMP:20260424T101757
CREATED:20230110T220749Z
LAST-MODIFIED:20230110T220749Z
UID:10002843-1739359800-1739365200@www.flcduluth.org
SUMMARY:Al-Anon
DESCRIPTION:
URL:https://www.flcduluth.org/event/al-anon/2025-02-12/
CATEGORIES:Outside Group
END:VEVENT
BEGIN:VEVENT
DTSTART;TZID=America/Chicago:20250215T090000
DTEND;TZID=America/Chicago:20250215T110000
DTSTAMP:20260424T101757
CREATED:20230110T222829Z
LAST-MODIFIED:20230110T223030Z
UID:10003478-1739610000-1739617200@www.flcduluth.org
SUMMARY:AA
DESCRIPTION:
URL:https://www.flcduluth.org/event/aa-3/2025-02-15/
CATEGORIES:Outside Group
END:VEVENT
BEGIN:VEVENT
DTSTART;TZID=America/Chicago:20250217T193000
DTEND;TZID=America/Chicago:20250217T210000
DTSTAMP:20260424T101757
CREATED:20230110T215936Z
LAST-MODIFIED:20230110T215936Z
UID:10002307-1739820600-1739826000@www.flcduluth.org
SUMMARY:Nar-Anon Meeting
DESCRIPTION:
URL:https://www.flcduluth.org/event/nar-anon-meeting/2025-02-17/
CATEGORIES:Outside Group
END:VEVENT
BEGIN:VEVENT
DTSTART;TZID=America/Chicago:20250218T063000
DTEND;TZID=America/Chicago:20250218T193000
DTSTAMP:20260424T101757
CREATED:20230110T220428Z
LAST-MODIFIED:20230110T220428Z
UID:10002583-1739860200-1739907000@www.flcduluth.org
SUMMARY:Tai-Chi
DESCRIPTION:
URL:https://www.flcduluth.org/event/tai-chi-3/2025-02-18/
CATEGORIES:Outside Group
END:VEVENT
BEGIN:VEVENT
DTSTART;TZID=America/Chicago:20250219T113000
DTEND;TZID=America/Chicago:20250219T130000
DTSTAMP:20260424T101757
CREATED:20230110T220749Z
LAST-MODIFIED:20230110T220749Z
UID:10002844-1739964600-1739970000@www.flcduluth.org
SUMMARY:Al-Anon
DESCRIPTION:
URL:https://www.flcduluth.org/event/al-anon/2025-02-19/
CATEGORIES:Outside Group
END:VEVENT
BEGIN:VEVENT
DTSTART;TZID=America/Chicago:20250220T183000
DTEND;TZID=America/Chicago:20250220T200000
DTSTAMP:20260424T101757
CREATED:20230110T223406Z
LAST-MODIFIED:20230110T223406Z
UID:10003657-1740076200-1740081600@www.flcduluth.org
SUMMARY:District AA Meeting
DESCRIPTION:
URL:https://www.flcduluth.org/event/district-aa-meeting-4/2025-02-20/
CATEGORIES:Outside Group
END:VEVENT
BEGIN:VEVENT
DTSTART;TZID=America/Chicago:20250222T090000
DTEND;TZID=America/Chicago:20250222T110000
DTSTAMP:20260424T101757
CREATED:20230110T222829Z
LAST-MODIFIED:20230110T223030Z
UID:10003479-1740214800-1740222000@www.flcduluth.org
SUMMARY:AA
DESCRIPTION:
URL:https://www.flcduluth.org/event/aa-3/2025-02-22/
CATEGORIES:Outside Group
END:VEVENT
BEGIN:VEVENT
DTSTART;TZID=America/Chicago:20250224T193000
DTEND;TZID=America/Chicago:20250224T210000
DTSTAMP:20260424T101757
CREATED:20230110T215936Z
LAST-MODIFIED:20230110T215936Z
UID:10002308-1740425400-1740430800@www.flcduluth.org
SUMMARY:Nar-Anon Meeting
DESCRIPTION:
URL:https://www.flcduluth.org/event/nar-anon-meeting/2025-02-24/
CATEGORIES:Outside Group
END:VEVENT
BEGIN:VEVENT
DTSTART;TZID=America/Chicago:20250225T063000
DTEND;TZID=America/Chicago:20250225T193000
DTSTAMP:20260424T101757
CREATED:20230110T220428Z
LAST-MODIFIED:20230110T220428Z
UID:10002584-1740465000-1740511800@www.flcduluth.org
SUMMARY:Tai-Chi
DESCRIPTION:
URL:https://www.flcduluth.org/event/tai-chi-3/2025-02-25/
CATEGORIES:Outside Group
END:VEVENT
BEGIN:VEVENT
DTSTART;TZID=America/Chicago:20250226T113000
DTEND;TZID=America/Chicago:20250226T130000
DTSTAMP:20260424T101757
CREATED:20230110T220749Z
LAST-MODIFIED:20230110T220749Z
UID:10002845-1740569400-1740574800@www.flcduluth.org
SUMMARY:Al-Anon
DESCRIPTION:
URL:https://www.flcduluth.org/event/al-anon/2025-02-26/
CATEGORIES:Outside Group
END:VEVENT
BEGIN:VEVENT
DTSTART;TZID=America/Chicago:20250301T090000
DTEND;TZID=America/Chicago:20250301T110000
DTSTAMP:20260424T101757
CREATED:20230110T222829Z
LAST-MODIFIED:20230110T223030Z
UID:10003480-1740819600-1740826800@www.flcduluth.org
SUMMARY:AA
DESCRIPTION:
URL:https://www.flcduluth.org/event/aa-3/2025-03-01/
CATEGORIES:Outside Group
END:VEVENT
BEGIN:VEVENT
DTSTART;TZID=America/Chicago:20250303T193000
DTEND;TZID=America/Chicago:20250303T210000
DTSTAMP:20260424T101757
CREATED:20230110T215936Z
LAST-MODIFIED:20230110T215936Z
UID:10002309-1741030200-1741035600@www.flcduluth.org
SUMMARY:Nar-Anon Meeting
DESCRIPTION:
URL:https://www.flcduluth.org/event/nar-anon-meeting/2025-03-03/
CATEGORIES:Outside Group
END:VEVENT
BEGIN:VEVENT
DTSTART;TZID=America/Chicago:20250304T063000
DTEND;TZID=America/Chicago:20250304T193000
DTSTAMP:20260424T101757
CREATED:20230110T220428Z
LAST-MODIFIED:20230110T220428Z
UID:10002585-1741069800-1741116600@www.flcduluth.org
SUMMARY:Tai-Chi
DESCRIPTION:
URL:https://www.flcduluth.org/event/tai-chi-3/2025-03-04/
CATEGORIES:Outside Group
END:VEVENT
BEGIN:VEVENT
DTSTART;TZID=America/Chicago:20250305T113000
DTEND;TZID=America/Chicago:20250305T130000
DTSTAMP:20260424T101757
CREATED:20230110T220749Z
LAST-MODIFIED:20230110T220749Z
UID:10002846-1741174200-1741179600@www.flcduluth.org
SUMMARY:Al-Anon
DESCRIPTION:
URL:https://www.flcduluth.org/event/al-anon/2025-03-05/
CATEGORIES:Outside Group
END:VEVENT
BEGIN:VEVENT
DTSTART;TZID=America/Chicago:20250308T090000
DTEND;TZID=America/Chicago:20250308T110000
DTSTAMP:20260424T101757
CREATED:20230110T222829Z
LAST-MODIFIED:20230110T223030Z
UID:10003481-1741424400-1741431600@www.flcduluth.org
SUMMARY:AA
DESCRIPTION:
URL:https://www.flcduluth.org/event/aa-3/2025-03-08/
CATEGORIES:Outside Group
END:VEVENT
BEGIN:VEVENT
DTSTART;TZID=America/Chicago:20250310T193000
DTEND;TZID=America/Chicago:20250310T210000
DTSTAMP:20260424T101757
CREATED:20230110T215936Z
LAST-MODIFIED:20230110T215936Z
UID:10002310-1741635000-1741640400@www.flcduluth.org
SUMMARY:Nar-Anon Meeting
DESCRIPTION:
URL:https://www.flcduluth.org/event/nar-anon-meeting/2025-03-10/
CATEGORIES:Outside Group
END:VEVENT
BEGIN:VEVENT
DTSTART;TZID=America/Chicago:20250311T063000
DTEND;TZID=America/Chicago:20250311T193000
DTSTAMP:20260424T101757
CREATED:20230110T220428Z
LAST-MODIFIED:20230110T220428Z
UID:10002586-1741674600-1741721400@www.flcduluth.org
SUMMARY:Tai-Chi
DESCRIPTION:
URL:https://www.flcduluth.org/event/tai-chi-3/2025-03-11/
CATEGORIES:Outside Group
END:VEVENT
BEGIN:VEVENT
DTSTART;TZID=America/Chicago:20250312T113000
DTEND;TZID=America/Chicago:20250312T130000
DTSTAMP:20260424T101757
CREATED:20230110T220749Z
LAST-MODIFIED:20230110T220749Z
UID:10002847-1741779000-1741784400@www.flcduluth.org
SUMMARY:Al-Anon
DESCRIPTION:
URL:https://www.flcduluth.org/event/al-anon/2025-03-12/
CATEGORIES:Outside Group
END:VEVENT
BEGIN:VEVENT
DTSTART;TZID=America/Chicago:20250315T090000
DTEND;TZID=America/Chicago:20250315T110000
DTSTAMP:20260424T101757
CREATED:20230110T222829Z
LAST-MODIFIED:20230110T223030Z
UID:10003482-1742029200-1742036400@www.flcduluth.org
SUMMARY:AA
DESCRIPTION:
URL:https://www.flcduluth.org/event/aa-3/2025-03-15/
CATEGORIES:Outside Group
END:VEVENT
BEGIN:VEVENT
DTSTART;TZID=America/Chicago:20250317T193000
DTEND;TZID=America/Chicago:20250317T210000
DTSTAMP:20260424T101757
CREATED:20230110T215936Z
LAST-MODIFIED:20230110T215936Z
UID:10002311-1742239800-1742245200@www.flcduluth.org
SUMMARY:Nar-Anon Meeting
DESCRIPTION:
URL:https://www.flcduluth.org/event/nar-anon-meeting/2025-03-17/
CATEGORIES:Outside Group
END:VEVENT
BEGIN:VEVENT
DTSTART;TZID=America/Chicago:20250318T063000
DTEND;TZID=America/Chicago:20250318T193000
DTSTAMP:20260424T101757
CREATED:20230110T220428Z
LAST-MODIFIED:20230110T220428Z
UID:10002587-1742279400-1742326200@www.flcduluth.org
SUMMARY:Tai-Chi
DESCRIPTION:
URL:https://www.flcduluth.org/event/tai-chi-3/2025-03-18/
CATEGORIES:Outside Group
END:VEVENT
BEGIN:VEVENT
DTSTART;TZID=America/Chicago:20250319T113000
DTEND;TZID=America/Chicago:20250319T130000
DTSTAMP:20260424T101757
CREATED:20230110T220749Z
LAST-MODIFIED:20230110T220749Z
UID:10002848-1742383800-1742389200@www.flcduluth.org
SUMMARY:Al-Anon
DESCRIPTION:
URL:https://www.flcduluth.org/event/al-anon/2025-03-19/
CATEGORIES:Outside Group
END:VEVENT
BEGIN:VEVENT
DTSTART;TZID=America/Chicago:20250320T183000
DTEND;TZID=America/Chicago:20250320T200000
DTSTAMP:20260424T101757
CREATED:20230110T223406Z
LAST-MODIFIED:20230110T223406Z
UID:10003658-1742495400-1742500800@www.flcduluth.org
SUMMARY:District AA Meeting
DESCRIPTION:
URL:https://www.flcduluth.org/event/district-aa-meeting-4/2025-03-20/
CATEGORIES:Outside Group
END:VEVENT
BEGIN:VEVENT
DTSTART;TZID=America/Chicago:20250322T090000
DTEND;TZID=America/Chicago:20250322T110000
DTSTAMP:20260424T101757
CREATED:20230110T222829Z
LAST-MODIFIED:20230110T223030Z
UID:10003483-1742634000-1742641200@www.flcduluth.org
SUMMARY:AA
DESCRIPTION:
URL:https://www.flcduluth.org/event/aa-3/2025-03-22/
CATEGORIES:Outside Group
END:VEVENT
BEGIN:VEVENT
DTSTART;TZID=America/Chicago:20250324T193000
DTEND;TZID=America/Chicago:20250324T210000
DTSTAMP:20260424T101757
CREATED:20230110T215936Z
LAST-MODIFIED:20230110T215936Z
UID:10002312-1742844600-1742850000@www.flcduluth.org
SUMMARY:Nar-Anon Meeting
DESCRIPTION:
URL:https://www.flcduluth.org/event/nar-anon-meeting/2025-03-24/
CATEGORIES:Outside Group
END:VEVENT
BEGIN:VEVENT
DTSTART;TZID=America/Chicago:20250325T063000
DTEND;TZID=America/Chicago:20250325T193000
DTSTAMP:20260424T101757
CREATED:20230110T220428Z
LAST-MODIFIED:20230110T220428Z
UID:10002588-1742884200-1742931000@www.flcduluth.org
SUMMARY:Tai-Chi
DESCRIPTION:
URL:https://www.flcduluth.org/event/tai-chi-3/2025-03-25/
CATEGORIES:Outside Group
END:VEVENT
BEGIN:VEVENT
DTSTART;TZID=America/Chicago:20250326T113000
DTEND;TZID=America/Chicago:20250326T130000
DTSTAMP:20260424T101757
CREATED:20230110T220749Z
LAST-MODIFIED:20230110T220749Z
UID:10002849-1742988600-1742994000@www.flcduluth.org
SUMMARY:Al-Anon
DESCRIPTION:
URL:https://www.flcduluth.org/event/al-anon/2025-03-26/
CATEGORIES:Outside Group
END:VEVENT
END:VCALENDAR