BEGIN:VCALENDAR
VERSION:2.0
PRODID:-//First Lutheran Church - ECPv6.15.20//NONSGML v1.0//EN
CALSCALE:GREGORIAN
METHOD:PUBLISH
X-WR-CALNAME:First Lutheran Church
X-ORIGINAL-URL:https://www.flcduluth.org
X-WR-CALDESC:Events for First Lutheran Church
REFRESH-INTERVAL;VALUE=DURATION:PT1H
X-Robots-Tag:noindex
X-PUBLISHED-TTL:PT1H
BEGIN:VTIMEZONE
TZID:America/Chicago
BEGIN:DAYLIGHT
TZOFFSETFROM:-0600
TZOFFSETTO:-0500
TZNAME:CDT
DTSTART:20240310T080000
END:DAYLIGHT
BEGIN:STANDARD
TZOFFSETFROM:-0500
TZOFFSETTO:-0600
TZNAME:CST
DTSTART:20241103T070000
END:STANDARD
BEGIN:DAYLIGHT
TZOFFSETFROM:-0600
TZOFFSETTO:-0500
TZNAME:CDT
DTSTART:20250309T080000
END:DAYLIGHT
BEGIN:STANDARD
TZOFFSETFROM:-0500
TZOFFSETTO:-0600
TZNAME:CST
DTSTART:20251102T070000
END:STANDARD
BEGIN:DAYLIGHT
TZOFFSETFROM:-0600
TZOFFSETTO:-0500
TZNAME:CDT
DTSTART:20260308T080000
END:DAYLIGHT
BEGIN:STANDARD
TZOFFSETFROM:-0500
TZOFFSETTO:-0600
TZNAME:CST
DTSTART:20261101T070000
END:STANDARD
BEGIN:DAYLIGHT
TZOFFSETFROM:-0600
TZOFFSETTO:-0500
TZNAME:CDT
DTSTART:20270314T080000
END:DAYLIGHT
BEGIN:STANDARD
TZOFFSETFROM:-0500
TZOFFSETTO:-0600
TZNAME:CST
DTSTART:20271107T070000
END:STANDARD
END:VTIMEZONE
BEGIN:VEVENT
DTSTART;TZID=America/Chicago:20251210T113000
DTEND;TZID=America/Chicago:20251210T130000
DTSTAMP:20260423T162611
CREATED:20230110T220749Z
LAST-MODIFIED:20230110T220749Z
UID:10002886-1765366200-1765371600@www.flcduluth.org
SUMMARY:Al-Anon
DESCRIPTION:
URL:https://www.flcduluth.org/event/al-anon/2025-12-10/
CATEGORIES:Outside Group
END:VEVENT
BEGIN:VEVENT
DTSTART;TZID=America/Chicago:20251213T090000
DTEND;TZID=America/Chicago:20251213T110000
DTSTAMP:20260423T162611
CREATED:20230110T222829Z
LAST-MODIFIED:20230110T223030Z
UID:10003521-1765616400-1765623600@www.flcduluth.org
SUMMARY:AA
DESCRIPTION:
URL:https://www.flcduluth.org/event/aa-3/2025-12-13/
CATEGORIES:Outside Group
END:VEVENT
BEGIN:VEVENT
DTSTART;TZID=America/Chicago:20251215T193000
DTEND;TZID=America/Chicago:20251215T210000
DTSTAMP:20260423T162611
CREATED:20230110T215936Z
LAST-MODIFIED:20230110T215936Z
UID:10002350-1765827000-1765832400@www.flcduluth.org
SUMMARY:Nar-Anon Meeting
DESCRIPTION:
URL:https://www.flcduluth.org/event/nar-anon-meeting/2025-12-15/
CATEGORIES:Outside Group
END:VEVENT
BEGIN:VEVENT
DTSTART;TZID=America/Chicago:20251216T063000
DTEND;TZID=America/Chicago:20251216T193000
DTSTAMP:20260423T162611
CREATED:20230110T220428Z
LAST-MODIFIED:20230110T220428Z
UID:10002626-1765866600-1765913400@www.flcduluth.org
SUMMARY:Tai-Chi
DESCRIPTION:
URL:https://www.flcduluth.org/event/tai-chi-3/2025-12-16/
CATEGORIES:Outside Group
END:VEVENT
BEGIN:VEVENT
DTSTART;TZID=America/Chicago:20251217T113000
DTEND;TZID=America/Chicago:20251217T130000
DTSTAMP:20260423T162611
CREATED:20230110T220749Z
LAST-MODIFIED:20230110T220749Z
UID:10002887-1765971000-1765976400@www.flcduluth.org
SUMMARY:Al-Anon
DESCRIPTION:
URL:https://www.flcduluth.org/event/al-anon/2025-12-17/
CATEGORIES:Outside Group
END:VEVENT
BEGIN:VEVENT
DTSTART;TZID=America/Chicago:20251218T183000
DTEND;TZID=America/Chicago:20251218T200000
DTSTAMP:20260423T162611
CREATED:20230110T223406Z
LAST-MODIFIED:20230110T223406Z
UID:10003667-1766082600-1766088000@www.flcduluth.org
SUMMARY:District AA Meeting
DESCRIPTION:
URL:https://www.flcduluth.org/event/district-aa-meeting-4/2025-12-18/
CATEGORIES:Outside Group
END:VEVENT
BEGIN:VEVENT
DTSTART;TZID=America/Chicago:20251220T090000
DTEND;TZID=America/Chicago:20251220T110000
DTSTAMP:20260423T162611
CREATED:20230110T222829Z
LAST-MODIFIED:20230110T223030Z
UID:10003522-1766221200-1766228400@www.flcduluth.org
SUMMARY:AA
DESCRIPTION:
URL:https://www.flcduluth.org/event/aa-3/2025-12-20/
CATEGORIES:Outside Group
END:VEVENT
BEGIN:VEVENT
DTSTART;TZID=America/Chicago:20251222T193000
DTEND;TZID=America/Chicago:20251222T210000
DTSTAMP:20260423T162611
CREATED:20230110T215936Z
LAST-MODIFIED:20230110T215936Z
UID:10002351-1766431800-1766437200@www.flcduluth.org
SUMMARY:Nar-Anon Meeting
DESCRIPTION:
URL:https://www.flcduluth.org/event/nar-anon-meeting/2025-12-22/
CATEGORIES:Outside Group
END:VEVENT
BEGIN:VEVENT
DTSTART;TZID=America/Chicago:20251223T063000
DTEND;TZID=America/Chicago:20251223T193000
DTSTAMP:20260423T162611
CREATED:20230110T220428Z
LAST-MODIFIED:20230110T220428Z
UID:10002627-1766471400-1766518200@www.flcduluth.org
SUMMARY:Tai-Chi
DESCRIPTION:
URL:https://www.flcduluth.org/event/tai-chi-3/2025-12-23/
CATEGORIES:Outside Group
END:VEVENT
BEGIN:VEVENT
DTSTART;TZID=America/Chicago:20251224T113000
DTEND;TZID=America/Chicago:20251224T130000
DTSTAMP:20260423T162611
CREATED:20230110T220749Z
LAST-MODIFIED:20230110T220749Z
UID:10002888-1766575800-1766581200@www.flcduluth.org
SUMMARY:Al-Anon
DESCRIPTION:
URL:https://www.flcduluth.org/event/al-anon/2025-12-24/
CATEGORIES:Outside Group
END:VEVENT
BEGIN:VEVENT
DTSTART;TZID=America/Chicago:20251227T090000
DTEND;TZID=America/Chicago:20251227T110000
DTSTAMP:20260423T162611
CREATED:20230110T222829Z
LAST-MODIFIED:20230110T223030Z
UID:10003523-1766826000-1766833200@www.flcduluth.org
SUMMARY:AA
DESCRIPTION:
URL:https://www.flcduluth.org/event/aa-3/2025-12-27/
CATEGORIES:Outside Group
END:VEVENT
BEGIN:VEVENT
DTSTART;TZID=America/Chicago:20251229T193000
DTEND;TZID=America/Chicago:20251229T210000
DTSTAMP:20260423T162611
CREATED:20230110T215936Z
LAST-MODIFIED:20230110T215936Z
UID:10002352-1767036600-1767042000@www.flcduluth.org
SUMMARY:Nar-Anon Meeting
DESCRIPTION:
URL:https://www.flcduluth.org/event/nar-anon-meeting/2025-12-29/
CATEGORIES:Outside Group
END:VEVENT
BEGIN:VEVENT
DTSTART;TZID=America/Chicago:20251230T063000
DTEND;TZID=America/Chicago:20251230T193000
DTSTAMP:20260423T162611
CREATED:20230110T220428Z
LAST-MODIFIED:20230110T220428Z
UID:10002628-1767076200-1767123000@www.flcduluth.org
SUMMARY:Tai-Chi
DESCRIPTION:
URL:https://www.flcduluth.org/event/tai-chi-3/2025-12-30/
CATEGORIES:Outside Group
END:VEVENT
BEGIN:VEVENT
DTSTART;TZID=America/Chicago:20251231T113000
DTEND;TZID=America/Chicago:20251231T130000
DTSTAMP:20260423T162611
CREATED:20230110T220749Z
LAST-MODIFIED:20230110T220749Z
UID:10002889-1767180600-1767186000@www.flcduluth.org
SUMMARY:Al-Anon
DESCRIPTION:
URL:https://www.flcduluth.org/event/al-anon/2025-12-31/
CATEGORIES:Outside Group
END:VEVENT
BEGIN:VEVENT
DTSTART;TZID=America/Chicago:20260103T090000
DTEND;TZID=America/Chicago:20260103T110000
DTSTAMP:20260423T162611
CREATED:20230110T222829Z
LAST-MODIFIED:20230110T223030Z
UID:10003524-1767430800-1767438000@www.flcduluth.org
SUMMARY:AA
DESCRIPTION:
URL:https://www.flcduluth.org/event/aa-3/2026-01-03/
CATEGORIES:Outside Group
END:VEVENT
BEGIN:VEVENT
DTSTART;TZID=America/Chicago:20260105T193000
DTEND;TZID=America/Chicago:20260105T210000
DTSTAMP:20260423T162611
CREATED:20230110T215936Z
LAST-MODIFIED:20230110T215936Z
UID:10002353-1767641400-1767646800@www.flcduluth.org
SUMMARY:Nar-Anon Meeting
DESCRIPTION:
URL:https://www.flcduluth.org/event/nar-anon-meeting/2026-01-05/
CATEGORIES:Outside Group
END:VEVENT
BEGIN:VEVENT
DTSTART;TZID=America/Chicago:20260106T063000
DTEND;TZID=America/Chicago:20260106T193000
DTSTAMP:20260423T162611
CREATED:20230110T220428Z
LAST-MODIFIED:20230110T220428Z
UID:10002629-1767681000-1767727800@www.flcduluth.org
SUMMARY:Tai-Chi
DESCRIPTION:
URL:https://www.flcduluth.org/event/tai-chi-3/2026-01-06/
CATEGORIES:Outside Group
END:VEVENT
BEGIN:VEVENT
DTSTART;TZID=America/Chicago:20260107T113000
DTEND;TZID=America/Chicago:20260107T130000
DTSTAMP:20260423T162611
CREATED:20230110T220749Z
LAST-MODIFIED:20230110T220749Z
UID:10002890-1767785400-1767790800@www.flcduluth.org
SUMMARY:Al-Anon
DESCRIPTION:
URL:https://www.flcduluth.org/event/al-anon/2026-01-07/
CATEGORIES:Outside Group
END:VEVENT
BEGIN:VEVENT
DTSTART;TZID=America/Chicago:20260110T090000
DTEND;TZID=America/Chicago:20260110T110000
DTSTAMP:20260423T162611
CREATED:20230110T222829Z
LAST-MODIFIED:20230110T223030Z
UID:10003525-1768035600-1768042800@www.flcduluth.org
SUMMARY:AA
DESCRIPTION:
URL:https://www.flcduluth.org/event/aa-3/2026-01-10/
CATEGORIES:Outside Group
END:VEVENT
BEGIN:VEVENT
DTSTART;TZID=America/Chicago:20260112T193000
DTEND;TZID=America/Chicago:20260112T210000
DTSTAMP:20260423T162611
CREATED:20230110T215936Z
LAST-MODIFIED:20230110T215936Z
UID:10002354-1768246200-1768251600@www.flcduluth.org
SUMMARY:Nar-Anon Meeting
DESCRIPTION:
URL:https://www.flcduluth.org/event/nar-anon-meeting/2026-01-12/
CATEGORIES:Outside Group
END:VEVENT
BEGIN:VEVENT
DTSTART;TZID=America/Chicago:20260113T063000
DTEND;TZID=America/Chicago:20260113T193000
DTSTAMP:20260423T162611
CREATED:20230110T220428Z
LAST-MODIFIED:20230110T220428Z
UID:10002630-1768285800-1768332600@www.flcduluth.org
SUMMARY:Tai-Chi
DESCRIPTION:
URL:https://www.flcduluth.org/event/tai-chi-3/2026-01-13/
CATEGORIES:Outside Group
END:VEVENT
BEGIN:VEVENT
DTSTART;TZID=America/Chicago:20260114T113000
DTEND;TZID=America/Chicago:20260114T130000
DTSTAMP:20260423T162611
CREATED:20230110T220749Z
LAST-MODIFIED:20230110T220749Z
UID:10002891-1768390200-1768395600@www.flcduluth.org
SUMMARY:Al-Anon
DESCRIPTION:
URL:https://www.flcduluth.org/event/al-anon/2026-01-14/
CATEGORIES:Outside Group
END:VEVENT
BEGIN:VEVENT
DTSTART;TZID=America/Chicago:20260115T183000
DTEND;TZID=America/Chicago:20260115T200000
DTSTAMP:20260423T162611
CREATED:20230110T223406Z
LAST-MODIFIED:20230110T223406Z
UID:10003668-1768501800-1768507200@www.flcduluth.org
SUMMARY:District AA Meeting
DESCRIPTION:
URL:https://www.flcduluth.org/event/district-aa-meeting-4/2026-01-15/
CATEGORIES:Outside Group
END:VEVENT
BEGIN:VEVENT
DTSTART;TZID=America/Chicago:20260117T090000
DTEND;TZID=America/Chicago:20260117T110000
DTSTAMP:20260423T162611
CREATED:20230110T222829Z
LAST-MODIFIED:20230110T223030Z
UID:10003526-1768640400-1768647600@www.flcduluth.org
SUMMARY:AA
DESCRIPTION:
URL:https://www.flcduluth.org/event/aa-3/2026-01-17/
CATEGORIES:Outside Group
END:VEVENT
BEGIN:VEVENT
DTSTART;TZID=America/Chicago:20260119T193000
DTEND;TZID=America/Chicago:20260119T210000
DTSTAMP:20260423T162611
CREATED:20230110T215936Z
LAST-MODIFIED:20230110T215936Z
UID:10002355-1768851000-1768856400@www.flcduluth.org
SUMMARY:Nar-Anon Meeting
DESCRIPTION:
URL:https://www.flcduluth.org/event/nar-anon-meeting/2026-01-19/
CATEGORIES:Outside Group
END:VEVENT
BEGIN:VEVENT
DTSTART;TZID=America/Chicago:20260120T063000
DTEND;TZID=America/Chicago:20260120T193000
DTSTAMP:20260423T162611
CREATED:20230110T220428Z
LAST-MODIFIED:20230110T220428Z
UID:10002631-1768890600-1768937400@www.flcduluth.org
SUMMARY:Tai-Chi
DESCRIPTION:
URL:https://www.flcduluth.org/event/tai-chi-3/2026-01-20/
CATEGORIES:Outside Group
END:VEVENT
BEGIN:VEVENT
DTSTART;TZID=America/Chicago:20260121T113000
DTEND;TZID=America/Chicago:20260121T130000
DTSTAMP:20260423T162611
CREATED:20230110T220749Z
LAST-MODIFIED:20230110T220749Z
UID:10002892-1768995000-1769000400@www.flcduluth.org
SUMMARY:Al-Anon
DESCRIPTION:
URL:https://www.flcduluth.org/event/al-anon/2026-01-21/
CATEGORIES:Outside Group
END:VEVENT
BEGIN:VEVENT
DTSTART;TZID=America/Chicago:20260124T090000
DTEND;TZID=America/Chicago:20260124T110000
DTSTAMP:20260423T162611
CREATED:20230110T222829Z
LAST-MODIFIED:20230110T223030Z
UID:10003527-1769245200-1769252400@www.flcduluth.org
SUMMARY:AA
DESCRIPTION:
URL:https://www.flcduluth.org/event/aa-3/2026-01-24/
CATEGORIES:Outside Group
END:VEVENT
BEGIN:VEVENT
DTSTART;TZID=America/Chicago:20260126T193000
DTEND;TZID=America/Chicago:20260126T210000
DTSTAMP:20260423T162611
CREATED:20230110T215936Z
LAST-MODIFIED:20230110T215936Z
UID:10002356-1769455800-1769461200@www.flcduluth.org
SUMMARY:Nar-Anon Meeting
DESCRIPTION:
URL:https://www.flcduluth.org/event/nar-anon-meeting/2026-01-26/
CATEGORIES:Outside Group
END:VEVENT
BEGIN:VEVENT
DTSTART;TZID=America/Chicago:20260127T063000
DTEND;TZID=America/Chicago:20260127T193000
DTSTAMP:20260423T162611
CREATED:20230110T220428Z
LAST-MODIFIED:20230110T220428Z
UID:10002632-1769495400-1769542200@www.flcduluth.org
SUMMARY:Tai-Chi
DESCRIPTION:
URL:https://www.flcduluth.org/event/tai-chi-3/2026-01-27/
CATEGORIES:Outside Group
END:VEVENT
END:VCALENDAR