BEGIN:VCALENDAR
VERSION:2.0
PRODID:-//First Lutheran Church - ECPv6.15.20//NONSGML v1.0//EN
CALSCALE:GREGORIAN
METHOD:PUBLISH
X-ORIGINAL-URL:https://www.flcduluth.org
X-WR-CALDESC:Events for First Lutheran Church
REFRESH-INTERVAL;VALUE=DURATION:PT1H
X-Robots-Tag:noindex
X-PUBLISHED-TTL:PT1H
BEGIN:VTIMEZONE
TZID:America/Chicago
BEGIN:DAYLIGHT
TZOFFSETFROM:-0600
TZOFFSETTO:-0500
TZNAME:CDT
DTSTART:20250309T080000
END:DAYLIGHT
BEGIN:STANDARD
TZOFFSETFROM:-0500
TZOFFSETTO:-0600
TZNAME:CST
DTSTART:20251102T070000
END:STANDARD
BEGIN:DAYLIGHT
TZOFFSETFROM:-0600
TZOFFSETTO:-0500
TZNAME:CDT
DTSTART:20260308T080000
END:DAYLIGHT
BEGIN:STANDARD
TZOFFSETFROM:-0500
TZOFFSETTO:-0600
TZNAME:CST
DTSTART:20261101T070000
END:STANDARD
BEGIN:DAYLIGHT
TZOFFSETFROM:-0600
TZOFFSETTO:-0500
TZNAME:CDT
DTSTART:20270314T080000
END:DAYLIGHT
BEGIN:STANDARD
TZOFFSETFROM:-0500
TZOFFSETTO:-0600
TZNAME:CST
DTSTART:20271107T070000
END:STANDARD
END:VTIMEZONE
BEGIN:VEVENT
DTSTART;TZID=America/Chicago:20260217T063000
DTEND;TZID=America/Chicago:20260217T193000
DTSTAMP:20260423T162851
CREATED:20230110T220428Z
LAST-MODIFIED:20230110T220428Z
UID:10002635-1771309800-1771356600@www.flcduluth.org
SUMMARY:Tai-Chi
DESCRIPTION:
URL:https://www.flcduluth.org/event/tai-chi-3/2026-02-17/
CATEGORIES:Outside Group
END:VEVENT
BEGIN:VEVENT
DTSTART;TZID=America/Chicago:20260218T113000
DTEND;TZID=America/Chicago:20260218T130000
DTSTAMP:20260423T162851
CREATED:20230110T220749Z
LAST-MODIFIED:20230110T220749Z
UID:10002896-1771414200-1771419600@www.flcduluth.org
SUMMARY:Al-Anon
DESCRIPTION:
URL:https://www.flcduluth.org/event/al-anon/2026-02-18/
CATEGORIES:Outside Group
END:VEVENT
BEGIN:VEVENT
DTSTART;TZID=America/Chicago:20260219T183000
DTEND;TZID=America/Chicago:20260219T200000
DTSTAMP:20260423T162851
CREATED:20230110T223406Z
LAST-MODIFIED:20230110T223406Z
UID:10003669-1771525800-1771531200@www.flcduluth.org
SUMMARY:District AA Meeting
DESCRIPTION:
URL:https://www.flcduluth.org/event/district-aa-meeting-4/2026-02-19/
CATEGORIES:Outside Group
END:VEVENT
BEGIN:VEVENT
DTSTART;TZID=America/Chicago:20260221T090000
DTEND;TZID=America/Chicago:20260221T110000
DTSTAMP:20260423T162851
CREATED:20230110T222829Z
LAST-MODIFIED:20230110T223030Z
UID:10003531-1771664400-1771671600@www.flcduluth.org
SUMMARY:AA
DESCRIPTION:
URL:https://www.flcduluth.org/event/aa-3/2026-02-21/
CATEGORIES:Outside Group
END:VEVENT
BEGIN:VEVENT
DTSTART;TZID=America/Chicago:20260223T193000
DTEND;TZID=America/Chicago:20260223T210000
DTSTAMP:20260423T162851
CREATED:20230110T215936Z
LAST-MODIFIED:20230110T215936Z
UID:10002360-1771875000-1771880400@www.flcduluth.org
SUMMARY:Nar-Anon Meeting
DESCRIPTION:
URL:https://www.flcduluth.org/event/nar-anon-meeting/2026-02-23/
CATEGORIES:Outside Group
END:VEVENT
BEGIN:VEVENT
DTSTART;TZID=America/Chicago:20260224T063000
DTEND;TZID=America/Chicago:20260224T193000
DTSTAMP:20260423T162851
CREATED:20230110T220428Z
LAST-MODIFIED:20230110T220428Z
UID:10002636-1771914600-1771961400@www.flcduluth.org
SUMMARY:Tai-Chi
DESCRIPTION:
URL:https://www.flcduluth.org/event/tai-chi-3/2026-02-24/
CATEGORIES:Outside Group
END:VEVENT
BEGIN:VEVENT
DTSTART;TZID=America/Chicago:20260225T113000
DTEND;TZID=America/Chicago:20260225T130000
DTSTAMP:20260423T162851
CREATED:20230110T220749Z
LAST-MODIFIED:20230110T220749Z
UID:10002897-1772019000-1772024400@www.flcduluth.org
SUMMARY:Al-Anon
DESCRIPTION:
URL:https://www.flcduluth.org/event/al-anon/2026-02-25/
CATEGORIES:Outside Group
END:VEVENT
BEGIN:VEVENT
DTSTART;TZID=America/Chicago:20260228T090000
DTEND;TZID=America/Chicago:20260228T110000
DTSTAMP:20260423T162851
CREATED:20230110T222829Z
LAST-MODIFIED:20230110T223030Z
UID:10003532-1772269200-1772276400@www.flcduluth.org
SUMMARY:AA
DESCRIPTION:
URL:https://www.flcduluth.org/event/aa-3/2026-02-28/
CATEGORIES:Outside Group
END:VEVENT
BEGIN:VEVENT
DTSTART;TZID=America/Chicago:20260302T193000
DTEND;TZID=America/Chicago:20260302T210000
DTSTAMP:20260423T162851
CREATED:20230110T215936Z
LAST-MODIFIED:20230110T215936Z
UID:10002361-1772479800-1772485200@www.flcduluth.org
SUMMARY:Nar-Anon Meeting
DESCRIPTION:
URL:https://www.flcduluth.org/event/nar-anon-meeting/2026-03-02/
CATEGORIES:Outside Group
END:VEVENT
BEGIN:VEVENT
DTSTART;TZID=America/Chicago:20260303T063000
DTEND;TZID=America/Chicago:20260303T193000
DTSTAMP:20260423T162851
CREATED:20230110T220428Z
LAST-MODIFIED:20230110T220428Z
UID:10002637-1772519400-1772566200@www.flcduluth.org
SUMMARY:Tai-Chi
DESCRIPTION:
URL:https://www.flcduluth.org/event/tai-chi-3/2026-03-03/
CATEGORIES:Outside Group
END:VEVENT
BEGIN:VEVENT
DTSTART;TZID=America/Chicago:20260304T113000
DTEND;TZID=America/Chicago:20260304T130000
DTSTAMP:20260423T162851
CREATED:20230110T220749Z
LAST-MODIFIED:20230110T220749Z
UID:10002898-1772623800-1772629200@www.flcduluth.org
SUMMARY:Al-Anon
DESCRIPTION:
URL:https://www.flcduluth.org/event/al-anon/2026-03-04/
CATEGORIES:Outside Group
END:VEVENT
BEGIN:VEVENT
DTSTART;TZID=America/Chicago:20260307T090000
DTEND;TZID=America/Chicago:20260307T110000
DTSTAMP:20260423T162851
CREATED:20230110T222829Z
LAST-MODIFIED:20230110T223030Z
UID:10003533-1772874000-1772881200@www.flcduluth.org
SUMMARY:AA
DESCRIPTION:
URL:https://www.flcduluth.org/event/aa-3/2026-03-07/
CATEGORIES:Outside Group
END:VEVENT
BEGIN:VEVENT
DTSTART;TZID=America/Chicago:20260309T193000
DTEND;TZID=America/Chicago:20260309T210000
DTSTAMP:20260423T162851
CREATED:20230110T215936Z
LAST-MODIFIED:20230110T215936Z
UID:10002362-1773084600-1773090000@www.flcduluth.org
SUMMARY:Nar-Anon Meeting
DESCRIPTION:
URL:https://www.flcduluth.org/event/nar-anon-meeting/2026-03-09/
CATEGORIES:Outside Group
END:VEVENT
BEGIN:VEVENT
DTSTART;TZID=America/Chicago:20260310T063000
DTEND;TZID=America/Chicago:20260310T193000
DTSTAMP:20260423T162851
CREATED:20230110T220428Z
LAST-MODIFIED:20230110T220428Z
UID:10002638-1773124200-1773171000@www.flcduluth.org
SUMMARY:Tai-Chi
DESCRIPTION:
URL:https://www.flcduluth.org/event/tai-chi-3/2026-03-10/
CATEGORIES:Outside Group
END:VEVENT
BEGIN:VEVENT
DTSTART;TZID=America/Chicago:20260311T113000
DTEND;TZID=America/Chicago:20260311T130000
DTSTAMP:20260423T162851
CREATED:20230110T220749Z
LAST-MODIFIED:20230110T220749Z
UID:10002899-1773228600-1773234000@www.flcduluth.org
SUMMARY:Al-Anon
DESCRIPTION:
URL:https://www.flcduluth.org/event/al-anon/2026-03-11/
CATEGORIES:Outside Group
END:VEVENT
BEGIN:VEVENT
DTSTART;TZID=America/Chicago:20260314T090000
DTEND;TZID=America/Chicago:20260314T110000
DTSTAMP:20260423T162851
CREATED:20230110T222829Z
LAST-MODIFIED:20230110T223030Z
UID:10003534-1773478800-1773486000@www.flcduluth.org
SUMMARY:AA
DESCRIPTION:
URL:https://www.flcduluth.org/event/aa-3/2026-03-14/
CATEGORIES:Outside Group
END:VEVENT
BEGIN:VEVENT
DTSTART;TZID=America/Chicago:20260316T193000
DTEND;TZID=America/Chicago:20260316T210000
DTSTAMP:20260423T162851
CREATED:20230110T215936Z
LAST-MODIFIED:20230110T215936Z
UID:10002363-1773689400-1773694800@www.flcduluth.org
SUMMARY:Nar-Anon Meeting
DESCRIPTION:
URL:https://www.flcduluth.org/event/nar-anon-meeting/2026-03-16/
CATEGORIES:Outside Group
END:VEVENT
BEGIN:VEVENT
DTSTART;TZID=America/Chicago:20260317T063000
DTEND;TZID=America/Chicago:20260317T193000
DTSTAMP:20260423T162851
CREATED:20230110T220428Z
LAST-MODIFIED:20230110T220428Z
UID:10002639-1773729000-1773775800@www.flcduluth.org
SUMMARY:Tai-Chi
DESCRIPTION:
URL:https://www.flcduluth.org/event/tai-chi-3/2026-03-17/
CATEGORIES:Outside Group
END:VEVENT
BEGIN:VEVENT
DTSTART;TZID=America/Chicago:20260318T113000
DTEND;TZID=America/Chicago:20260318T130000
DTSTAMP:20260423T162851
CREATED:20230110T220749Z
LAST-MODIFIED:20230110T220749Z
UID:10002900-1773833400-1773838800@www.flcduluth.org
SUMMARY:Al-Anon
DESCRIPTION:
URL:https://www.flcduluth.org/event/al-anon/2026-03-18/
CATEGORIES:Outside Group
END:VEVENT
BEGIN:VEVENT
DTSTART;TZID=America/Chicago:20260319T183000
DTEND;TZID=America/Chicago:20260319T200000
DTSTAMP:20260423T162851
CREATED:20230110T223406Z
LAST-MODIFIED:20230110T223406Z
UID:10003670-1773945000-1773950400@www.flcduluth.org
SUMMARY:District AA Meeting
DESCRIPTION:
URL:https://www.flcduluth.org/event/district-aa-meeting-4/2026-03-19/
CATEGORIES:Outside Group
END:VEVENT
BEGIN:VEVENT
DTSTART;TZID=America/Chicago:20260321T090000
DTEND;TZID=America/Chicago:20260321T110000
DTSTAMP:20260423T162851
CREATED:20230110T222829Z
LAST-MODIFIED:20230110T223030Z
UID:10003535-1774083600-1774090800@www.flcduluth.org
SUMMARY:AA
DESCRIPTION:
URL:https://www.flcduluth.org/event/aa-3/2026-03-21/
CATEGORIES:Outside Group
END:VEVENT
BEGIN:VEVENT
DTSTART;TZID=America/Chicago:20260323T193000
DTEND;TZID=America/Chicago:20260323T210000
DTSTAMP:20260423T162851
CREATED:20230110T215936Z
LAST-MODIFIED:20230110T215936Z
UID:10002364-1774294200-1774299600@www.flcduluth.org
SUMMARY:Nar-Anon Meeting
DESCRIPTION:
URL:https://www.flcduluth.org/event/nar-anon-meeting/2026-03-23/
CATEGORIES:Outside Group
END:VEVENT
BEGIN:VEVENT
DTSTART;TZID=America/Chicago:20260324T063000
DTEND;TZID=America/Chicago:20260324T193000
DTSTAMP:20260423T162851
CREATED:20230110T220428Z
LAST-MODIFIED:20230110T220428Z
UID:10002640-1774333800-1774380600@www.flcduluth.org
SUMMARY:Tai-Chi
DESCRIPTION:
URL:https://www.flcduluth.org/event/tai-chi-3/2026-03-24/
CATEGORIES:Outside Group
END:VEVENT
BEGIN:VEVENT
DTSTART;TZID=America/Chicago:20260325T113000
DTEND;TZID=America/Chicago:20260325T130000
DTSTAMP:20260423T162851
CREATED:20230110T220749Z
LAST-MODIFIED:20230110T220749Z
UID:10002901-1774438200-1774443600@www.flcduluth.org
SUMMARY:Al-Anon
DESCRIPTION:
URL:https://www.flcduluth.org/event/al-anon/2026-03-25/
CATEGORIES:Outside Group
END:VEVENT
BEGIN:VEVENT
DTSTART;TZID=America/Chicago:20260328T090000
DTEND;TZID=America/Chicago:20260328T110000
DTSTAMP:20260423T162851
CREATED:20230110T222829Z
LAST-MODIFIED:20230110T223030Z
UID:10003536-1774688400-1774695600@www.flcduluth.org
SUMMARY:AA
DESCRIPTION:
URL:https://www.flcduluth.org/event/aa-3/2026-03-28/
CATEGORIES:Outside Group
END:VEVENT
BEGIN:VEVENT
DTSTART;TZID=America/Chicago:20260330T193000
DTEND;TZID=America/Chicago:20260330T210000
DTSTAMP:20260423T162851
CREATED:20230110T215936Z
LAST-MODIFIED:20230110T215936Z
UID:10002365-1774899000-1774904400@www.flcduluth.org
SUMMARY:Nar-Anon Meeting
DESCRIPTION:
URL:https://www.flcduluth.org/event/nar-anon-meeting/2026-03-30/
CATEGORIES:Outside Group
END:VEVENT
BEGIN:VEVENT
DTSTART;TZID=America/Chicago:20260331T063000
DTEND;TZID=America/Chicago:20260331T193000
DTSTAMP:20260423T162851
CREATED:20230110T220428Z
LAST-MODIFIED:20230110T220428Z
UID:10002641-1774938600-1774985400@www.flcduluth.org
SUMMARY:Tai-Chi
DESCRIPTION:
URL:https://www.flcduluth.org/event/tai-chi-3/2026-03-31/
CATEGORIES:Outside Group
END:VEVENT
BEGIN:VEVENT
DTSTART;TZID=America/Chicago:20260401T113000
DTEND;TZID=America/Chicago:20260401T130000
DTSTAMP:20260423T162851
CREATED:20230110T220749Z
LAST-MODIFIED:20230110T220749Z
UID:10002902-1775043000-1775048400@www.flcduluth.org
SUMMARY:Al-Anon
DESCRIPTION:
URL:https://www.flcduluth.org/event/al-anon/2026-04-01/
CATEGORIES:Outside Group
END:VEVENT
BEGIN:VEVENT
DTSTART;TZID=America/Chicago:20260404T090000
DTEND;TZID=America/Chicago:20260404T110000
DTSTAMP:20260423T162851
CREATED:20230110T222829Z
LAST-MODIFIED:20230110T223030Z
UID:10003537-1775293200-1775300400@www.flcduluth.org
SUMMARY:AA
DESCRIPTION:
URL:https://www.flcduluth.org/event/aa-3/2026-04-04/
CATEGORIES:Outside Group
END:VEVENT
BEGIN:VEVENT
DTSTART;TZID=America/Chicago:20260406T193000
DTEND;TZID=America/Chicago:20260406T210000
DTSTAMP:20260423T162851
CREATED:20230110T215936Z
LAST-MODIFIED:20230110T215936Z
UID:10002366-1775503800-1775509200@www.flcduluth.org
SUMMARY:Nar-Anon Meeting
DESCRIPTION:
URL:https://www.flcduluth.org/event/nar-anon-meeting/2026-04-06/
CATEGORIES:Outside Group
END:VEVENT
END:VCALENDAR