BEGIN:VCALENDAR
VERSION:2.0
PRODID:-//First Lutheran Church - ECPv6.15.20//NONSGML v1.0//EN
CALSCALE:GREGORIAN
METHOD:PUBLISH
X-ORIGINAL-URL:https://www.flcduluth.org
X-WR-CALDESC:Events for First Lutheran Church
REFRESH-INTERVAL;VALUE=DURATION:PT1H
X-Robots-Tag:noindex
X-PUBLISHED-TTL:PT1H
BEGIN:VTIMEZONE
TZID:America/Chicago
BEGIN:DAYLIGHT
TZOFFSETFROM:-0600
TZOFFSETTO:-0500
TZNAME:CDT
DTSTART:20230312T080000
END:DAYLIGHT
BEGIN:STANDARD
TZOFFSETFROM:-0500
TZOFFSETTO:-0600
TZNAME:CST
DTSTART:20231105T070000
END:STANDARD
BEGIN:DAYLIGHT
TZOFFSETFROM:-0600
TZOFFSETTO:-0500
TZNAME:CDT
DTSTART:20240310T080000
END:DAYLIGHT
BEGIN:STANDARD
TZOFFSETFROM:-0500
TZOFFSETTO:-0600
TZNAME:CST
DTSTART:20241103T070000
END:STANDARD
BEGIN:DAYLIGHT
TZOFFSETFROM:-0600
TZOFFSETTO:-0500
TZNAME:CDT
DTSTART:20250309T080000
END:DAYLIGHT
BEGIN:STANDARD
TZOFFSETFROM:-0500
TZOFFSETTO:-0600
TZNAME:CST
DTSTART:20251102T070000
END:STANDARD
END:VTIMEZONE
BEGIN:VEVENT
DTSTART;TZID=America/Chicago:20240408T193000
DTEND;TZID=America/Chicago:20240408T210000
DTSTAMP:20260425T060128
CREATED:20230110T215936Z
LAST-MODIFIED:20230110T215936Z
UID:10002262-1712604600-1712610000@www.flcduluth.org
SUMMARY:Nar-Anon Meeting
DESCRIPTION:
URL:https://www.flcduluth.org/event/nar-anon-meeting/2024-04-08/
CATEGORIES:Outside Group
END:VEVENT
BEGIN:VEVENT
DTSTART;TZID=America/Chicago:20240409T063000
DTEND;TZID=America/Chicago:20240409T193000
DTSTAMP:20260425T060128
CREATED:20230110T220428Z
LAST-MODIFIED:20230110T220428Z
UID:10002538-1712644200-1712691000@www.flcduluth.org
SUMMARY:Tai-Chi
DESCRIPTION:
URL:https://www.flcduluth.org/event/tai-chi-3/2024-04-09/
CATEGORIES:Outside Group
END:VEVENT
BEGIN:VEVENT
DTSTART;TZID=America/Chicago:20240410T113000
DTEND;TZID=America/Chicago:20240410T130000
DTSTAMP:20260425T060128
CREATED:20230110T220749Z
LAST-MODIFIED:20230110T220749Z
UID:10002799-1712748600-1712754000@www.flcduluth.org
SUMMARY:Al-Anon
DESCRIPTION:
URL:https://www.flcduluth.org/event/al-anon/2024-04-10/
CATEGORIES:Outside Group
END:VEVENT
BEGIN:VEVENT
DTSTART;TZID=America/Chicago:20240413T090000
DTEND;TZID=America/Chicago:20240413T110000
DTSTAMP:20260425T060128
CREATED:20230110T222829Z
LAST-MODIFIED:20230110T223030Z
UID:10003434-1712998800-1713006000@www.flcduluth.org
SUMMARY:AA
DESCRIPTION:
URL:https://www.flcduluth.org/event/aa-3/2024-04-13/
CATEGORIES:Outside Group
END:VEVENT
BEGIN:VEVENT
DTSTART;TZID=America/Chicago:20240415T193000
DTEND;TZID=America/Chicago:20240415T210000
DTSTAMP:20260425T060128
CREATED:20230110T215936Z
LAST-MODIFIED:20230110T215936Z
UID:10002263-1713209400-1713214800@www.flcduluth.org
SUMMARY:Nar-Anon Meeting
DESCRIPTION:
URL:https://www.flcduluth.org/event/nar-anon-meeting/2024-04-15/
CATEGORIES:Outside Group
END:VEVENT
BEGIN:VEVENT
DTSTART;TZID=America/Chicago:20240416T063000
DTEND;TZID=America/Chicago:20240416T193000
DTSTAMP:20260425T060128
CREATED:20230110T220428Z
LAST-MODIFIED:20230110T220428Z
UID:10002539-1713249000-1713295800@www.flcduluth.org
SUMMARY:Tai-Chi
DESCRIPTION:
URL:https://www.flcduluth.org/event/tai-chi-3/2024-04-16/
CATEGORIES:Outside Group
END:VEVENT
BEGIN:VEVENT
DTSTART;TZID=America/Chicago:20240417T113000
DTEND;TZID=America/Chicago:20240417T130000
DTSTAMP:20260425T060128
CREATED:20230110T220749Z
LAST-MODIFIED:20230110T220749Z
UID:10002800-1713353400-1713358800@www.flcduluth.org
SUMMARY:Al-Anon
DESCRIPTION:
URL:https://www.flcduluth.org/event/al-anon/2024-04-17/
CATEGORIES:Outside Group
END:VEVENT
BEGIN:VEVENT
DTSTART;TZID=America/Chicago:20240418T183000
DTEND;TZID=America/Chicago:20240418T200000
DTSTAMP:20260425T060128
CREATED:20230110T223406Z
LAST-MODIFIED:20230110T223406Z
UID:10003647-1713465000-1713470400@www.flcduluth.org
SUMMARY:District AA Meeting
DESCRIPTION:
URL:https://www.flcduluth.org/event/district-aa-meeting-4/2024-04-18/
CATEGORIES:Outside Group
END:VEVENT
BEGIN:VEVENT
DTSTART;TZID=America/Chicago:20240420T090000
DTEND;TZID=America/Chicago:20240420T110000
DTSTAMP:20260425T060128
CREATED:20230110T222829Z
LAST-MODIFIED:20230110T223030Z
UID:10003435-1713603600-1713610800@www.flcduluth.org
SUMMARY:AA
DESCRIPTION:
URL:https://www.flcduluth.org/event/aa-3/2024-04-20/
CATEGORIES:Outside Group
END:VEVENT
BEGIN:VEVENT
DTSTART;TZID=America/Chicago:20240422T193000
DTEND;TZID=America/Chicago:20240422T210000
DTSTAMP:20260425T060128
CREATED:20230110T215936Z
LAST-MODIFIED:20230110T215936Z
UID:10002264-1713814200-1713819600@www.flcduluth.org
SUMMARY:Nar-Anon Meeting
DESCRIPTION:
URL:https://www.flcduluth.org/event/nar-anon-meeting/2024-04-22/
CATEGORIES:Outside Group
END:VEVENT
BEGIN:VEVENT
DTSTART;TZID=America/Chicago:20240423T063000
DTEND;TZID=America/Chicago:20240423T193000
DTSTAMP:20260425T060128
CREATED:20230110T220428Z
LAST-MODIFIED:20230110T220428Z
UID:10002540-1713853800-1713900600@www.flcduluth.org
SUMMARY:Tai-Chi
DESCRIPTION:
URL:https://www.flcduluth.org/event/tai-chi-3/2024-04-23/
CATEGORIES:Outside Group
END:VEVENT
BEGIN:VEVENT
DTSTART;TZID=America/Chicago:20240424T113000
DTEND;TZID=America/Chicago:20240424T130000
DTSTAMP:20260425T060128
CREATED:20230110T220749Z
LAST-MODIFIED:20230110T220749Z
UID:10002801-1713958200-1713963600@www.flcduluth.org
SUMMARY:Al-Anon
DESCRIPTION:
URL:https://www.flcduluth.org/event/al-anon/2024-04-24/
CATEGORIES:Outside Group
END:VEVENT
BEGIN:VEVENT
DTSTART;TZID=America/Chicago:20240427T090000
DTEND;TZID=America/Chicago:20240427T110000
DTSTAMP:20260425T060128
CREATED:20230110T222829Z
LAST-MODIFIED:20230110T223030Z
UID:10003436-1714208400-1714215600@www.flcduluth.org
SUMMARY:AA
DESCRIPTION:
URL:https://www.flcduluth.org/event/aa-3/2024-04-27/
CATEGORIES:Outside Group
END:VEVENT
BEGIN:VEVENT
DTSTART;TZID=America/Chicago:20240429T193000
DTEND;TZID=America/Chicago:20240429T210000
DTSTAMP:20260425T060128
CREATED:20230110T215936Z
LAST-MODIFIED:20230110T215936Z
UID:10002265-1714419000-1714424400@www.flcduluth.org
SUMMARY:Nar-Anon Meeting
DESCRIPTION:
URL:https://www.flcduluth.org/event/nar-anon-meeting/2024-04-29/
CATEGORIES:Outside Group
END:VEVENT
BEGIN:VEVENT
DTSTART;TZID=America/Chicago:20240430T063000
DTEND;TZID=America/Chicago:20240430T193000
DTSTAMP:20260425T060128
CREATED:20230110T220428Z
LAST-MODIFIED:20230110T220428Z
UID:10002541-1714458600-1714505400@www.flcduluth.org
SUMMARY:Tai-Chi
DESCRIPTION:
URL:https://www.flcduluth.org/event/tai-chi-3/2024-04-30/
CATEGORIES:Outside Group
END:VEVENT
BEGIN:VEVENT
DTSTART;TZID=America/Chicago:20240501T113000
DTEND;TZID=America/Chicago:20240501T130000
DTSTAMP:20260425T060128
CREATED:20230110T220749Z
LAST-MODIFIED:20230110T220749Z
UID:10002802-1714563000-1714568400@www.flcduluth.org
SUMMARY:Al-Anon
DESCRIPTION:
URL:https://www.flcduluth.org/event/al-anon/2024-05-01/
CATEGORIES:Outside Group
END:VEVENT
BEGIN:VEVENT
DTSTART;TZID=America/Chicago:20240504T090000
DTEND;TZID=America/Chicago:20240504T110000
DTSTAMP:20260425T060128
CREATED:20230110T222829Z
LAST-MODIFIED:20230110T223030Z
UID:10003437-1714813200-1714820400@www.flcduluth.org
SUMMARY:AA
DESCRIPTION:
URL:https://www.flcduluth.org/event/aa-3/2024-05-04/
CATEGORIES:Outside Group
END:VEVENT
BEGIN:VEVENT
DTSTART;TZID=America/Chicago:20240506T193000
DTEND;TZID=America/Chicago:20240506T210000
DTSTAMP:20260425T060128
CREATED:20230110T215936Z
LAST-MODIFIED:20230110T215936Z
UID:10002266-1715023800-1715029200@www.flcduluth.org
SUMMARY:Nar-Anon Meeting
DESCRIPTION:
URL:https://www.flcduluth.org/event/nar-anon-meeting/2024-05-06/
CATEGORIES:Outside Group
END:VEVENT
BEGIN:VEVENT
DTSTART;TZID=America/Chicago:20240507T063000
DTEND;TZID=America/Chicago:20240507T193000
DTSTAMP:20260425T060128
CREATED:20230110T220428Z
LAST-MODIFIED:20230110T220428Z
UID:10002542-1715063400-1715110200@www.flcduluth.org
SUMMARY:Tai-Chi
DESCRIPTION:
URL:https://www.flcduluth.org/event/tai-chi-3/2024-05-07/
CATEGORIES:Outside Group
END:VEVENT
BEGIN:VEVENT
DTSTART;TZID=America/Chicago:20240508T113000
DTEND;TZID=America/Chicago:20240508T130000
DTSTAMP:20260425T060128
CREATED:20230110T220749Z
LAST-MODIFIED:20230110T220749Z
UID:10002803-1715167800-1715173200@www.flcduluth.org
SUMMARY:Al-Anon
DESCRIPTION:
URL:https://www.flcduluth.org/event/al-anon/2024-05-08/
CATEGORIES:Outside Group
END:VEVENT
BEGIN:VEVENT
DTSTART;TZID=America/Chicago:20240511T090000
DTEND;TZID=America/Chicago:20240511T110000
DTSTAMP:20260425T060128
CREATED:20230110T222829Z
LAST-MODIFIED:20230110T223030Z
UID:10003438-1715418000-1715425200@www.flcduluth.org
SUMMARY:AA
DESCRIPTION:
URL:https://www.flcduluth.org/event/aa-3/2024-05-11/
CATEGORIES:Outside Group
END:VEVENT
BEGIN:VEVENT
DTSTART;TZID=America/Chicago:20240513T193000
DTEND;TZID=America/Chicago:20240513T210000
DTSTAMP:20260425T060128
CREATED:20230110T215936Z
LAST-MODIFIED:20230110T215936Z
UID:10002267-1715628600-1715634000@www.flcduluth.org
SUMMARY:Nar-Anon Meeting
DESCRIPTION:
URL:https://www.flcduluth.org/event/nar-anon-meeting/2024-05-13/
CATEGORIES:Outside Group
END:VEVENT
BEGIN:VEVENT
DTSTART;TZID=America/Chicago:20240514T063000
DTEND;TZID=America/Chicago:20240514T193000
DTSTAMP:20260425T060128
CREATED:20230110T220428Z
LAST-MODIFIED:20230110T220428Z
UID:10002543-1715668200-1715715000@www.flcduluth.org
SUMMARY:Tai-Chi
DESCRIPTION:
URL:https://www.flcduluth.org/event/tai-chi-3/2024-05-14/
CATEGORIES:Outside Group
END:VEVENT
BEGIN:VEVENT
DTSTART;TZID=America/Chicago:20240515T113000
DTEND;TZID=America/Chicago:20240515T130000
DTSTAMP:20260425T060128
CREATED:20230110T220749Z
LAST-MODIFIED:20230110T220749Z
UID:10002804-1715772600-1715778000@www.flcduluth.org
SUMMARY:Al-Anon
DESCRIPTION:
URL:https://www.flcduluth.org/event/al-anon/2024-05-15/
CATEGORIES:Outside Group
END:VEVENT
BEGIN:VEVENT
DTSTART;TZID=America/Chicago:20240516T183000
DTEND;TZID=America/Chicago:20240516T200000
DTSTAMP:20260425T060128
CREATED:20230110T223406Z
LAST-MODIFIED:20230110T223406Z
UID:10003648-1715884200-1715889600@www.flcduluth.org
SUMMARY:District AA Meeting
DESCRIPTION:
URL:https://www.flcduluth.org/event/district-aa-meeting-4/2024-05-16/
CATEGORIES:Outside Group
END:VEVENT
BEGIN:VEVENT
DTSTART;TZID=America/Chicago:20240518T090000
DTEND;TZID=America/Chicago:20240518T110000
DTSTAMP:20260425T060128
CREATED:20230110T222829Z
LAST-MODIFIED:20230110T223030Z
UID:10003439-1716022800-1716030000@www.flcduluth.org
SUMMARY:AA
DESCRIPTION:
URL:https://www.flcduluth.org/event/aa-3/2024-05-18/
CATEGORIES:Outside Group
END:VEVENT
BEGIN:VEVENT
DTSTART;TZID=America/Chicago:20240520T193000
DTEND;TZID=America/Chicago:20240520T210000
DTSTAMP:20260425T060128
CREATED:20230110T215936Z
LAST-MODIFIED:20230110T215936Z
UID:10002268-1716233400-1716238800@www.flcduluth.org
SUMMARY:Nar-Anon Meeting
DESCRIPTION:
URL:https://www.flcduluth.org/event/nar-anon-meeting/2024-05-20/
CATEGORIES:Outside Group
END:VEVENT
BEGIN:VEVENT
DTSTART;TZID=America/Chicago:20240521T063000
DTEND;TZID=America/Chicago:20240521T193000
DTSTAMP:20260425T060128
CREATED:20230110T220428Z
LAST-MODIFIED:20230110T220428Z
UID:10002544-1716273000-1716319800@www.flcduluth.org
SUMMARY:Tai-Chi
DESCRIPTION:
URL:https://www.flcduluth.org/event/tai-chi-3/2024-05-21/
CATEGORIES:Outside Group
END:VEVENT
BEGIN:VEVENT
DTSTART;TZID=America/Chicago:20240522T113000
DTEND;TZID=America/Chicago:20240522T130000
DTSTAMP:20260425T060128
CREATED:20230110T220749Z
LAST-MODIFIED:20230110T220749Z
UID:10002805-1716377400-1716382800@www.flcduluth.org
SUMMARY:Al-Anon
DESCRIPTION:
URL:https://www.flcduluth.org/event/al-anon/2024-05-22/
CATEGORIES:Outside Group
END:VEVENT
BEGIN:VEVENT
DTSTART;TZID=America/Chicago:20240525T090000
DTEND;TZID=America/Chicago:20240525T110000
DTSTAMP:20260425T060128
CREATED:20230110T222829Z
LAST-MODIFIED:20230110T223030Z
UID:10003440-1716627600-1716634800@www.flcduluth.org
SUMMARY:AA
DESCRIPTION:
URL:https://www.flcduluth.org/event/aa-3/2024-05-25/
CATEGORIES:Outside Group
END:VEVENT
END:VCALENDAR