BEGIN:VCALENDAR
VERSION:2.0
PRODID:-//First Lutheran Church - ECPv6.15.20//NONSGML v1.0//EN
CALSCALE:GREGORIAN
METHOD:PUBLISH
X-ORIGINAL-URL:https://www.flcduluth.org
X-WR-CALDESC:Events for First Lutheran Church
REFRESH-INTERVAL;VALUE=DURATION:PT1H
X-Robots-Tag:noindex
X-PUBLISHED-TTL:PT1H
BEGIN:VTIMEZONE
TZID:America/Chicago
BEGIN:DAYLIGHT
TZOFFSETFROM:-0600
TZOFFSETTO:-0500
TZNAME:CDT
DTSTART:20260308T080000
END:DAYLIGHT
BEGIN:STANDARD
TZOFFSETFROM:-0500
TZOFFSETTO:-0600
TZNAME:CST
DTSTART:20261101T070000
END:STANDARD
BEGIN:DAYLIGHT
TZOFFSETFROM:-0600
TZOFFSETTO:-0500
TZNAME:CDT
DTSTART:20270314T080000
END:DAYLIGHT
BEGIN:STANDARD
TZOFFSETFROM:-0500
TZOFFSETTO:-0600
TZNAME:CST
DTSTART:20271107T070000
END:STANDARD
BEGIN:DAYLIGHT
TZOFFSETFROM:-0600
TZOFFSETTO:-0500
TZNAME:CDT
DTSTART:20280312T080000
END:DAYLIGHT
BEGIN:STANDARD
TZOFFSETFROM:-0500
TZOFFSETTO:-0600
TZNAME:CST
DTSTART:20281105T070000
END:STANDARD
BEGIN:DAYLIGHT
TZOFFSETFROM:-0600
TZOFFSETTO:-0500
TZNAME:CDT
DTSTART:20290311T080000
END:DAYLIGHT
BEGIN:STANDARD
TZOFFSETFROM:-0500
TZOFFSETTO:-0600
TZNAME:CST
DTSTART:20291104T070000
END:STANDARD
END:VTIMEZONE
BEGIN:VEVENT
DTSTART;TZID=America/Chicago:20271225T090000
DTEND;TZID=America/Chicago:20271225T110000
DTSTAMP:20260425T051658
CREATED:20230110T222829Z
LAST-MODIFIED:20230110T223030Z
UID:10003627-1829725200-1829732400@www.flcduluth.org
SUMMARY:AA
DESCRIPTION:
URL:https://www.flcduluth.org/event/aa-3/2027-12-25/
CATEGORIES:Outside Group
END:VEVENT
BEGIN:VEVENT
DTSTART;TZID=America/Chicago:20271227T193000
DTEND;TZID=America/Chicago:20271227T210000
DTSTAMP:20260425T051658
CREATED:20230110T215936Z
LAST-MODIFIED:20230110T215936Z
UID:10002456-1829935800-1829941200@www.flcduluth.org
SUMMARY:Nar-Anon Meeting
DESCRIPTION:
URL:https://www.flcduluth.org/event/nar-anon-meeting/2027-12-27/
CATEGORIES:Outside Group
END:VEVENT
BEGIN:VEVENT
DTSTART;TZID=America/Chicago:20271228T063000
DTEND;TZID=America/Chicago:20271228T193000
DTSTAMP:20260425T051658
CREATED:20230110T220428Z
LAST-MODIFIED:20230110T220428Z
UID:10002732-1829975400-1830022200@www.flcduluth.org
SUMMARY:Tai-Chi
DESCRIPTION:
URL:https://www.flcduluth.org/event/tai-chi-3/2027-12-28/
CATEGORIES:Outside Group
END:VEVENT
BEGIN:VEVENT
DTSTART;TZID=America/Chicago:20271229T113000
DTEND;TZID=America/Chicago:20271229T130000
DTSTAMP:20260425T051658
CREATED:20230110T220749Z
LAST-MODIFIED:20230110T220749Z
UID:10002993-1830079800-1830085200@www.flcduluth.org
SUMMARY:Al-Anon
DESCRIPTION:
URL:https://www.flcduluth.org/event/al-anon/2027-12-29/
CATEGORIES:Outside Group
END:VEVENT
BEGIN:VEVENT
DTSTART;TZID=America/Chicago:20280101T090000
DTEND;TZID=America/Chicago:20280101T110000
DTSTAMP:20260425T051658
CREATED:20230110T222829Z
LAST-MODIFIED:20230110T223030Z
UID:10003628-1830330000-1830337200@www.flcduluth.org
SUMMARY:AA
DESCRIPTION:
URL:https://www.flcduluth.org/event/aa-3/2028-01-01/
CATEGORIES:Outside Group
END:VEVENT
BEGIN:VEVENT
DTSTART;TZID=America/Chicago:20280103T193000
DTEND;TZID=America/Chicago:20280103T210000
DTSTAMP:20260425T051658
CREATED:20230110T215936Z
LAST-MODIFIED:20230110T215936Z
UID:10002457-1830540600-1830546000@www.flcduluth.org
SUMMARY:Nar-Anon Meeting
DESCRIPTION:
URL:https://www.flcduluth.org/event/nar-anon-meeting/2028-01-03/
CATEGORIES:Outside Group
END:VEVENT
BEGIN:VEVENT
DTSTART;TZID=America/Chicago:20280104T063000
DTEND;TZID=America/Chicago:20280104T193000
DTSTAMP:20260425T051658
CREATED:20230110T220428Z
LAST-MODIFIED:20230110T220428Z
UID:10002733-1830580200-1830627000@www.flcduluth.org
SUMMARY:Tai-Chi
DESCRIPTION:
URL:https://www.flcduluth.org/event/tai-chi-3/2028-01-04/
CATEGORIES:Outside Group
END:VEVENT
BEGIN:VEVENT
DTSTART;TZID=America/Chicago:20280105T113000
DTEND;TZID=America/Chicago:20280105T130000
DTSTAMP:20260425T051658
CREATED:20230110T220749Z
LAST-MODIFIED:20230110T220749Z
UID:10002994-1830684600-1830690000@www.flcduluth.org
SUMMARY:Al-Anon
DESCRIPTION:
URL:https://www.flcduluth.org/event/al-anon/2028-01-05/
CATEGORIES:Outside Group
END:VEVENT
BEGIN:VEVENT
DTSTART;TZID=America/Chicago:20280108T090000
DTEND;TZID=America/Chicago:20280108T110000
DTSTAMP:20260425T051658
CREATED:20230110T222829Z
LAST-MODIFIED:20230110T223030Z
UID:10003629-1830934800-1830942000@www.flcduluth.org
SUMMARY:AA
DESCRIPTION:
URL:https://www.flcduluth.org/event/aa-3/2028-01-08/
CATEGORIES:Outside Group
END:VEVENT
BEGIN:VEVENT
DTSTART;TZID=America/Chicago:20280110T193000
DTEND;TZID=America/Chicago:20280110T210000
DTSTAMP:20260425T051658
CREATED:20230110T215936Z
LAST-MODIFIED:20230110T215936Z
UID:10002458-1831145400-1831150800@www.flcduluth.org
SUMMARY:Nar-Anon Meeting
DESCRIPTION:
URL:https://www.flcduluth.org/event/nar-anon-meeting/2028-01-10/
CATEGORIES:Outside Group
END:VEVENT
END:VCALENDAR