BEGIN:VCALENDAR
VERSION:2.0
PRODID:-//First Lutheran Church - ECPv6.15.20//NONSGML v1.0//EN
CALSCALE:GREGORIAN
METHOD:PUBLISH
X-ORIGINAL-URL:https://www.flcduluth.org
X-WR-CALDESC:Events for First Lutheran Church
REFRESH-INTERVAL;VALUE=DURATION:PT1H
X-Robots-Tag:noindex
X-PUBLISHED-TTL:PT1H
BEGIN:VTIMEZONE
TZID:America/Chicago
BEGIN:DAYLIGHT
TZOFFSETFROM:-0600
TZOFFSETTO:-0500
TZNAME:CDT
DTSTART:20260308T080000
END:DAYLIGHT
BEGIN:STANDARD
TZOFFSETFROM:-0500
TZOFFSETTO:-0600
TZNAME:CST
DTSTART:20261101T070000
END:STANDARD
BEGIN:DAYLIGHT
TZOFFSETFROM:-0600
TZOFFSETTO:-0500
TZNAME:CDT
DTSTART:20270314T080000
END:DAYLIGHT
BEGIN:STANDARD
TZOFFSETFROM:-0500
TZOFFSETTO:-0600
TZNAME:CST
DTSTART:20271107T070000
END:STANDARD
BEGIN:DAYLIGHT
TZOFFSETFROM:-0600
TZOFFSETTO:-0500
TZNAME:CDT
DTSTART:20280312T080000
END:DAYLIGHT
BEGIN:STANDARD
TZOFFSETFROM:-0500
TZOFFSETTO:-0600
TZNAME:CST
DTSTART:20281105T070000
END:STANDARD
END:VTIMEZONE
BEGIN:VEVENT
DTSTART;TZID=America/Chicago:20270315T193000
DTEND;TZID=America/Chicago:20270315T210000
DTSTAMP:20260425T060600
CREATED:20230110T215936Z
LAST-MODIFIED:20230110T215936Z
UID:10002415-1805139000-1805144400@www.flcduluth.org
SUMMARY:Nar-Anon Meeting
DESCRIPTION:
URL:https://www.flcduluth.org/event/nar-anon-meeting/2027-03-15/
CATEGORIES:Outside Group
END:VEVENT
BEGIN:VEVENT
DTSTART;TZID=America/Chicago:20270316T063000
DTEND;TZID=America/Chicago:20270316T193000
DTSTAMP:20260425T060600
CREATED:20230110T220428Z
LAST-MODIFIED:20230110T220428Z
UID:10002691-1805178600-1805225400@www.flcduluth.org
SUMMARY:Tai-Chi
DESCRIPTION:
URL:https://www.flcduluth.org/event/tai-chi-3/2027-03-16/
CATEGORIES:Outside Group
END:VEVENT
BEGIN:VEVENT
DTSTART;TZID=America/Chicago:20270317T113000
DTEND;TZID=America/Chicago:20270317T130000
DTSTAMP:20260425T060600
CREATED:20230110T220749Z
LAST-MODIFIED:20230110T220749Z
UID:10002952-1805283000-1805288400@www.flcduluth.org
SUMMARY:Al-Anon
DESCRIPTION:
URL:https://www.flcduluth.org/event/al-anon/2027-03-17/
CATEGORIES:Outside Group
END:VEVENT
BEGIN:VEVENT
DTSTART;TZID=America/Chicago:20270318T183000
DTEND;TZID=America/Chicago:20270318T200000
DTSTAMP:20260425T060600
CREATED:20230110T223406Z
LAST-MODIFIED:20230110T223406Z
UID:10003682-1805394600-1805400000@www.flcduluth.org
SUMMARY:District AA Meeting
DESCRIPTION:
URL:https://www.flcduluth.org/event/district-aa-meeting-4/2027-03-18/
CATEGORIES:Outside Group
END:VEVENT
BEGIN:VEVENT
DTSTART;TZID=America/Chicago:20270320T090000
DTEND;TZID=America/Chicago:20270320T110000
DTSTAMP:20260425T060600
CREATED:20230110T222829Z
LAST-MODIFIED:20230110T223030Z
UID:10003587-1805533200-1805540400@www.flcduluth.org
SUMMARY:AA
DESCRIPTION:
URL:https://www.flcduluth.org/event/aa-3/2027-03-20/
CATEGORIES:Outside Group
END:VEVENT
BEGIN:VEVENT
DTSTART;TZID=America/Chicago:20270322T193000
DTEND;TZID=America/Chicago:20270322T210000
DTSTAMP:20260425T060600
CREATED:20230110T215936Z
LAST-MODIFIED:20230110T215936Z
UID:10002416-1805743800-1805749200@www.flcduluth.org
SUMMARY:Nar-Anon Meeting
DESCRIPTION:
URL:https://www.flcduluth.org/event/nar-anon-meeting/2027-03-22/
CATEGORIES:Outside Group
END:VEVENT
BEGIN:VEVENT
DTSTART;TZID=America/Chicago:20270323T063000
DTEND;TZID=America/Chicago:20270323T193000
DTSTAMP:20260425T060600
CREATED:20230110T220428Z
LAST-MODIFIED:20230110T220428Z
UID:10002692-1805783400-1805830200@www.flcduluth.org
SUMMARY:Tai-Chi
DESCRIPTION:
URL:https://www.flcduluth.org/event/tai-chi-3/2027-03-23/
CATEGORIES:Outside Group
END:VEVENT
BEGIN:VEVENT
DTSTART;TZID=America/Chicago:20270324T113000
DTEND;TZID=America/Chicago:20270324T130000
DTSTAMP:20260425T060600
CREATED:20230110T220749Z
LAST-MODIFIED:20230110T220749Z
UID:10002953-1805887800-1805893200@www.flcduluth.org
SUMMARY:Al-Anon
DESCRIPTION:
URL:https://www.flcduluth.org/event/al-anon/2027-03-24/
CATEGORIES:Outside Group
END:VEVENT
BEGIN:VEVENT
DTSTART;TZID=America/Chicago:20270327T090000
DTEND;TZID=America/Chicago:20270327T110000
DTSTAMP:20260425T060600
CREATED:20230110T222829Z
LAST-MODIFIED:20230110T223030Z
UID:10003588-1806138000-1806145200@www.flcduluth.org
SUMMARY:AA
DESCRIPTION:
URL:https://www.flcduluth.org/event/aa-3/2027-03-27/
CATEGORIES:Outside Group
END:VEVENT
BEGIN:VEVENT
DTSTART;TZID=America/Chicago:20270329T193000
DTEND;TZID=America/Chicago:20270329T210000
DTSTAMP:20260425T060600
CREATED:20230110T215936Z
LAST-MODIFIED:20230110T215936Z
UID:10002417-1806348600-1806354000@www.flcduluth.org
SUMMARY:Nar-Anon Meeting
DESCRIPTION:
URL:https://www.flcduluth.org/event/nar-anon-meeting/2027-03-29/
CATEGORIES:Outside Group
END:VEVENT
BEGIN:VEVENT
DTSTART;TZID=America/Chicago:20270330T063000
DTEND;TZID=America/Chicago:20270330T193000
DTSTAMP:20260425T060600
CREATED:20230110T220428Z
LAST-MODIFIED:20230110T220428Z
UID:10002693-1806388200-1806435000@www.flcduluth.org
SUMMARY:Tai-Chi
DESCRIPTION:
URL:https://www.flcduluth.org/event/tai-chi-3/2027-03-30/
CATEGORIES:Outside Group
END:VEVENT
BEGIN:VEVENT
DTSTART;TZID=America/Chicago:20270331T113000
DTEND;TZID=America/Chicago:20270331T130000
DTSTAMP:20260425T060600
CREATED:20230110T220749Z
LAST-MODIFIED:20230110T220749Z
UID:10002954-1806492600-1806498000@www.flcduluth.org
SUMMARY:Al-Anon
DESCRIPTION:
URL:https://www.flcduluth.org/event/al-anon/2027-03-31/
CATEGORIES:Outside Group
END:VEVENT
BEGIN:VEVENT
DTSTART;TZID=America/Chicago:20270403T090000
DTEND;TZID=America/Chicago:20270403T110000
DTSTAMP:20260425T060600
CREATED:20230110T222829Z
LAST-MODIFIED:20230110T223030Z
UID:10003589-1806742800-1806750000@www.flcduluth.org
SUMMARY:AA
DESCRIPTION:
URL:https://www.flcduluth.org/event/aa-3/2027-04-03/
CATEGORIES:Outside Group
END:VEVENT
BEGIN:VEVENT
DTSTART;TZID=America/Chicago:20270405T193000
DTEND;TZID=America/Chicago:20270405T210000
DTSTAMP:20260425T060600
CREATED:20230110T215936Z
LAST-MODIFIED:20230110T215936Z
UID:10002418-1806953400-1806958800@www.flcduluth.org
SUMMARY:Nar-Anon Meeting
DESCRIPTION:
URL:https://www.flcduluth.org/event/nar-anon-meeting/2027-04-05/
CATEGORIES:Outside Group
END:VEVENT
BEGIN:VEVENT
DTSTART;TZID=America/Chicago:20270406T063000
DTEND;TZID=America/Chicago:20270406T193000
DTSTAMP:20260425T060600
CREATED:20230110T220428Z
LAST-MODIFIED:20230110T220428Z
UID:10002694-1806993000-1807039800@www.flcduluth.org
SUMMARY:Tai-Chi
DESCRIPTION:
URL:https://www.flcduluth.org/event/tai-chi-3/2027-04-06/
CATEGORIES:Outside Group
END:VEVENT
BEGIN:VEVENT
DTSTART;TZID=America/Chicago:20270407T113000
DTEND;TZID=America/Chicago:20270407T130000
DTSTAMP:20260425T060600
CREATED:20230110T220749Z
LAST-MODIFIED:20230110T220749Z
UID:10002955-1807097400-1807102800@www.flcduluth.org
SUMMARY:Al-Anon
DESCRIPTION:
URL:https://www.flcduluth.org/event/al-anon/2027-04-07/
CATEGORIES:Outside Group
END:VEVENT
BEGIN:VEVENT
DTSTART;TZID=America/Chicago:20270410T090000
DTEND;TZID=America/Chicago:20270410T110000
DTSTAMP:20260425T060600
CREATED:20230110T222829Z
LAST-MODIFIED:20230110T223030Z
UID:10003590-1807347600-1807354800@www.flcduluth.org
SUMMARY:AA
DESCRIPTION:
URL:https://www.flcduluth.org/event/aa-3/2027-04-10/
CATEGORIES:Outside Group
END:VEVENT
BEGIN:VEVENT
DTSTART;TZID=America/Chicago:20270412T193000
DTEND;TZID=America/Chicago:20270412T210000
DTSTAMP:20260425T060600
CREATED:20230110T215936Z
LAST-MODIFIED:20230110T215936Z
UID:10002419-1807558200-1807563600@www.flcduluth.org
SUMMARY:Nar-Anon Meeting
DESCRIPTION:
URL:https://www.flcduluth.org/event/nar-anon-meeting/2027-04-12/
CATEGORIES:Outside Group
END:VEVENT
BEGIN:VEVENT
DTSTART;TZID=America/Chicago:20270413T063000
DTEND;TZID=America/Chicago:20270413T193000
DTSTAMP:20260425T060600
CREATED:20230110T220428Z
LAST-MODIFIED:20230110T220428Z
UID:10002695-1807597800-1807644600@www.flcduluth.org
SUMMARY:Tai-Chi
DESCRIPTION:
URL:https://www.flcduluth.org/event/tai-chi-3/2027-04-13/
CATEGORIES:Outside Group
END:VEVENT
BEGIN:VEVENT
DTSTART;TZID=America/Chicago:20270414T113000
DTEND;TZID=America/Chicago:20270414T130000
DTSTAMP:20260425T060600
CREATED:20230110T220749Z
LAST-MODIFIED:20230110T220749Z
UID:10002956-1807702200-1807707600@www.flcduluth.org
SUMMARY:Al-Anon
DESCRIPTION:
URL:https://www.flcduluth.org/event/al-anon/2027-04-14/
CATEGORIES:Outside Group
END:VEVENT
BEGIN:VEVENT
DTSTART;TZID=America/Chicago:20270415T183000
DTEND;TZID=America/Chicago:20270415T200000
DTSTAMP:20260425T060600
CREATED:20230110T223406Z
LAST-MODIFIED:20230110T223406Z
UID:10003683-1807813800-1807819200@www.flcduluth.org
SUMMARY:District AA Meeting
DESCRIPTION:
URL:https://www.flcduluth.org/event/district-aa-meeting-4/2027-04-15/
CATEGORIES:Outside Group
END:VEVENT
BEGIN:VEVENT
DTSTART;TZID=America/Chicago:20270417T090000
DTEND;TZID=America/Chicago:20270417T110000
DTSTAMP:20260425T060600
CREATED:20230110T222829Z
LAST-MODIFIED:20230110T223030Z
UID:10003591-1807952400-1807959600@www.flcduluth.org
SUMMARY:AA
DESCRIPTION:
URL:https://www.flcduluth.org/event/aa-3/2027-04-17/
CATEGORIES:Outside Group
END:VEVENT
BEGIN:VEVENT
DTSTART;TZID=America/Chicago:20270419T193000
DTEND;TZID=America/Chicago:20270419T210000
DTSTAMP:20260425T060600
CREATED:20230110T215936Z
LAST-MODIFIED:20230110T215936Z
UID:10002420-1808163000-1808168400@www.flcduluth.org
SUMMARY:Nar-Anon Meeting
DESCRIPTION:
URL:https://www.flcduluth.org/event/nar-anon-meeting/2027-04-19/
CATEGORIES:Outside Group
END:VEVENT
BEGIN:VEVENT
DTSTART;TZID=America/Chicago:20270420T063000
DTEND;TZID=America/Chicago:20270420T193000
DTSTAMP:20260425T060600
CREATED:20230110T220428Z
LAST-MODIFIED:20230110T220428Z
UID:10002696-1808202600-1808249400@www.flcduluth.org
SUMMARY:Tai-Chi
DESCRIPTION:
URL:https://www.flcduluth.org/event/tai-chi-3/2027-04-20/
CATEGORIES:Outside Group
END:VEVENT
BEGIN:VEVENT
DTSTART;TZID=America/Chicago:20270421T113000
DTEND;TZID=America/Chicago:20270421T130000
DTSTAMP:20260425T060600
CREATED:20230110T220749Z
LAST-MODIFIED:20230110T220749Z
UID:10002957-1808307000-1808312400@www.flcduluth.org
SUMMARY:Al-Anon
DESCRIPTION:
URL:https://www.flcduluth.org/event/al-anon/2027-04-21/
CATEGORIES:Outside Group
END:VEVENT
BEGIN:VEVENT
DTSTART;TZID=America/Chicago:20270424T090000
DTEND;TZID=America/Chicago:20270424T110000
DTSTAMP:20260425T060600
CREATED:20230110T222829Z
LAST-MODIFIED:20230110T223030Z
UID:10003592-1808557200-1808564400@www.flcduluth.org
SUMMARY:AA
DESCRIPTION:
URL:https://www.flcduluth.org/event/aa-3/2027-04-24/
CATEGORIES:Outside Group
END:VEVENT
BEGIN:VEVENT
DTSTART;TZID=America/Chicago:20270426T193000
DTEND;TZID=America/Chicago:20270426T210000
DTSTAMP:20260425T060600
CREATED:20230110T215936Z
LAST-MODIFIED:20230110T215936Z
UID:10002421-1808767800-1808773200@www.flcduluth.org
SUMMARY:Nar-Anon Meeting
DESCRIPTION:
URL:https://www.flcduluth.org/event/nar-anon-meeting/2027-04-26/
CATEGORIES:Outside Group
END:VEVENT
BEGIN:VEVENT
DTSTART;TZID=America/Chicago:20270427T063000
DTEND;TZID=America/Chicago:20270427T193000
DTSTAMP:20260425T060600
CREATED:20230110T220428Z
LAST-MODIFIED:20230110T220428Z
UID:10002697-1808807400-1808854200@www.flcduluth.org
SUMMARY:Tai-Chi
DESCRIPTION:
URL:https://www.flcduluth.org/event/tai-chi-3/2027-04-27/
CATEGORIES:Outside Group
END:VEVENT
BEGIN:VEVENT
DTSTART;TZID=America/Chicago:20270428T113000
DTEND;TZID=America/Chicago:20270428T130000
DTSTAMP:20260425T060600
CREATED:20230110T220749Z
LAST-MODIFIED:20230110T220749Z
UID:10002958-1808911800-1808917200@www.flcduluth.org
SUMMARY:Al-Anon
DESCRIPTION:
URL:https://www.flcduluth.org/event/al-anon/2027-04-28/
CATEGORIES:Outside Group
END:VEVENT
BEGIN:VEVENT
DTSTART;TZID=America/Chicago:20270501T090000
DTEND;TZID=America/Chicago:20270501T110000
DTSTAMP:20260425T060600
CREATED:20230110T222829Z
LAST-MODIFIED:20230110T223030Z
UID:10003593-1809162000-1809169200@www.flcduluth.org
SUMMARY:AA
DESCRIPTION:
URL:https://www.flcduluth.org/event/aa-3/2027-05-01/
CATEGORIES:Outside Group
END:VEVENT
END:VCALENDAR