BEGIN:VCALENDAR
VERSION:2.0
PRODID:-//First Lutheran Church - ECPv6.15.20//NONSGML v1.0//EN
CALSCALE:GREGORIAN
METHOD:PUBLISH
X-ORIGINAL-URL:https://www.flcduluth.org
X-WR-CALDESC:Events for First Lutheran Church
REFRESH-INTERVAL;VALUE=DURATION:PT1H
X-Robots-Tag:noindex
X-PUBLISHED-TTL:PT1H
BEGIN:VTIMEZONE
TZID:America/Chicago
BEGIN:DAYLIGHT
TZOFFSETFROM:-0600
TZOFFSETTO:-0500
TZNAME:CDT
DTSTART:20210314T080000
END:DAYLIGHT
BEGIN:STANDARD
TZOFFSETFROM:-0500
TZOFFSETTO:-0600
TZNAME:CST
DTSTART:20211107T070000
END:STANDARD
BEGIN:DAYLIGHT
TZOFFSETFROM:-0600
TZOFFSETTO:-0500
TZNAME:CDT
DTSTART:20220313T080000
END:DAYLIGHT
BEGIN:STANDARD
TZOFFSETFROM:-0500
TZOFFSETTO:-0600
TZNAME:CST
DTSTART:20221106T070000
END:STANDARD
BEGIN:DAYLIGHT
TZOFFSETFROM:-0600
TZOFFSETTO:-0500
TZNAME:CDT
DTSTART:20230312T080000
END:DAYLIGHT
BEGIN:STANDARD
TZOFFSETFROM:-0500
TZOFFSETTO:-0600
TZNAME:CST
DTSTART:20231105T070000
END:STANDARD
BEGIN:DAYLIGHT
TZOFFSETFROM:-0600
TZOFFSETTO:-0500
TZNAME:CDT
DTSTART:20240310T080000
END:DAYLIGHT
BEGIN:STANDARD
TZOFFSETFROM:-0500
TZOFFSETTO:-0600
TZNAME:CST
DTSTART:20241103T070000
END:STANDARD
END:VTIMEZONE
BEGIN:VEVENT
DTSTART;TZID=America/Chicago:20230420T090000
DTEND;TZID=America/Chicago:20230420T113000
DTSTAMP:20260423T212024
CREATED:20230201T212227Z
LAST-MODIFIED:20230418T202343Z
UID:10003894-1681981200-1681990200@www.flcduluth.org
SUMMARY:MOPS
DESCRIPTION:
URL:https://www.flcduluth.org/event/mops-9/2023-04-20/
CATEGORIES:Parent Group
END:VEVENT
BEGIN:VEVENT
DTSTART;TZID=America/Chicago:20230406T090000
DTEND;TZID=America/Chicago:20230406T113000
DTSTAMP:20260423T212024
CREATED:20230201T212149Z
LAST-MODIFIED:20230418T202254Z
UID:10003834-1680771600-1680780600@www.flcduluth.org
SUMMARY:MOPS
DESCRIPTION:
URL:https://www.flcduluth.org/event/mops-8/2023-04-06/
CATEGORIES:Parent Group
END:VEVENT
BEGIN:VEVENT
DTSTART;TZID=America/Chicago:20230316T090000
DTEND;TZID=America/Chicago:20230316T113000
DTSTAMP:20260423T212024
CREATED:20230201T212227Z
LAST-MODIFIED:20230418T202343Z
UID:10003893-1678957200-1678966200@www.flcduluth.org
SUMMARY:MOPS
DESCRIPTION:
URL:https://www.flcduluth.org/event/mops-9/2023-03-16/
CATEGORIES:Parent Group
END:VEVENT
BEGIN:VEVENT
DTSTART;TZID=America/Chicago:20230302T090000
DTEND;TZID=America/Chicago:20230302T113000
DTSTAMP:20260423T212024
CREATED:20230201T212149Z
LAST-MODIFIED:20230418T202254Z
UID:10003833-1677747600-1677756600@www.flcduluth.org
SUMMARY:MOPS
DESCRIPTION:
URL:https://www.flcduluth.org/event/mops-8/2023-03-02/
CATEGORIES:Parent Group
END:VEVENT
BEGIN:VEVENT
DTSTART;TZID=America/Chicago:20230216T090000
DTEND;TZID=America/Chicago:20230216T113000
DTSTAMP:20260423T212024
CREATED:20230201T212227Z
LAST-MODIFIED:20230418T202343Z
UID:10003892-1676538000-1676547000@www.flcduluth.org
SUMMARY:MOPS
DESCRIPTION:
URL:https://www.flcduluth.org/event/mops-9/2023-02-16/
CATEGORIES:Parent Group
END:VEVENT
BEGIN:VEVENT
DTSTART;TZID=America/Chicago:20230202T090000
DTEND;TZID=America/Chicago:20230202T113000
DTSTAMP:20260423T212024
CREATED:20230201T212149Z
LAST-MODIFIED:20230418T202254Z
UID:10003832-1675328400-1675337400@www.flcduluth.org
SUMMARY:MOPS
DESCRIPTION:
URL:https://www.flcduluth.org/event/mops-8/2023-02-02/
CATEGORIES:Parent Group
END:VEVENT
BEGIN:VEVENT
DTSTART;TZID=America/Chicago:20230122T094500
DTEND;TZID=America/Chicago:20230122T104500
DTSTAMP:20260423T212024
CREATED:20230110T223919Z
LAST-MODIFIED:20230110T223919Z
UID:10003695-1674380700-1674384300@www.flcduluth.org
SUMMARY:Parents Gathering
DESCRIPTION:
URL:https://www.flcduluth.org/event/parents-gathering/
CATEGORIES:Parent Group
END:VEVENT
BEGIN:VEVENT
DTSTART;TZID=America/Chicago:20221215T093000
DTEND;TZID=America/Chicago:20221215T120000
DTSTAMP:20260423T212024
CREATED:20221020T180551Z
LAST-MODIFIED:20221020T180551Z
UID:10001835-1671096600-1671105600@www.flcduluth.org
SUMMARY:MOPS
DESCRIPTION:
URL:https://www.flcduluth.org/event/mops-6/2022-12-15/
CATEGORIES:Parent Group
END:VEVENT
BEGIN:VEVENT
DTSTART;TZID=America/Chicago:20221201T093000
DTEND;TZID=America/Chicago:20221201T120000
DTSTAMP:20260423T212024
CREATED:20221007T161035Z
LAST-MODIFIED:20221007T161035Z
UID:10001833-1669887000-1669896000@www.flcduluth.org
SUMMARY:MOPS
DESCRIPTION:
URL:https://www.flcduluth.org/event/mops-6/2022-12-01/
CATEGORIES:Parent Group
END:VEVENT
BEGIN:VEVENT
DTSTART;TZID=America/Chicago:20221120T093000
DTEND;TZID=America/Chicago:20221120T103000
DTSTAMP:20260423T212024
CREATED:20221027T184651Z
LAST-MODIFIED:20221027T184651Z
UID:10001875-1668936600-1668940200@www.flcduluth.org
SUMMARY:Sunday School Parents Gathering
DESCRIPTION:
URL:https://www.flcduluth.org/event/sunday-school-parents-gathering/
CATEGORIES:Parent Group
END:VEVENT
BEGIN:VEVENT
DTSTART;TZID=America/Chicago:20221117T093000
DTEND;TZID=America/Chicago:20221117T120000
DTSTAMP:20260423T212024
CREATED:20221020T180551Z
LAST-MODIFIED:20221020T180551Z
UID:10001834-1668677400-1668686400@www.flcduluth.org
SUMMARY:MOPS
DESCRIPTION:
URL:https://www.flcduluth.org/event/mops-6/2022-11-17/
CATEGORIES:Parent Group
END:VEVENT
BEGIN:VEVENT
DTSTART;TZID=America/Chicago:20221103T093000
DTEND;TZID=America/Chicago:20221103T120000
DTSTAMP:20260423T212024
CREATED:20221007T161035Z
LAST-MODIFIED:20221007T161035Z
UID:10001832-1667467800-1667476800@www.flcduluth.org
SUMMARY:MOPS
DESCRIPTION:
URL:https://www.flcduluth.org/event/mops-6/2022-11-03/
CATEGORIES:Parent Group
END:VEVENT
BEGIN:VEVENT
DTSTART;TZID=America/Chicago:20221027T093000
DTEND;TZID=America/Chicago:20221027T120000
DTSTAMP:20260423T212024
CREATED:20221007T160838Z
LAST-MODIFIED:20221007T160838Z
UID:10001782-1666863000-1666872000@www.flcduluth.org
SUMMARY:MOPS
DESCRIPTION:
URL:https://www.flcduluth.org/event/mops-5/
CATEGORIES:Parent Group
END:VEVENT
BEGIN:VEVENT
DTSTART;TZID=America/Chicago:20221013T093000
DTEND;TZID=America/Chicago:20221013T120000
DTSTAMP:20260423T212024
CREATED:20221007T152534Z
LAST-MODIFIED:20221007T152534Z
UID:10001786-1665653400-1665662400@www.flcduluth.org
SUMMARY:MOPS
DESCRIPTION:
URL:https://www.flcduluth.org/event/mops-4/
CATEGORIES:Parent Group
END:VEVENT
BEGIN:VEVENT
DTSTART;TZID=America/Chicago:20220118T203000
DTEND;TZID=America/Chicago:20220118T213000
DTSTAMP:20260423T212024
CREATED:20220114T175834Z
LAST-MODIFIED:20220114T175834Z
UID:10001475-1642537800-1642541400@www.flcduluth.org
SUMMARY:FLC Parent Group
DESCRIPTION:All parents are welcome!! \nClick here for parent group zoom link.
URL:https://www.flcduluth.org/event/flc-parent-group/
CATEGORIES:Parent Group
END:VEVENT
END:VCALENDAR