BEGIN:VCALENDAR
VERSION:2.0
PRODID:-//First Lutheran Church - ECPv6.15.20//NONSGML v1.0//EN
CALSCALE:GREGORIAN
METHOD:PUBLISH
X-ORIGINAL-URL:https://www.flcduluth.org
X-WR-CALDESC:Events for First Lutheran Church
REFRESH-INTERVAL;VALUE=DURATION:PT1H
X-Robots-Tag:noindex
X-PUBLISHED-TTL:PT1H
BEGIN:VTIMEZONE
TZID:America/Chicago
BEGIN:DAYLIGHT
TZOFFSETFROM:-0600
TZOFFSETTO:-0500
TZNAME:CDT
DTSTART:20210314T080000
END:DAYLIGHT
BEGIN:STANDARD
TZOFFSETFROM:-0500
TZOFFSETTO:-0600
TZNAME:CST
DTSTART:20211107T070000
END:STANDARD
BEGIN:DAYLIGHT
TZOFFSETFROM:-0600
TZOFFSETTO:-0500
TZNAME:CDT
DTSTART:20220313T080000
END:DAYLIGHT
BEGIN:STANDARD
TZOFFSETFROM:-0500
TZOFFSETTO:-0600
TZNAME:CST
DTSTART:20221106T070000
END:STANDARD
BEGIN:DAYLIGHT
TZOFFSETFROM:-0600
TZOFFSETTO:-0500
TZNAME:CDT
DTSTART:20230312T080000
END:DAYLIGHT
BEGIN:STANDARD
TZOFFSETFROM:-0500
TZOFFSETTO:-0600
TZNAME:CST
DTSTART:20231105T070000
END:STANDARD
BEGIN:DAYLIGHT
TZOFFSETFROM:-0600
TZOFFSETTO:-0500
TZNAME:CDT
DTSTART:20240310T080000
END:DAYLIGHT
BEGIN:STANDARD
TZOFFSETFROM:-0500
TZOFFSETTO:-0600
TZNAME:CST
DTSTART:20241103T070000
END:STANDARD
END:VTIMEZONE
BEGIN:VEVENT
DTSTART;TZID=America/Chicago:20231011T100000
DTEND;TZID=America/Chicago:20231011T113000
DTSTAMP:20260424T061749
CREATED:20230829T193211Z
LAST-MODIFIED:20230829T193211Z
UID:10004859-1697018400-1697023800@www.flcduluth.org
SUMMARY:Staff Meeting
DESCRIPTION:
URL:https://www.flcduluth.org/event/staff-meeting-3/2023-10-11/
CATEGORIES:Staff
END:VEVENT
BEGIN:VEVENT
DTSTART;TZID=America/Chicago:20231004T100000
DTEND;TZID=America/Chicago:20231004T113000
DTSTAMP:20260424T061749
CREATED:20230829T193211Z
LAST-MODIFIED:20230829T193211Z
UID:10004858-1696413600-1696419000@www.flcduluth.org
SUMMARY:Staff Meeting
DESCRIPTION:
URL:https://www.flcduluth.org/event/staff-meeting-3/2023-10-04/
CATEGORIES:Staff
END:VEVENT
BEGIN:VEVENT
DTSTART;TZID=America/Chicago:20230927T100000
DTEND;TZID=America/Chicago:20230927T113000
DTSTAMP:20260424T061749
CREATED:20230829T193211Z
LAST-MODIFIED:20230829T193211Z
UID:10004857-1695808800-1695814200@www.flcduluth.org
SUMMARY:Staff Meeting
DESCRIPTION:
URL:https://www.flcduluth.org/event/staff-meeting-3/2023-09-27/
CATEGORIES:Staff
END:VEVENT
BEGIN:VEVENT
DTSTART;TZID=America/Chicago:20230920T100000
DTEND;TZID=America/Chicago:20230920T113000
DTSTAMP:20260424T061749
CREATED:20230829T193211Z
LAST-MODIFIED:20230829T193211Z
UID:10004856-1695204000-1695209400@www.flcduluth.org
SUMMARY:Staff Meeting
DESCRIPTION:
URL:https://www.flcduluth.org/event/staff-meeting-3/2023-09-20/
CATEGORIES:Staff
END:VEVENT
BEGIN:VEVENT
DTSTART;TZID=America/Chicago:20230913T100000
DTEND;TZID=America/Chicago:20230913T113000
DTSTAMP:20260424T061749
CREATED:20230829T193211Z
LAST-MODIFIED:20230829T193211Z
UID:10004855-1694599200-1694604600@www.flcduluth.org
SUMMARY:Staff Meeting
DESCRIPTION:
URL:https://www.flcduluth.org/event/staff-meeting-3/2023-09-13/
CATEGORIES:Staff
END:VEVENT
BEGIN:VEVENT
DTSTART;TZID=America/Chicago:20230906T100000
DTEND;TZID=America/Chicago:20230906T113000
DTSTAMP:20260424T061749
CREATED:20230829T193211Z
LAST-MODIFIED:20230829T193211Z
UID:10004854-1693994400-1693999800@www.flcduluth.org
SUMMARY:Staff Meeting
DESCRIPTION:
URL:https://www.flcduluth.org/event/staff-meeting-3/2023-09-06/
CATEGORIES:Staff
END:VEVENT
BEGIN:VEVENT
DTSTART;TZID=America/Chicago:20230830T100000
DTEND;TZID=America/Chicago:20230830T113000
DTSTAMP:20260424T061749
CREATED:20230829T193211Z
LAST-MODIFIED:20230829T193211Z
UID:10004853-1693389600-1693395000@www.flcduluth.org
SUMMARY:Staff Meeting
DESCRIPTION:
URL:https://www.flcduluth.org/event/staff-meeting-3/2023-08-30/
CATEGORIES:Staff
END:VEVENT
BEGIN:VEVENT
DTSTART;TZID=America/Chicago:20221228T100000
DTEND;TZID=America/Chicago:20221228T113000
DTSTAMP:20260424T061749
CREATED:20220113T174908Z
LAST-MODIFIED:20220113T174908Z
UID:10001086-1672221600-1672227000@www.flcduluth.org
SUMMARY:Staff Meeting
DESCRIPTION:
URL:https://www.flcduluth.org/event/staff-meeting-2/2022-12-28/
CATEGORIES:Staff
END:VEVENT
BEGIN:VEVENT
DTSTART;TZID=America/Chicago:20221221T100000
DTEND;TZID=America/Chicago:20221221T113000
DTSTAMP:20260424T061749
CREATED:20220113T174908Z
LAST-MODIFIED:20220113T174908Z
UID:10001085-1671616800-1671622200@www.flcduluth.org
SUMMARY:Staff Meeting
DESCRIPTION:
URL:https://www.flcduluth.org/event/staff-meeting-2/2022-12-21/
CATEGORIES:Staff
END:VEVENT
BEGIN:VEVENT
DTSTART;TZID=America/Chicago:20221214T100000
DTEND;TZID=America/Chicago:20221214T113000
DTSTAMP:20260424T061749
CREATED:20220113T174908Z
LAST-MODIFIED:20220113T174908Z
UID:10001084-1671012000-1671017400@www.flcduluth.org
SUMMARY:Staff Meeting
DESCRIPTION:
URL:https://www.flcduluth.org/event/staff-meeting-2/2022-12-14/
CATEGORIES:Staff
END:VEVENT
BEGIN:VEVENT
DTSTART;TZID=America/Chicago:20221207T100000
DTEND;TZID=America/Chicago:20221207T113000
DTSTAMP:20260424T061749
CREATED:20220113T174908Z
LAST-MODIFIED:20220113T174908Z
UID:10001083-1670407200-1670412600@www.flcduluth.org
SUMMARY:Staff Meeting
DESCRIPTION:
URL:https://www.flcduluth.org/event/staff-meeting-2/2022-12-07/
CATEGORIES:Staff
END:VEVENT
BEGIN:VEVENT
DTSTART;TZID=America/Chicago:20221130T100000
DTEND;TZID=America/Chicago:20221130T113000
DTSTAMP:20260424T061749
CREATED:20220113T174908Z
LAST-MODIFIED:20220113T174908Z
UID:10001082-1669802400-1669807800@www.flcduluth.org
SUMMARY:Staff Meeting
DESCRIPTION:
URL:https://www.flcduluth.org/event/staff-meeting-2/2022-11-30/
CATEGORIES:Staff
END:VEVENT
BEGIN:VEVENT
DTSTART;TZID=America/Chicago:20221123T100000
DTEND;TZID=America/Chicago:20221123T113000
DTSTAMP:20260424T061749
CREATED:20220113T174908Z
LAST-MODIFIED:20220113T174908Z
UID:10001081-1669197600-1669203000@www.flcduluth.org
SUMMARY:Staff Meeting
DESCRIPTION:
URL:https://www.flcduluth.org/event/staff-meeting-2/2022-11-23/
CATEGORIES:Staff
END:VEVENT
BEGIN:VEVENT
DTSTART;TZID=America/Chicago:20221116T100000
DTEND;TZID=America/Chicago:20221116T113000
DTSTAMP:20260424T061749
CREATED:20220113T174908Z
LAST-MODIFIED:20220113T174908Z
UID:10001080-1668592800-1668598200@www.flcduluth.org
SUMMARY:Staff Meeting
DESCRIPTION:
URL:https://www.flcduluth.org/event/staff-meeting-2/2022-11-16/
CATEGORIES:Staff
END:VEVENT
BEGIN:VEVENT
DTSTART;TZID=America/Chicago:20221109T100000
DTEND;TZID=America/Chicago:20221109T113000
DTSTAMP:20260424T061749
CREATED:20220113T174908Z
LAST-MODIFIED:20220113T174908Z
UID:10001079-1667988000-1667993400@www.flcduluth.org
SUMMARY:Staff Meeting
DESCRIPTION:
URL:https://www.flcduluth.org/event/staff-meeting-2/2022-11-09/
CATEGORIES:Staff
END:VEVENT
BEGIN:VEVENT
DTSTART;TZID=America/Chicago:20221102T100000
DTEND;TZID=America/Chicago:20221102T113000
DTSTAMP:20260424T061749
CREATED:20220113T174908Z
LAST-MODIFIED:20220113T174908Z
UID:10001078-1667383200-1667388600@www.flcduluth.org
SUMMARY:Staff Meeting
DESCRIPTION:
URL:https://www.flcduluth.org/event/staff-meeting-2/2022-11-02/
CATEGORIES:Staff
END:VEVENT
BEGIN:VEVENT
DTSTART;TZID=America/Chicago:20221026T100000
DTEND;TZID=America/Chicago:20221026T113000
DTSTAMP:20260424T061749
CREATED:20220113T174908Z
LAST-MODIFIED:20220113T174908Z
UID:10001077-1666778400-1666783800@www.flcduluth.org
SUMMARY:Staff Meeting
DESCRIPTION:
URL:https://www.flcduluth.org/event/staff-meeting-2/2022-10-26/
CATEGORIES:Staff
END:VEVENT
BEGIN:VEVENT
DTSTART;TZID=America/Chicago:20221019T100000
DTEND;TZID=America/Chicago:20221019T113000
DTSTAMP:20260424T061749
CREATED:20220113T174908Z
LAST-MODIFIED:20220113T174908Z
UID:10001076-1666173600-1666179000@www.flcduluth.org
SUMMARY:Staff Meeting
DESCRIPTION:
URL:https://www.flcduluth.org/event/staff-meeting-2/2022-10-19/
CATEGORIES:Staff
END:VEVENT
BEGIN:VEVENT
DTSTART;TZID=America/Chicago:20221012T100000
DTEND;TZID=America/Chicago:20221012T113000
DTSTAMP:20260424T061749
CREATED:20220113T174908Z
LAST-MODIFIED:20220113T174908Z
UID:10001075-1665568800-1665574200@www.flcduluth.org
SUMMARY:Staff Meeting
DESCRIPTION:
URL:https://www.flcduluth.org/event/staff-meeting-2/2022-10-12/
CATEGORIES:Staff
END:VEVENT
BEGIN:VEVENT
DTSTART;TZID=America/Chicago:20221005T100000
DTEND;TZID=America/Chicago:20221005T113000
DTSTAMP:20260424T061749
CREATED:20220113T174908Z
LAST-MODIFIED:20220113T174908Z
UID:10001074-1664964000-1664969400@www.flcduluth.org
SUMMARY:Staff Meeting
DESCRIPTION:
URL:https://www.flcduluth.org/event/staff-meeting-2/2022-10-05/
CATEGORIES:Staff
END:VEVENT
BEGIN:VEVENT
DTSTART;TZID=America/Chicago:20220928T100000
DTEND;TZID=America/Chicago:20220928T113000
DTSTAMP:20260424T061749
CREATED:20220113T174908Z
LAST-MODIFIED:20220113T174908Z
UID:10001073-1664359200-1664364600@www.flcduluth.org
SUMMARY:Staff Meeting
DESCRIPTION:
URL:https://www.flcduluth.org/event/staff-meeting-2/2022-09-28/
CATEGORIES:Staff
END:VEVENT
BEGIN:VEVENT
DTSTART;TZID=America/Chicago:20220921T100000
DTEND;TZID=America/Chicago:20220921T113000
DTSTAMP:20260424T061749
CREATED:20220113T174908Z
LAST-MODIFIED:20220113T174908Z
UID:10001072-1663754400-1663759800@www.flcduluth.org
SUMMARY:Staff Meeting
DESCRIPTION:
URL:https://www.flcduluth.org/event/staff-meeting-2/2022-09-21/
CATEGORIES:Staff
END:VEVENT
BEGIN:VEVENT
DTSTART;TZID=America/Chicago:20220914T100000
DTEND;TZID=America/Chicago:20220914T113000
DTSTAMP:20260424T061749
CREATED:20220113T174908Z
LAST-MODIFIED:20220113T174908Z
UID:10001071-1663149600-1663155000@www.flcduluth.org
SUMMARY:Staff Meeting
DESCRIPTION:
URL:https://www.flcduluth.org/event/staff-meeting-2/2022-09-14/
CATEGORIES:Staff
END:VEVENT
BEGIN:VEVENT
DTSTART;TZID=America/Chicago:20220907T100000
DTEND;TZID=America/Chicago:20220907T113000
DTSTAMP:20260424T061749
CREATED:20220113T174908Z
LAST-MODIFIED:20220113T174908Z
UID:10001070-1662544800-1662550200@www.flcduluth.org
SUMMARY:Staff Meeting
DESCRIPTION:
URL:https://www.flcduluth.org/event/staff-meeting-2/2022-09-07/
CATEGORIES:Staff
END:VEVENT
BEGIN:VEVENT
DTSTART;TZID=America/Chicago:20220831T100000
DTEND;TZID=America/Chicago:20220831T113000
DTSTAMP:20260424T061749
CREATED:20220113T174908Z
LAST-MODIFIED:20220113T174908Z
UID:10001069-1661940000-1661945400@www.flcduluth.org
SUMMARY:Staff Meeting
DESCRIPTION:
URL:https://www.flcduluth.org/event/staff-meeting-2/2022-08-31/
CATEGORIES:Staff
END:VEVENT
BEGIN:VEVENT
DTSTART;TZID=America/Chicago:20220824T100000
DTEND;TZID=America/Chicago:20220824T113000
DTSTAMP:20260424T061749
CREATED:20220113T174908Z
LAST-MODIFIED:20220113T174908Z
UID:10001068-1661335200-1661340600@www.flcduluth.org
SUMMARY:Staff Meeting
DESCRIPTION:
URL:https://www.flcduluth.org/event/staff-meeting-2/2022-08-24/
CATEGORIES:Staff
END:VEVENT
BEGIN:VEVENT
DTSTART;TZID=America/Chicago:20220817T100000
DTEND;TZID=America/Chicago:20220817T113000
DTSTAMP:20260424T061749
CREATED:20220113T174908Z
LAST-MODIFIED:20220113T174908Z
UID:10001067-1660730400-1660735800@www.flcduluth.org
SUMMARY:Staff Meeting
DESCRIPTION:
URL:https://www.flcduluth.org/event/staff-meeting-2/2022-08-17/
CATEGORIES:Staff
END:VEVENT
BEGIN:VEVENT
DTSTART;TZID=America/Chicago:20220810T100000
DTEND;TZID=America/Chicago:20220810T113000
DTSTAMP:20260424T061749
CREATED:20220113T174908Z
LAST-MODIFIED:20220113T174908Z
UID:10001066-1660125600-1660131000@www.flcduluth.org
SUMMARY:Staff Meeting
DESCRIPTION:
URL:https://www.flcduluth.org/event/staff-meeting-2/2022-08-10/
CATEGORIES:Staff
END:VEVENT
BEGIN:VEVENT
DTSTART;TZID=America/Chicago:20220803T100000
DTEND;TZID=America/Chicago:20220803T113000
DTSTAMP:20260424T061749
CREATED:20220113T174908Z
LAST-MODIFIED:20220113T174908Z
UID:10001065-1659520800-1659526200@www.flcduluth.org
SUMMARY:Staff Meeting
DESCRIPTION:
URL:https://www.flcduluth.org/event/staff-meeting-2/2022-08-03/
CATEGORIES:Staff
END:VEVENT
BEGIN:VEVENT
DTSTART;TZID=America/Chicago:20220727T100000
DTEND;TZID=America/Chicago:20220727T113000
DTSTAMP:20260424T061749
CREATED:20220113T174908Z
LAST-MODIFIED:20220113T174908Z
UID:10001064-1658916000-1658921400@www.flcduluth.org
SUMMARY:Staff Meeting
DESCRIPTION:
URL:https://www.flcduluth.org/event/staff-meeting-2/2022-07-27/
CATEGORIES:Staff
END:VEVENT
END:VCALENDAR