BEGIN:VCALENDAR
VERSION:2.0
PRODID:-//First Lutheran Church - ECPv6.15.20//NONSGML v1.0//EN
CALSCALE:GREGORIAN
METHOD:PUBLISH
X-WR-CALNAME:First Lutheran Church
X-ORIGINAL-URL:https://www.flcduluth.org
X-WR-CALDESC:Events for First Lutheran Church
REFRESH-INTERVAL;VALUE=DURATION:PT1H
X-Robots-Tag:noindex
X-PUBLISHED-TTL:PT1H
BEGIN:VTIMEZONE
TZID:America/Chicago
BEGIN:DAYLIGHT
TZOFFSETFROM:-0600
TZOFFSETTO:-0500
TZNAME:CDT
DTSTART:20210314T080000
END:DAYLIGHT
BEGIN:STANDARD
TZOFFSETFROM:-0500
TZOFFSETTO:-0600
TZNAME:CST
DTSTART:20211107T070000
END:STANDARD
BEGIN:DAYLIGHT
TZOFFSETFROM:-0600
TZOFFSETTO:-0500
TZNAME:CDT
DTSTART:20220313T080000
END:DAYLIGHT
BEGIN:STANDARD
TZOFFSETFROM:-0500
TZOFFSETTO:-0600
TZNAME:CST
DTSTART:20221106T070000
END:STANDARD
BEGIN:DAYLIGHT
TZOFFSETFROM:-0600
TZOFFSETTO:-0500
TZNAME:CDT
DTSTART:20230312T080000
END:DAYLIGHT
BEGIN:STANDARD
TZOFFSETFROM:-0500
TZOFFSETTO:-0600
TZNAME:CST
DTSTART:20231105T070000
END:STANDARD
END:VTIMEZONE
BEGIN:VEVENT
DTSTART;TZID=America/Chicago:20220513T160000
DTEND;TZID=America/Chicago:20220513T170000
DTSTAMP:20260424T122634
CREATED:20221020T180113Z
LAST-MODIFIED:20221020T180113Z
UID:10000432-1652457600-1652461200@www.flcduluth.org
SUMMARY:Private Music Lessons
DESCRIPTION:
URL:https://www.flcduluth.org/event/private-music-lessons-2/2022-05-13/
CATEGORIES:Music Rehearsal,Staff
END:VEVENT
BEGIN:VEVENT
DTSTART;TZID=America/Chicago:20220511T100000
DTEND;TZID=America/Chicago:20220511T113000
DTSTAMP:20260424T122634
CREATED:20220113T174908Z
LAST-MODIFIED:20220113T174908Z
UID:10001053-1652263200-1652268600@www.flcduluth.org
SUMMARY:Staff Meeting
DESCRIPTION:
URL:https://www.flcduluth.org/event/staff-meeting-2/2022-05-11/
CATEGORIES:Staff
END:VEVENT
BEGIN:VEVENT
DTSTART;TZID=America/Chicago:20220507T160000
DTEND;TZID=America/Chicago:20220507T170000
DTSTAMP:20260424T122634
CREATED:20221020T180113Z
LAST-MODIFIED:20221020T180113Z
UID:10000431-1651939200-1651942800@www.flcduluth.org
SUMMARY:Private Music Lessons
DESCRIPTION:
URL:https://www.flcduluth.org/event/private-music-lessons-2/2022-05-07/
CATEGORIES:Music Rehearsal,Staff
END:VEVENT
BEGIN:VEVENT
DTSTART;TZID=America/Chicago:20220507T100000
DTEND;TZID=America/Chicago:20220507T110000
DTSTAMP:20260424T122634
CREATED:20220113T183916Z
LAST-MODIFIED:20220526T164728Z
UID:10000390-1651917600-1651921200@www.flcduluth.org
SUMMARY:Private Music Lessons
DESCRIPTION:
URL:https://www.flcduluth.org/event/private-music-lessons-2/2022-05-07/
CATEGORIES:Music Rehearsal,Staff
END:VEVENT
BEGIN:VEVENT
DTSTART;TZID=America/Chicago:20220506T160000
DTEND;TZID=America/Chicago:20220506T170000
DTSTAMP:20260424T122634
CREATED:20221020T180113Z
LAST-MODIFIED:20221020T180113Z
UID:10000430-1651852800-1651856400@www.flcduluth.org
SUMMARY:Private Music Lessons
DESCRIPTION:
URL:https://www.flcduluth.org/event/private-music-lessons-2/2022-05-06/
CATEGORIES:Music Rehearsal,Staff
END:VEVENT
BEGIN:VEVENT
DTSTART;TZID=America/Chicago:20220504T100000
DTEND;TZID=America/Chicago:20220504T113000
DTSTAMP:20260424T122634
CREATED:20220113T174908Z
LAST-MODIFIED:20220113T174908Z
UID:10001052-1651658400-1651663800@www.flcduluth.org
SUMMARY:Staff Meeting
DESCRIPTION:
URL:https://www.flcduluth.org/event/staff-meeting-2/2022-05-04/
CATEGORIES:Staff
END:VEVENT
BEGIN:VEVENT
DTSTART;TZID=America/Chicago:20220430T160000
DTEND;TZID=America/Chicago:20220430T170000
DTSTAMP:20260424T122634
CREATED:20221020T180113Z
LAST-MODIFIED:20221020T180113Z
UID:10000429-1651334400-1651338000@www.flcduluth.org
SUMMARY:Private Music Lessons
DESCRIPTION:
URL:https://www.flcduluth.org/event/private-music-lessons-2/2022-04-30/
CATEGORIES:Music Rehearsal,Staff
END:VEVENT
BEGIN:VEVENT
DTSTART;TZID=America/Chicago:20220430T100000
DTEND;TZID=America/Chicago:20220430T110000
DTSTAMP:20260424T122634
CREATED:20220113T183916Z
LAST-MODIFIED:20220526T164728Z
UID:10000389-1651312800-1651316400@www.flcduluth.org
SUMMARY:Private Music Lessons
DESCRIPTION:
URL:https://www.flcduluth.org/event/private-music-lessons-2/2022-04-30/
CATEGORIES:Music Rehearsal,Staff
END:VEVENT
BEGIN:VEVENT
DTSTART;TZID=America/Chicago:20220429T160000
DTEND;TZID=America/Chicago:20220429T170000
DTSTAMP:20260424T122634
CREATED:20221020T180113Z
LAST-MODIFIED:20221020T180113Z
UID:10000428-1651248000-1651251600@www.flcduluth.org
SUMMARY:Private Music Lessons
DESCRIPTION:
URL:https://www.flcduluth.org/event/private-music-lessons-2/2022-04-29/
CATEGORIES:Music Rehearsal,Staff
END:VEVENT
BEGIN:VEVENT
DTSTART;TZID=America/Chicago:20220427T100000
DTEND;TZID=America/Chicago:20220427T113000
DTSTAMP:20260424T122634
CREATED:20220113T174908Z
LAST-MODIFIED:20220113T174908Z
UID:10001051-1651053600-1651059000@www.flcduluth.org
SUMMARY:Staff Meeting
DESCRIPTION:
URL:https://www.flcduluth.org/event/staff-meeting-2/2022-04-27/
CATEGORIES:Staff
END:VEVENT
BEGIN:VEVENT
DTSTART;TZID=America/Chicago:20220423T160000
DTEND;TZID=America/Chicago:20220423T170000
DTSTAMP:20260424T122634
CREATED:20221020T180113Z
LAST-MODIFIED:20221020T180113Z
UID:10000427-1650729600-1650733200@www.flcduluth.org
SUMMARY:Private Music Lessons
DESCRIPTION:
URL:https://www.flcduluth.org/event/private-music-lessons-2/2022-04-23/
CATEGORIES:Music Rehearsal,Staff
END:VEVENT
BEGIN:VEVENT
DTSTART;TZID=America/Chicago:20220423T100000
DTEND;TZID=America/Chicago:20220423T110000
DTSTAMP:20260424T122634
CREATED:20220113T183916Z
LAST-MODIFIED:20220526T164728Z
UID:10000388-1650708000-1650711600@www.flcduluth.org
SUMMARY:Private Music Lessons
DESCRIPTION:
URL:https://www.flcduluth.org/event/private-music-lessons-2/2022-04-23/
CATEGORIES:Music Rehearsal,Staff
END:VEVENT
BEGIN:VEVENT
DTSTART;TZID=America/Chicago:20220422T160000
DTEND;TZID=America/Chicago:20220422T170000
DTSTAMP:20260424T122634
CREATED:20221020T180113Z
LAST-MODIFIED:20221020T180113Z
UID:10000426-1650643200-1650646800@www.flcduluth.org
SUMMARY:Private Music Lessons
DESCRIPTION:
URL:https://www.flcduluth.org/event/private-music-lessons-2/2022-04-22/
CATEGORIES:Music Rehearsal,Staff
END:VEVENT
BEGIN:VEVENT
DTSTART;TZID=America/Chicago:20220420T100000
DTEND;TZID=America/Chicago:20220420T113000
DTSTAMP:20260424T122634
CREATED:20220113T174908Z
LAST-MODIFIED:20220113T174908Z
UID:10001050-1650448800-1650454200@www.flcduluth.org
SUMMARY:Staff Meeting
DESCRIPTION:
URL:https://www.flcduluth.org/event/staff-meeting-2/2022-04-20/
CATEGORIES:Staff
END:VEVENT
BEGIN:VEVENT
DTSTART;TZID=America/Chicago:20220416T160000
DTEND;TZID=America/Chicago:20220416T170000
DTSTAMP:20260424T122634
CREATED:20221020T180113Z
LAST-MODIFIED:20221020T180113Z
UID:10000425-1650124800-1650128400@www.flcduluth.org
SUMMARY:Private Music Lessons
DESCRIPTION:
URL:https://www.flcduluth.org/event/private-music-lessons-2/2022-04-16/
CATEGORIES:Music Rehearsal,Staff
END:VEVENT
BEGIN:VEVENT
DTSTART;TZID=America/Chicago:20220416T100000
DTEND;TZID=America/Chicago:20220416T110000
DTSTAMP:20260424T122634
CREATED:20220113T183916Z
LAST-MODIFIED:20220526T164728Z
UID:10000387-1650103200-1650106800@www.flcduluth.org
SUMMARY:Private Music Lessons
DESCRIPTION:
URL:https://www.flcduluth.org/event/private-music-lessons-2/2022-04-16/
CATEGORIES:Music Rehearsal,Staff
END:VEVENT
BEGIN:VEVENT
DTSTART;TZID=America/Chicago:20220415T160000
DTEND;TZID=America/Chicago:20220415T170000
DTSTAMP:20260424T122634
CREATED:20221020T180113Z
LAST-MODIFIED:20221020T180113Z
UID:10000424-1650038400-1650042000@www.flcduluth.org
SUMMARY:Private Music Lessons
DESCRIPTION:
URL:https://www.flcduluth.org/event/private-music-lessons-2/2022-04-15/
CATEGORIES:Music Rehearsal,Staff
END:VEVENT
BEGIN:VEVENT
DTSTART;TZID=America/Chicago:20220413T100000
DTEND;TZID=America/Chicago:20220413T113000
DTSTAMP:20260424T122634
CREATED:20220113T174908Z
LAST-MODIFIED:20220113T174908Z
UID:10001049-1649844000-1649849400@www.flcduluth.org
SUMMARY:Staff Meeting
DESCRIPTION:
URL:https://www.flcduluth.org/event/staff-meeting-2/2022-04-13/
CATEGORIES:Staff
END:VEVENT
BEGIN:VEVENT
DTSTART;TZID=America/Chicago:20220409T160000
DTEND;TZID=America/Chicago:20220409T170000
DTSTAMP:20260424T122634
CREATED:20221020T180113Z
LAST-MODIFIED:20221020T180113Z
UID:10000423-1649520000-1649523600@www.flcduluth.org
SUMMARY:Private Music Lessons
DESCRIPTION:
URL:https://www.flcduluth.org/event/private-music-lessons-2/2022-04-09/
CATEGORIES:Music Rehearsal,Staff
END:VEVENT
BEGIN:VEVENT
DTSTART;TZID=America/Chicago:20220409T100000
DTEND;TZID=America/Chicago:20220409T110000
DTSTAMP:20260424T122634
CREATED:20220113T183916Z
LAST-MODIFIED:20220526T164728Z
UID:10000386-1649498400-1649502000@www.flcduluth.org
SUMMARY:Private Music Lessons
DESCRIPTION:
URL:https://www.flcduluth.org/event/private-music-lessons-2/2022-04-09/
CATEGORIES:Music Rehearsal,Staff
END:VEVENT
BEGIN:VEVENT
DTSTART;TZID=America/Chicago:20220408T160000
DTEND;TZID=America/Chicago:20220408T170000
DTSTAMP:20260424T122634
CREATED:20221020T180113Z
LAST-MODIFIED:20221020T180113Z
UID:10000422-1649433600-1649437200@www.flcduluth.org
SUMMARY:Private Music Lessons
DESCRIPTION:
URL:https://www.flcduluth.org/event/private-music-lessons-2/2022-04-08/
CATEGORIES:Music Rehearsal,Staff
END:VEVENT
BEGIN:VEVENT
DTSTART;TZID=America/Chicago:20220406T100000
DTEND;TZID=America/Chicago:20220406T113000
DTSTAMP:20260424T122634
CREATED:20220113T174908Z
LAST-MODIFIED:20220113T174908Z
UID:10001048-1649239200-1649244600@www.flcduluth.org
SUMMARY:Staff Meeting
DESCRIPTION:
URL:https://www.flcduluth.org/event/staff-meeting-2/2022-04-06/
CATEGORIES:Staff
END:VEVENT
BEGIN:VEVENT
DTSTART;TZID=America/Chicago:20220402T160000
DTEND;TZID=America/Chicago:20220402T170000
DTSTAMP:20260424T122634
CREATED:20221020T180113Z
LAST-MODIFIED:20221020T180113Z
UID:10000421-1648915200-1648918800@www.flcduluth.org
SUMMARY:Private Music Lessons
DESCRIPTION:
URL:https://www.flcduluth.org/event/private-music-lessons-2/2022-04-02/
CATEGORIES:Music Rehearsal,Staff
END:VEVENT
BEGIN:VEVENT
DTSTART;TZID=America/Chicago:20220402T100000
DTEND;TZID=America/Chicago:20220402T110000
DTSTAMP:20260424T122634
CREATED:20220113T183916Z
LAST-MODIFIED:20220526T164728Z
UID:10000385-1648893600-1648897200@www.flcduluth.org
SUMMARY:Private Music Lessons
DESCRIPTION:
URL:https://www.flcduluth.org/event/private-music-lessons-2/2022-04-02/
CATEGORIES:Music Rehearsal,Staff
END:VEVENT
BEGIN:VEVENT
DTSTART;TZID=America/Chicago:20220401T160000
DTEND;TZID=America/Chicago:20220401T170000
DTSTAMP:20260424T122634
CREATED:20221020T180113Z
LAST-MODIFIED:20221020T180113Z
UID:10000420-1648828800-1648832400@www.flcduluth.org
SUMMARY:Private Music Lessons
DESCRIPTION:
URL:https://www.flcduluth.org/event/private-music-lessons-2/2022-04-01/
CATEGORIES:Music Rehearsal,Staff
END:VEVENT
BEGIN:VEVENT
DTSTART;TZID=America/Chicago:20220330T100000
DTEND;TZID=America/Chicago:20220330T113000
DTSTAMP:20260424T122634
CREATED:20220113T174908Z
LAST-MODIFIED:20220113T174908Z
UID:10001047-1648634400-1648639800@www.flcduluth.org
SUMMARY:Staff Meeting
DESCRIPTION:
URL:https://www.flcduluth.org/event/staff-meeting-2/2022-03-30/
CATEGORIES:Staff
END:VEVENT
BEGIN:VEVENT
DTSTART;TZID=America/Chicago:20220326T160000
DTEND;TZID=America/Chicago:20220326T170000
DTSTAMP:20260424T122634
CREATED:20221020T180113Z
LAST-MODIFIED:20221020T180113Z
UID:10000419-1648310400-1648314000@www.flcduluth.org
SUMMARY:Private Music Lessons
DESCRIPTION:
URL:https://www.flcduluth.org/event/private-music-lessons-2/2022-03-26/
CATEGORIES:Music Rehearsal,Staff
END:VEVENT
BEGIN:VEVENT
DTSTART;TZID=America/Chicago:20220326T100000
DTEND;TZID=America/Chicago:20220326T110000
DTSTAMP:20260424T122634
CREATED:20220113T183916Z
LAST-MODIFIED:20220526T164728Z
UID:10000384-1648288800-1648292400@www.flcduluth.org
SUMMARY:Private Music Lessons
DESCRIPTION:
URL:https://www.flcduluth.org/event/private-music-lessons-2/2022-03-26/
CATEGORIES:Music Rehearsal,Staff
END:VEVENT
BEGIN:VEVENT
DTSTART;TZID=America/Chicago:20220325T160000
DTEND;TZID=America/Chicago:20220325T170000
DTSTAMP:20260424T122634
CREATED:20221020T180113Z
LAST-MODIFIED:20221020T180113Z
UID:10000418-1648224000-1648227600@www.flcduluth.org
SUMMARY:Private Music Lessons
DESCRIPTION:
URL:https://www.flcduluth.org/event/private-music-lessons-2/2022-03-25/
CATEGORIES:Music Rehearsal,Staff
END:VEVENT
BEGIN:VEVENT
DTSTART;TZID=America/Chicago:20220323T100000
DTEND;TZID=America/Chicago:20220323T113000
DTSTAMP:20260424T122634
CREATED:20220113T174908Z
LAST-MODIFIED:20220113T174908Z
UID:10001046-1648029600-1648035000@www.flcduluth.org
SUMMARY:Staff Meeting
DESCRIPTION:
URL:https://www.flcduluth.org/event/staff-meeting-2/2022-03-23/
CATEGORIES:Staff
END:VEVENT
END:VCALENDAR