BEGIN:VCALENDAR
VERSION:2.0
PRODID:-//First Lutheran Church - ECPv6.15.20//NONSGML v1.0//EN
CALSCALE:GREGORIAN
METHOD:PUBLISH
X-WR-CALNAME:First Lutheran Church
X-ORIGINAL-URL:https://www.flcduluth.org
X-WR-CALDESC:Events for First Lutheran Church
REFRESH-INTERVAL;VALUE=DURATION:PT1H
X-Robots-Tag:noindex
X-PUBLISHED-TTL:PT1H
BEGIN:VTIMEZONE
TZID:America/Chicago
BEGIN:DAYLIGHT
TZOFFSETFROM:-0600
TZOFFSETTO:-0500
TZNAME:CDT
DTSTART:20210314T080000
END:DAYLIGHT
BEGIN:STANDARD
TZOFFSETFROM:-0500
TZOFFSETTO:-0600
TZNAME:CST
DTSTART:20211107T070000
END:STANDARD
BEGIN:DAYLIGHT
TZOFFSETFROM:-0600
TZOFFSETTO:-0500
TZNAME:CDT
DTSTART:20220313T080000
END:DAYLIGHT
BEGIN:STANDARD
TZOFFSETFROM:-0500
TZOFFSETTO:-0600
TZNAME:CST
DTSTART:20221106T070000
END:STANDARD
BEGIN:DAYLIGHT
TZOFFSETFROM:-0600
TZOFFSETTO:-0500
TZNAME:CDT
DTSTART:20230312T080000
END:DAYLIGHT
BEGIN:STANDARD
TZOFFSETFROM:-0500
TZOFFSETTO:-0600
TZNAME:CST
DTSTART:20231105T070000
END:STANDARD
END:VTIMEZONE
BEGIN:VEVENT
DTSTART;TZID=America/Chicago:20220128T160000
DTEND;TZID=America/Chicago:20220128T170000
DTSTAMP:20260424T225839
CREATED:20221020T180113Z
LAST-MODIFIED:20221020T180113Z
UID:10000402-1643385600-1643389200@www.flcduluth.org
SUMMARY:Private Music Lessons
DESCRIPTION:
URL:https://www.flcduluth.org/event/private-music-lessons-2/2022-01-28/
CATEGORIES:Music Rehearsal,Staff
END:VEVENT
BEGIN:VEVENT
DTSTART;TZID=America/Chicago:20220126T100000
DTEND;TZID=America/Chicago:20220126T113000
DTSTAMP:20260424T225839
CREATED:20220113T174908Z
LAST-MODIFIED:20220113T174908Z
UID:10001038-1643191200-1643196600@www.flcduluth.org
SUMMARY:Staff Meeting
DESCRIPTION:
URL:https://www.flcduluth.org/event/staff-meeting-2/2022-01-26/
CATEGORIES:Staff
END:VEVENT
BEGIN:VEVENT
DTSTART;TZID=America/Chicago:20220122T160000
DTEND;TZID=America/Chicago:20220122T170000
DTSTAMP:20260424T225839
CREATED:20221020T180113Z
LAST-MODIFIED:20221020T180113Z
UID:10000401-1642867200-1642870800@www.flcduluth.org
SUMMARY:Private Music Lessons
DESCRIPTION:
URL:https://www.flcduluth.org/event/private-music-lessons-2/2022-01-22/
CATEGORIES:Music Rehearsal,Staff
END:VEVENT
BEGIN:VEVENT
DTSTART;TZID=America/Chicago:20220122T100000
DTEND;TZID=America/Chicago:20220122T110000
DTSTAMP:20260424T225839
CREATED:20220113T183916Z
LAST-MODIFIED:20220526T164728Z
UID:10000375-1642845600-1642849200@www.flcduluth.org
SUMMARY:Private Music Lessons
DESCRIPTION:
URL:https://www.flcduluth.org/event/private-music-lessons-2/2022-01-22/
CATEGORIES:Music Rehearsal,Staff
END:VEVENT
BEGIN:VEVENT
DTSTART;TZID=America/Chicago:20220121T160000
DTEND;TZID=America/Chicago:20220121T170000
DTSTAMP:20260424T225839
CREATED:20221020T180113Z
LAST-MODIFIED:20221020T180113Z
UID:10000400-1642780800-1642784400@www.flcduluth.org
SUMMARY:Private Music Lessons
DESCRIPTION:
URL:https://www.flcduluth.org/event/private-music-lessons-2/2022-01-21/
CATEGORIES:Music Rehearsal,Staff
END:VEVENT
BEGIN:VEVENT
DTSTART;TZID=America/Chicago:20220119T100000
DTEND;TZID=America/Chicago:20220119T113000
DTSTAMP:20260424T225839
CREATED:20220113T174908Z
LAST-MODIFIED:20220113T174908Z
UID:10001037-1642586400-1642591800@www.flcduluth.org
SUMMARY:Staff Meeting
DESCRIPTION:
URL:https://www.flcduluth.org/event/staff-meeting-2/2022-01-19/
CATEGORIES:Staff
END:VEVENT
BEGIN:VEVENT
DTSTART;TZID=America/Chicago:20220115T160000
DTEND;TZID=America/Chicago:20220115T170000
DTSTAMP:20260424T225839
CREATED:20221020T180113Z
LAST-MODIFIED:20221020T180113Z
UID:10000399-1642262400-1642266000@www.flcduluth.org
SUMMARY:Private Music Lessons
DESCRIPTION:
URL:https://www.flcduluth.org/event/private-music-lessons-2/2022-01-15/
CATEGORIES:Music Rehearsal,Staff
END:VEVENT
BEGIN:VEVENT
DTSTART;TZID=America/Chicago:20220115T100000
DTEND;TZID=America/Chicago:20220115T110000
DTSTAMP:20260424T225839
CREATED:20220113T183916Z
LAST-MODIFIED:20220526T164728Z
UID:10000374-1642240800-1642244400@www.flcduluth.org
SUMMARY:Private Music Lessons
DESCRIPTION:
URL:https://www.flcduluth.org/event/private-music-lessons-2/2022-01-15/
CATEGORIES:Music Rehearsal,Staff
END:VEVENT
BEGIN:VEVENT
DTSTART;TZID=America/Chicago:20220114T160000
DTEND;TZID=America/Chicago:20220114T170000
DTSTAMP:20260424T225839
CREATED:20221020T180113Z
LAST-MODIFIED:20221020T180113Z
UID:10000398-1642176000-1642179600@www.flcduluth.org
SUMMARY:Private Music Lessons
DESCRIPTION:
URL:https://www.flcduluth.org/event/private-music-lessons-2/2022-01-14/
CATEGORIES:Music Rehearsal,Staff
END:VEVENT
BEGIN:VEVENT
DTSTART;TZID=America/Chicago:20220112T100000
DTEND;TZID=America/Chicago:20220112T113000
DTSTAMP:20260424T225839
CREATED:20220113T174908Z
LAST-MODIFIED:20220113T174908Z
UID:10001036-1641981600-1641987000@www.flcduluth.org
SUMMARY:Staff Meeting
DESCRIPTION:
URL:https://www.flcduluth.org/event/staff-meeting-2/2022-01-12/
CATEGORIES:Staff
END:VEVENT
BEGIN:VEVENT
DTSTART;TZID=America/Chicago:20220108T160000
DTEND;TZID=America/Chicago:20220108T170000
DTSTAMP:20260424T225839
CREATED:20221020T180113Z
LAST-MODIFIED:20221020T180113Z
UID:10000397-1641657600-1641661200@www.flcduluth.org
SUMMARY:Private Music Lessons
DESCRIPTION:
URL:https://www.flcduluth.org/event/private-music-lessons-2/2022-01-08/
CATEGORIES:Music Rehearsal,Staff
END:VEVENT
BEGIN:VEVENT
DTSTART;TZID=America/Chicago:20220108T100000
DTEND;TZID=America/Chicago:20220108T110000
DTSTAMP:20260424T225839
CREATED:20220113T183916Z
LAST-MODIFIED:20220526T164728Z
UID:10000373-1641636000-1641639600@www.flcduluth.org
SUMMARY:Private Music Lessons
DESCRIPTION:
URL:https://www.flcduluth.org/event/private-music-lessons-2/2022-01-08/
CATEGORIES:Music Rehearsal,Staff
END:VEVENT
BEGIN:VEVENT
DTSTART;TZID=America/Chicago:20220107T160000
DTEND;TZID=America/Chicago:20220107T170000
DTSTAMP:20260424T225839
CREATED:20221020T180113Z
LAST-MODIFIED:20221020T180113Z
UID:10000396-1641571200-1641574800@www.flcduluth.org
SUMMARY:Private Music Lessons
DESCRIPTION:
URL:https://www.flcduluth.org/event/private-music-lessons-2/2022-01-07/
CATEGORIES:Music Rehearsal,Staff
END:VEVENT
BEGIN:VEVENT
DTSTART;TZID=America/Chicago:20220105T100000
DTEND;TZID=America/Chicago:20220105T113000
DTSTAMP:20260424T225839
CREATED:20220113T174908Z
LAST-MODIFIED:20220113T174908Z
UID:10001035-1641376800-1641382200@www.flcduluth.org
SUMMARY:Staff Meeting
DESCRIPTION:
URL:https://www.flcduluth.org/event/staff-meeting-2/2022-01-05/
CATEGORIES:Staff
END:VEVENT
BEGIN:VEVENT
DTSTART;TZID=America/Chicago:20220101T100000
DTEND;TZID=America/Chicago:20220101T110000
DTSTAMP:20260424T225839
CREATED:20220113T183916Z
LAST-MODIFIED:20220526T164728Z
UID:10000372-1641031200-1641034800@www.flcduluth.org
SUMMARY:Private Music Lessons
DESCRIPTION:
URL:https://www.flcduluth.org/event/private-music-lessons-2/2022-01-01/
CATEGORIES:Music Rehearsal,Staff
END:VEVENT
END:VCALENDAR