BEGIN:VCALENDAR
VERSION:2.0
PRODID:-//First Lutheran Church - ECPv6.15.20//NONSGML v1.0//EN
CALSCALE:GREGORIAN
METHOD:PUBLISH
X-WR-CALNAME:First Lutheran Church
X-ORIGINAL-URL:https://www.flcduluth.org
X-WR-CALDESC:Events for First Lutheran Church
REFRESH-INTERVAL;VALUE=DURATION:PT1H
X-Robots-Tag:noindex
X-PUBLISHED-TTL:PT1H
BEGIN:VTIMEZONE
TZID:America/Chicago
BEGIN:DAYLIGHT
TZOFFSETFROM:-0600
TZOFFSETTO:-0500
TZNAME:CDT
DTSTART:20250309T080000
END:DAYLIGHT
BEGIN:STANDARD
TZOFFSETFROM:-0500
TZOFFSETTO:-0600
TZNAME:CST
DTSTART:20251102T070000
END:STANDARD
BEGIN:DAYLIGHT
TZOFFSETFROM:-0600
TZOFFSETTO:-0500
TZNAME:CDT
DTSTART:20260308T080000
END:DAYLIGHT
BEGIN:STANDARD
TZOFFSETFROM:-0500
TZOFFSETTO:-0600
TZNAME:CST
DTSTART:20261101T070000
END:STANDARD
BEGIN:DAYLIGHT
TZOFFSETFROM:-0600
TZOFFSETTO:-0500
TZNAME:CDT
DTSTART:20270314T080000
END:DAYLIGHT
BEGIN:STANDARD
TZOFFSETFROM:-0500
TZOFFSETTO:-0600
TZNAME:CST
DTSTART:20271107T070000
END:STANDARD
BEGIN:DAYLIGHT
TZOFFSETFROM:-0600
TZOFFSETTO:-0500
TZNAME:CDT
DTSTART:20280312T080000
END:DAYLIGHT
BEGIN:STANDARD
TZOFFSETFROM:-0500
TZOFFSETTO:-0600
TZNAME:CST
DTSTART:20281105T070000
END:STANDARD
END:VTIMEZONE
BEGIN:VEVENT
DTSTART;TZID=America/Chicago:20261014T100000
DTEND;TZID=America/Chicago:20261014T113000
DTSTAMP:20260423T183240
CREATED:20230829T193211Z
LAST-MODIFIED:20230829T193211Z
UID:10005016-1791972000-1791977400@www.flcduluth.org
SUMMARY:Staff Meeting
DESCRIPTION:
URL:https://www.flcduluth.org/event/staff-meeting-3/2026-10-14/
CATEGORIES:Staff
END:VEVENT
BEGIN:VEVENT
DTSTART;TZID=America/Chicago:20261021T100000
DTEND;TZID=America/Chicago:20261021T113000
DTSTAMP:20260423T183240
CREATED:20230829T193211Z
LAST-MODIFIED:20230829T193211Z
UID:10005017-1792576800-1792582200@www.flcduluth.org
SUMMARY:Staff Meeting
DESCRIPTION:
URL:https://www.flcduluth.org/event/staff-meeting-3/2026-10-21/
CATEGORIES:Staff
END:VEVENT
BEGIN:VEVENT
DTSTART;TZID=America/Chicago:20261028T100000
DTEND;TZID=America/Chicago:20261028T113000
DTSTAMP:20260423T183240
CREATED:20230829T193211Z
LAST-MODIFIED:20230829T193211Z
UID:10005018-1793181600-1793187000@www.flcduluth.org
SUMMARY:Staff Meeting
DESCRIPTION:
URL:https://www.flcduluth.org/event/staff-meeting-3/2026-10-28/
CATEGORIES:Staff
END:VEVENT
BEGIN:VEVENT
DTSTART;TZID=America/Chicago:20261104T100000
DTEND;TZID=America/Chicago:20261104T113000
DTSTAMP:20260423T183240
CREATED:20230829T193211Z
LAST-MODIFIED:20230829T193211Z
UID:10005019-1793786400-1793791800@www.flcduluth.org
SUMMARY:Staff Meeting
DESCRIPTION:
URL:https://www.flcduluth.org/event/staff-meeting-3/2026-11-04/
CATEGORIES:Staff
END:VEVENT
BEGIN:VEVENT
DTSTART;TZID=America/Chicago:20261111T100000
DTEND;TZID=America/Chicago:20261111T113000
DTSTAMP:20260423T183240
CREATED:20230829T193211Z
LAST-MODIFIED:20230829T193211Z
UID:10005020-1794391200-1794396600@www.flcduluth.org
SUMMARY:Staff Meeting
DESCRIPTION:
URL:https://www.flcduluth.org/event/staff-meeting-3/2026-11-11/
CATEGORIES:Staff
END:VEVENT
BEGIN:VEVENT
DTSTART;TZID=America/Chicago:20261118T100000
DTEND;TZID=America/Chicago:20261118T113000
DTSTAMP:20260423T183240
CREATED:20230829T193211Z
LAST-MODIFIED:20230829T193211Z
UID:10005021-1794996000-1795001400@www.flcduluth.org
SUMMARY:Staff Meeting
DESCRIPTION:
URL:https://www.flcduluth.org/event/staff-meeting-3/2026-11-18/
CATEGORIES:Staff
END:VEVENT
BEGIN:VEVENT
DTSTART;TZID=America/Chicago:20261125T100000
DTEND;TZID=America/Chicago:20261125T113000
DTSTAMP:20260423T183240
CREATED:20230829T193211Z
LAST-MODIFIED:20230829T193211Z
UID:10005022-1795600800-1795606200@www.flcduluth.org
SUMMARY:Staff Meeting
DESCRIPTION:
URL:https://www.flcduluth.org/event/staff-meeting-3/2026-11-25/
CATEGORIES:Staff
END:VEVENT
BEGIN:VEVENT
DTSTART;TZID=America/Chicago:20261202T100000
DTEND;TZID=America/Chicago:20261202T113000
DTSTAMP:20260423T183240
CREATED:20230829T193211Z
LAST-MODIFIED:20230829T193211Z
UID:10005023-1796205600-1796211000@www.flcduluth.org
SUMMARY:Staff Meeting
DESCRIPTION:
URL:https://www.flcduluth.org/event/staff-meeting-3/2026-12-02/
CATEGORIES:Staff
END:VEVENT
BEGIN:VEVENT
DTSTART;TZID=America/Chicago:20261209T100000
DTEND;TZID=America/Chicago:20261209T113000
DTSTAMP:20260423T183240
CREATED:20230829T193211Z
LAST-MODIFIED:20230829T193211Z
UID:10005024-1796810400-1796815800@www.flcduluth.org
SUMMARY:Staff Meeting
DESCRIPTION:
URL:https://www.flcduluth.org/event/staff-meeting-3/2026-12-09/
CATEGORIES:Staff
END:VEVENT
BEGIN:VEVENT
DTSTART;TZID=America/Chicago:20261216T100000
DTEND;TZID=America/Chicago:20261216T113000
DTSTAMP:20260423T183240
CREATED:20230829T193211Z
LAST-MODIFIED:20230829T193211Z
UID:10005025-1797415200-1797420600@www.flcduluth.org
SUMMARY:Staff Meeting
DESCRIPTION:
URL:https://www.flcduluth.org/event/staff-meeting-3/2026-12-16/
CATEGORIES:Staff
END:VEVENT
BEGIN:VEVENT
DTSTART;TZID=America/Chicago:20261223T100000
DTEND;TZID=America/Chicago:20261223T113000
DTSTAMP:20260423T183240
CREATED:20230829T193211Z
LAST-MODIFIED:20230829T193211Z
UID:10005026-1798020000-1798025400@www.flcduluth.org
SUMMARY:Staff Meeting
DESCRIPTION:
URL:https://www.flcduluth.org/event/staff-meeting-3/2026-12-23/
CATEGORIES:Staff
END:VEVENT
BEGIN:VEVENT
DTSTART;TZID=America/Chicago:20261230T100000
DTEND;TZID=America/Chicago:20261230T113000
DTSTAMP:20260423T183240
CREATED:20230829T193211Z
LAST-MODIFIED:20230829T193211Z
UID:10005027-1798624800-1798630200@www.flcduluth.org
SUMMARY:Staff Meeting
DESCRIPTION:
URL:https://www.flcduluth.org/event/staff-meeting-3/2026-12-30/
CATEGORIES:Staff
END:VEVENT
BEGIN:VEVENT
DTSTART;TZID=America/Chicago:20270106T100000
DTEND;TZID=America/Chicago:20270106T113000
DTSTAMP:20260423T183240
CREATED:20230829T193211Z
LAST-MODIFIED:20230829T193211Z
UID:10005028-1799229600-1799235000@www.flcduluth.org
SUMMARY:Staff Meeting
DESCRIPTION:
URL:https://www.flcduluth.org/event/staff-meeting-3/2027-01-06/
CATEGORIES:Staff
END:VEVENT
BEGIN:VEVENT
DTSTART;TZID=America/Chicago:20270113T100000
DTEND;TZID=America/Chicago:20270113T113000
DTSTAMP:20260423T183240
CREATED:20230829T193211Z
LAST-MODIFIED:20230829T193211Z
UID:10005029-1799834400-1799839800@www.flcduluth.org
SUMMARY:Staff Meeting
DESCRIPTION:
URL:https://www.flcduluth.org/event/staff-meeting-3/2027-01-13/
CATEGORIES:Staff
END:VEVENT
BEGIN:VEVENT
DTSTART;TZID=America/Chicago:20270120T100000
DTEND;TZID=America/Chicago:20270120T113000
DTSTAMP:20260423T183240
CREATED:20230829T193211Z
LAST-MODIFIED:20230829T193211Z
UID:10005030-1800439200-1800444600@www.flcduluth.org
SUMMARY:Staff Meeting
DESCRIPTION:
URL:https://www.flcduluth.org/event/staff-meeting-3/2027-01-20/
CATEGORIES:Staff
END:VEVENT
BEGIN:VEVENT
DTSTART;TZID=America/Chicago:20270127T100000
DTEND;TZID=America/Chicago:20270127T113000
DTSTAMP:20260423T183240
CREATED:20230829T193211Z
LAST-MODIFIED:20230829T193211Z
UID:10005031-1801044000-1801049400@www.flcduluth.org
SUMMARY:Staff Meeting
DESCRIPTION:
URL:https://www.flcduluth.org/event/staff-meeting-3/2027-01-27/
CATEGORIES:Staff
END:VEVENT
BEGIN:VEVENT
DTSTART;TZID=America/Chicago:20270203T100000
DTEND;TZID=America/Chicago:20270203T113000
DTSTAMP:20260423T183240
CREATED:20230829T193211Z
LAST-MODIFIED:20230829T193211Z
UID:10005032-1801648800-1801654200@www.flcduluth.org
SUMMARY:Staff Meeting
DESCRIPTION:
URL:https://www.flcduluth.org/event/staff-meeting-3/2027-02-03/
CATEGORIES:Staff
END:VEVENT
BEGIN:VEVENT
DTSTART;TZID=America/Chicago:20270210T100000
DTEND;TZID=America/Chicago:20270210T113000
DTSTAMP:20260423T183240
CREATED:20230829T193211Z
LAST-MODIFIED:20230829T193211Z
UID:10005033-1802253600-1802259000@www.flcduluth.org
SUMMARY:Staff Meeting
DESCRIPTION:
URL:https://www.flcduluth.org/event/staff-meeting-3/2027-02-10/
CATEGORIES:Staff
END:VEVENT
BEGIN:VEVENT
DTSTART;TZID=America/Chicago:20270217T100000
DTEND;TZID=America/Chicago:20270217T113000
DTSTAMP:20260423T183240
CREATED:20230829T193211Z
LAST-MODIFIED:20230829T193211Z
UID:10005034-1802858400-1802863800@www.flcduluth.org
SUMMARY:Staff Meeting
DESCRIPTION:
URL:https://www.flcduluth.org/event/staff-meeting-3/2027-02-17/
CATEGORIES:Staff
END:VEVENT
BEGIN:VEVENT
DTSTART;TZID=America/Chicago:20270224T100000
DTEND;TZID=America/Chicago:20270224T113000
DTSTAMP:20260423T183240
CREATED:20230829T193211Z
LAST-MODIFIED:20230829T193211Z
UID:10005035-1803463200-1803468600@www.flcduluth.org
SUMMARY:Staff Meeting
DESCRIPTION:
URL:https://www.flcduluth.org/event/staff-meeting-3/2027-02-24/
CATEGORIES:Staff
END:VEVENT
BEGIN:VEVENT
DTSTART;TZID=America/Chicago:20270303T100000
DTEND;TZID=America/Chicago:20270303T113000
DTSTAMP:20260423T183240
CREATED:20230829T193211Z
LAST-MODIFIED:20230829T193211Z
UID:10005036-1804068000-1804073400@www.flcduluth.org
SUMMARY:Staff Meeting
DESCRIPTION:
URL:https://www.flcduluth.org/event/staff-meeting-3/2027-03-03/
CATEGORIES:Staff
END:VEVENT
BEGIN:VEVENT
DTSTART;TZID=America/Chicago:20270310T100000
DTEND;TZID=America/Chicago:20270310T113000
DTSTAMP:20260423T183240
CREATED:20230829T193211Z
LAST-MODIFIED:20230829T193211Z
UID:10005037-1804672800-1804678200@www.flcduluth.org
SUMMARY:Staff Meeting
DESCRIPTION:
URL:https://www.flcduluth.org/event/staff-meeting-3/2027-03-10/
CATEGORIES:Staff
END:VEVENT
BEGIN:VEVENT
DTSTART;TZID=America/Chicago:20270317T100000
DTEND;TZID=America/Chicago:20270317T113000
DTSTAMP:20260423T183240
CREATED:20230829T193211Z
LAST-MODIFIED:20230829T193211Z
UID:10005038-1805277600-1805283000@www.flcduluth.org
SUMMARY:Staff Meeting
DESCRIPTION:
URL:https://www.flcduluth.org/event/staff-meeting-3/2027-03-17/
CATEGORIES:Staff
END:VEVENT
BEGIN:VEVENT
DTSTART;TZID=America/Chicago:20270324T100000
DTEND;TZID=America/Chicago:20270324T113000
DTSTAMP:20260423T183240
CREATED:20230829T193211Z
LAST-MODIFIED:20230829T193211Z
UID:10005039-1805882400-1805887800@www.flcduluth.org
SUMMARY:Staff Meeting
DESCRIPTION:
URL:https://www.flcduluth.org/event/staff-meeting-3/2027-03-24/
CATEGORIES:Staff
END:VEVENT
BEGIN:VEVENT
DTSTART;TZID=America/Chicago:20270331T100000
DTEND;TZID=America/Chicago:20270331T113000
DTSTAMP:20260423T183240
CREATED:20230829T193211Z
LAST-MODIFIED:20230829T193211Z
UID:10005040-1806487200-1806492600@www.flcduluth.org
SUMMARY:Staff Meeting
DESCRIPTION:
URL:https://www.flcduluth.org/event/staff-meeting-3/2027-03-31/
CATEGORIES:Staff
END:VEVENT
BEGIN:VEVENT
DTSTART;TZID=America/Chicago:20270407T100000
DTEND;TZID=America/Chicago:20270407T113000
DTSTAMP:20260423T183240
CREATED:20230829T193211Z
LAST-MODIFIED:20230829T193211Z
UID:10005041-1807092000-1807097400@www.flcduluth.org
SUMMARY:Staff Meeting
DESCRIPTION:
URL:https://www.flcduluth.org/event/staff-meeting-3/2027-04-07/
CATEGORIES:Staff
END:VEVENT
BEGIN:VEVENT
DTSTART;TZID=America/Chicago:20270414T100000
DTEND;TZID=America/Chicago:20270414T113000
DTSTAMP:20260423T183240
CREATED:20230829T193211Z
LAST-MODIFIED:20230829T193211Z
UID:10005042-1807696800-1807702200@www.flcduluth.org
SUMMARY:Staff Meeting
DESCRIPTION:
URL:https://www.flcduluth.org/event/staff-meeting-3/2027-04-14/
CATEGORIES:Staff
END:VEVENT
BEGIN:VEVENT
DTSTART;TZID=America/Chicago:20270421T100000
DTEND;TZID=America/Chicago:20270421T113000
DTSTAMP:20260423T183240
CREATED:20230829T193211Z
LAST-MODIFIED:20230829T193211Z
UID:10005043-1808301600-1808307000@www.flcduluth.org
SUMMARY:Staff Meeting
DESCRIPTION:
URL:https://www.flcduluth.org/event/staff-meeting-3/2027-04-21/
CATEGORIES:Staff
END:VEVENT
BEGIN:VEVENT
DTSTART;TZID=America/Chicago:20270428T100000
DTEND;TZID=America/Chicago:20270428T113000
DTSTAMP:20260423T183240
CREATED:20230829T193211Z
LAST-MODIFIED:20230829T193211Z
UID:10005044-1808906400-1808911800@www.flcduluth.org
SUMMARY:Staff Meeting
DESCRIPTION:
URL:https://www.flcduluth.org/event/staff-meeting-3/2027-04-28/
CATEGORIES:Staff
END:VEVENT
BEGIN:VEVENT
DTSTART;TZID=America/Chicago:20270505T100000
DTEND;TZID=America/Chicago:20270505T113000
DTSTAMP:20260423T183240
CREATED:20230829T193211Z
LAST-MODIFIED:20230829T193211Z
UID:10005045-1809511200-1809516600@www.flcduluth.org
SUMMARY:Staff Meeting
DESCRIPTION:
URL:https://www.flcduluth.org/event/staff-meeting-3/2027-05-05/
CATEGORIES:Staff
END:VEVENT
END:VCALENDAR