BEGIN:VCALENDAR
VERSION:2.0
PRODID:-//First Lutheran Church - ECPv6.15.20//NONSGML v1.0//EN
CALSCALE:GREGORIAN
METHOD:PUBLISH
X-ORIGINAL-URL:https://www.flcduluth.org
X-WR-CALDESC:Events for First Lutheran Church
REFRESH-INTERVAL;VALUE=DURATION:PT1H
X-Robots-Tag:noindex
X-PUBLISHED-TTL:PT1H
BEGIN:VTIMEZONE
TZID:America/Chicago
BEGIN:DAYLIGHT
TZOFFSETFROM:-0600
TZOFFSETTO:-0500
TZNAME:CDT
DTSTART:20220313T080000
END:DAYLIGHT
BEGIN:STANDARD
TZOFFSETFROM:-0500
TZOFFSETTO:-0600
TZNAME:CST
DTSTART:20221106T070000
END:STANDARD
BEGIN:DAYLIGHT
TZOFFSETFROM:-0600
TZOFFSETTO:-0500
TZNAME:CDT
DTSTART:20230312T080000
END:DAYLIGHT
BEGIN:STANDARD
TZOFFSETFROM:-0500
TZOFFSETTO:-0600
TZNAME:CST
DTSTART:20231105T070000
END:STANDARD
BEGIN:DAYLIGHT
TZOFFSETFROM:-0600
TZOFFSETTO:-0500
TZNAME:CDT
DTSTART:20240310T080000
END:DAYLIGHT
BEGIN:STANDARD
TZOFFSETFROM:-0500
TZOFFSETTO:-0600
TZNAME:CST
DTSTART:20241103T070000
END:STANDARD
BEGIN:DAYLIGHT
TZOFFSETFROM:-0600
TZOFFSETTO:-0500
TZNAME:CDT
DTSTART:20250309T080000
END:DAYLIGHT
BEGIN:STANDARD
TZOFFSETFROM:-0500
TZOFFSETTO:-0600
TZNAME:CST
DTSTART:20251102T070000
END:STANDARD
END:VTIMEZONE
BEGIN:VEVENT
DTSTART;TZID=America/Chicago:20240619T100000
DTEND;TZID=America/Chicago:20240619T113000
DTSTAMP:20260424T014114
CREATED:20230829T193211Z
LAST-MODIFIED:20230829T193211Z
UID:10004895-1718791200-1718796600@www.flcduluth.org
SUMMARY:Staff Meeting
DESCRIPTION:
URL:https://www.flcduluth.org/event/staff-meeting-3/2024-06-19/
CATEGORIES:Staff
END:VEVENT
BEGIN:VEVENT
DTSTART;TZID=America/Chicago:20240612T100000
DTEND;TZID=America/Chicago:20240612T113000
DTSTAMP:20260424T014114
CREATED:20230829T193211Z
LAST-MODIFIED:20230829T193211Z
UID:10004894-1718186400-1718191800@www.flcduluth.org
SUMMARY:Staff Meeting
DESCRIPTION:
URL:https://www.flcduluth.org/event/staff-meeting-3/2024-06-12/
CATEGORIES:Staff
END:VEVENT
BEGIN:VEVENT
DTSTART;TZID=America/Chicago:20240605T100000
DTEND;TZID=America/Chicago:20240605T113000
DTSTAMP:20260424T014114
CREATED:20230829T193211Z
LAST-MODIFIED:20230829T193211Z
UID:10004893-1717581600-1717587000@www.flcduluth.org
SUMMARY:Staff Meeting
DESCRIPTION:
URL:https://www.flcduluth.org/event/staff-meeting-3/2024-06-05/
CATEGORIES:Staff
END:VEVENT
BEGIN:VEVENT
DTSTART;TZID=America/Chicago:20240529T100000
DTEND;TZID=America/Chicago:20240529T113000
DTSTAMP:20260424T014114
CREATED:20230829T193211Z
LAST-MODIFIED:20230829T193211Z
UID:10004892-1716976800-1716982200@www.flcduluth.org
SUMMARY:Staff Meeting
DESCRIPTION:
URL:https://www.flcduluth.org/event/staff-meeting-3/2024-05-29/
CATEGORIES:Staff
END:VEVENT
BEGIN:VEVENT
DTSTART;TZID=America/Chicago:20240522T100000
DTEND;TZID=America/Chicago:20240522T113000
DTSTAMP:20260424T014114
CREATED:20230829T193211Z
LAST-MODIFIED:20230829T193211Z
UID:10004891-1716372000-1716377400@www.flcduluth.org
SUMMARY:Staff Meeting
DESCRIPTION:
URL:https://www.flcduluth.org/event/staff-meeting-3/2024-05-22/
CATEGORIES:Staff
END:VEVENT
BEGIN:VEVENT
DTSTART;TZID=America/Chicago:20240515T100000
DTEND;TZID=America/Chicago:20240515T113000
DTSTAMP:20260424T014114
CREATED:20230829T193211Z
LAST-MODIFIED:20230829T193211Z
UID:10004890-1715767200-1715772600@www.flcduluth.org
SUMMARY:Staff Meeting
DESCRIPTION:
URL:https://www.flcduluth.org/event/staff-meeting-3/2024-05-15/
CATEGORIES:Staff
END:VEVENT
BEGIN:VEVENT
DTSTART;TZID=America/Chicago:20240508T100000
DTEND;TZID=America/Chicago:20240508T113000
DTSTAMP:20260424T014114
CREATED:20230829T193211Z
LAST-MODIFIED:20230829T193211Z
UID:10004889-1715162400-1715167800@www.flcduluth.org
SUMMARY:Staff Meeting
DESCRIPTION:
URL:https://www.flcduluth.org/event/staff-meeting-3/2024-05-08/
CATEGORIES:Staff
END:VEVENT
BEGIN:VEVENT
DTSTART;TZID=America/Chicago:20240501T100000
DTEND;TZID=America/Chicago:20240501T113000
DTSTAMP:20260424T014114
CREATED:20230829T193211Z
LAST-MODIFIED:20230829T193211Z
UID:10004888-1714557600-1714563000@www.flcduluth.org
SUMMARY:Staff Meeting
DESCRIPTION:
URL:https://www.flcduluth.org/event/staff-meeting-3/2024-05-01/
CATEGORIES:Staff
END:VEVENT
BEGIN:VEVENT
DTSTART;TZID=America/Chicago:20240424T100000
DTEND;TZID=America/Chicago:20240424T113000
DTSTAMP:20260424T014114
CREATED:20230829T193211Z
LAST-MODIFIED:20230829T193211Z
UID:10004887-1713952800-1713958200@www.flcduluth.org
SUMMARY:Staff Meeting
DESCRIPTION:
URL:https://www.flcduluth.org/event/staff-meeting-3/2024-04-24/
CATEGORIES:Staff
END:VEVENT
BEGIN:VEVENT
DTSTART;TZID=America/Chicago:20240417T100000
DTEND;TZID=America/Chicago:20240417T113000
DTSTAMP:20260424T014114
CREATED:20230829T193211Z
LAST-MODIFIED:20230829T193211Z
UID:10004886-1713348000-1713353400@www.flcduluth.org
SUMMARY:Staff Meeting
DESCRIPTION:
URL:https://www.flcduluth.org/event/staff-meeting-3/2024-04-17/
CATEGORIES:Staff
END:VEVENT
BEGIN:VEVENT
DTSTART;TZID=America/Chicago:20240410T100000
DTEND;TZID=America/Chicago:20240410T113000
DTSTAMP:20260424T014114
CREATED:20230829T193211Z
LAST-MODIFIED:20230829T193211Z
UID:10004885-1712743200-1712748600@www.flcduluth.org
SUMMARY:Staff Meeting
DESCRIPTION:
URL:https://www.flcduluth.org/event/staff-meeting-3/2024-04-10/
CATEGORIES:Staff
END:VEVENT
BEGIN:VEVENT
DTSTART;TZID=America/Chicago:20240403T100000
DTEND;TZID=America/Chicago:20240403T113000
DTSTAMP:20260424T014114
CREATED:20230829T193211Z
LAST-MODIFIED:20230829T193211Z
UID:10004884-1712138400-1712143800@www.flcduluth.org
SUMMARY:Staff Meeting
DESCRIPTION:
URL:https://www.flcduluth.org/event/staff-meeting-3/2024-04-03/
CATEGORIES:Staff
END:VEVENT
BEGIN:VEVENT
DTSTART;TZID=America/Chicago:20240327T100000
DTEND;TZID=America/Chicago:20240327T113000
DTSTAMP:20260424T014114
CREATED:20230829T193211Z
LAST-MODIFIED:20230829T193211Z
UID:10004883-1711533600-1711539000@www.flcduluth.org
SUMMARY:Staff Meeting
DESCRIPTION:
URL:https://www.flcduluth.org/event/staff-meeting-3/2024-03-27/
CATEGORIES:Staff
END:VEVENT
BEGIN:VEVENT
DTSTART;TZID=America/Chicago:20240320T100000
DTEND;TZID=America/Chicago:20240320T113000
DTSTAMP:20260424T014114
CREATED:20230829T193211Z
LAST-MODIFIED:20230829T193211Z
UID:10004882-1710928800-1710934200@www.flcduluth.org
SUMMARY:Staff Meeting
DESCRIPTION:
URL:https://www.flcduluth.org/event/staff-meeting-3/2024-03-20/
CATEGORIES:Staff
END:VEVENT
BEGIN:VEVENT
DTSTART;TZID=America/Chicago:20240313T100000
DTEND;TZID=America/Chicago:20240313T113000
DTSTAMP:20260424T014114
CREATED:20230829T193211Z
LAST-MODIFIED:20230829T193211Z
UID:10004881-1710324000-1710329400@www.flcduluth.org
SUMMARY:Staff Meeting
DESCRIPTION:
URL:https://www.flcduluth.org/event/staff-meeting-3/2024-03-13/
CATEGORIES:Staff
END:VEVENT
BEGIN:VEVENT
DTSTART;TZID=America/Chicago:20240306T100000
DTEND;TZID=America/Chicago:20240306T113000
DTSTAMP:20260424T014114
CREATED:20230829T193211Z
LAST-MODIFIED:20230829T193211Z
UID:10004880-1709719200-1709724600@www.flcduluth.org
SUMMARY:Staff Meeting
DESCRIPTION:
URL:https://www.flcduluth.org/event/staff-meeting-3/2024-03-06/
CATEGORIES:Staff
END:VEVENT
BEGIN:VEVENT
DTSTART;TZID=America/Chicago:20240228T100000
DTEND;TZID=America/Chicago:20240228T113000
DTSTAMP:20260424T014114
CREATED:20230829T193211Z
LAST-MODIFIED:20230829T193211Z
UID:10004879-1709114400-1709119800@www.flcduluth.org
SUMMARY:Staff Meeting
DESCRIPTION:
URL:https://www.flcduluth.org/event/staff-meeting-3/2024-02-28/
CATEGORIES:Staff
END:VEVENT
BEGIN:VEVENT
DTSTART;TZID=America/Chicago:20240221T100000
DTEND;TZID=America/Chicago:20240221T113000
DTSTAMP:20260424T014114
CREATED:20230829T193211Z
LAST-MODIFIED:20230829T193211Z
UID:10004878-1708509600-1708515000@www.flcduluth.org
SUMMARY:Staff Meeting
DESCRIPTION:
URL:https://www.flcduluth.org/event/staff-meeting-3/2024-02-21/
CATEGORIES:Staff
END:VEVENT
BEGIN:VEVENT
DTSTART;TZID=America/Chicago:20240214T100000
DTEND;TZID=America/Chicago:20240214T113000
DTSTAMP:20260424T014114
CREATED:20230829T193211Z
LAST-MODIFIED:20230829T193211Z
UID:10004877-1707904800-1707910200@www.flcduluth.org
SUMMARY:Staff Meeting
DESCRIPTION:
URL:https://www.flcduluth.org/event/staff-meeting-3/2024-02-14/
CATEGORIES:Staff
END:VEVENT
BEGIN:VEVENT
DTSTART;TZID=America/Chicago:20240207T100000
DTEND;TZID=America/Chicago:20240207T113000
DTSTAMP:20260424T014114
CREATED:20230829T193211Z
LAST-MODIFIED:20230829T193211Z
UID:10004876-1707300000-1707305400@www.flcduluth.org
SUMMARY:Staff Meeting
DESCRIPTION:
URL:https://www.flcduluth.org/event/staff-meeting-3/2024-02-07/
CATEGORIES:Staff
END:VEVENT
BEGIN:VEVENT
DTSTART;TZID=America/Chicago:20240131T100000
DTEND;TZID=America/Chicago:20240131T113000
DTSTAMP:20260424T014114
CREATED:20230829T193211Z
LAST-MODIFIED:20230829T193211Z
UID:10004875-1706695200-1706700600@www.flcduluth.org
SUMMARY:Staff Meeting
DESCRIPTION:
URL:https://www.flcduluth.org/event/staff-meeting-3/2024-01-31/
CATEGORIES:Staff
END:VEVENT
BEGIN:VEVENT
DTSTART;TZID=America/Chicago:20240124T100000
DTEND;TZID=America/Chicago:20240124T113000
DTSTAMP:20260424T014114
CREATED:20230829T193211Z
LAST-MODIFIED:20230829T193211Z
UID:10004874-1706090400-1706095800@www.flcduluth.org
SUMMARY:Staff Meeting
DESCRIPTION:
URL:https://www.flcduluth.org/event/staff-meeting-3/2024-01-24/
CATEGORIES:Staff
END:VEVENT
BEGIN:VEVENT
DTSTART;TZID=America/Chicago:20240117T100000
DTEND;TZID=America/Chicago:20240117T113000
DTSTAMP:20260424T014114
CREATED:20230829T193211Z
LAST-MODIFIED:20230829T193211Z
UID:10004873-1705485600-1705491000@www.flcduluth.org
SUMMARY:Staff Meeting
DESCRIPTION:
URL:https://www.flcduluth.org/event/staff-meeting-3/2024-01-17/
CATEGORIES:Staff
END:VEVENT
BEGIN:VEVENT
DTSTART;TZID=America/Chicago:20240110T100000
DTEND;TZID=America/Chicago:20240110T113000
DTSTAMP:20260424T014114
CREATED:20230829T193211Z
LAST-MODIFIED:20230829T193211Z
UID:10004872-1704880800-1704886200@www.flcduluth.org
SUMMARY:Staff Meeting
DESCRIPTION:
URL:https://www.flcduluth.org/event/staff-meeting-3/2024-01-10/
CATEGORIES:Staff
END:VEVENT
BEGIN:VEVENT
DTSTART;TZID=America/Chicago:20240103T100000
DTEND;TZID=America/Chicago:20240103T113000
DTSTAMP:20260424T014114
CREATED:20230829T193211Z
LAST-MODIFIED:20230829T193211Z
UID:10004871-1704276000-1704281400@www.flcduluth.org
SUMMARY:Staff Meeting
DESCRIPTION:
URL:https://www.flcduluth.org/event/staff-meeting-3/2024-01-03/
CATEGORIES:Staff
END:VEVENT
BEGIN:VEVENT
DTSTART;TZID=America/Chicago:20231227T100000
DTEND;TZID=America/Chicago:20231227T113000
DTSTAMP:20260424T014114
CREATED:20230829T193211Z
LAST-MODIFIED:20230829T193211Z
UID:10004870-1703671200-1703676600@www.flcduluth.org
SUMMARY:Staff Meeting
DESCRIPTION:
URL:https://www.flcduluth.org/event/staff-meeting-3/2023-12-27/
CATEGORIES:Staff
END:VEVENT
BEGIN:VEVENT
DTSTART;TZID=America/Chicago:20231220T100000
DTEND;TZID=America/Chicago:20231220T113000
DTSTAMP:20260424T014114
CREATED:20230829T193211Z
LAST-MODIFIED:20230829T193211Z
UID:10004869-1703066400-1703071800@www.flcduluth.org
SUMMARY:Staff Meeting
DESCRIPTION:
URL:https://www.flcduluth.org/event/staff-meeting-3/2023-12-20/
CATEGORIES:Staff
END:VEVENT
BEGIN:VEVENT
DTSTART;TZID=America/Chicago:20231213T100000
DTEND;TZID=America/Chicago:20231213T113000
DTSTAMP:20260424T014114
CREATED:20230829T193211Z
LAST-MODIFIED:20230829T193211Z
UID:10004868-1702461600-1702467000@www.flcduluth.org
SUMMARY:Staff Meeting
DESCRIPTION:
URL:https://www.flcduluth.org/event/staff-meeting-3/2023-12-13/
CATEGORIES:Staff
END:VEVENT
BEGIN:VEVENT
DTSTART;TZID=America/Chicago:20231206T100000
DTEND;TZID=America/Chicago:20231206T113000
DTSTAMP:20260424T014114
CREATED:20230829T193211Z
LAST-MODIFIED:20230829T193211Z
UID:10004867-1701856800-1701862200@www.flcduluth.org
SUMMARY:Staff Meeting
DESCRIPTION:
URL:https://www.flcduluth.org/event/staff-meeting-3/2023-12-06/
CATEGORIES:Staff
END:VEVENT
BEGIN:VEVENT
DTSTART;TZID=America/Chicago:20231129T100000
DTEND;TZID=America/Chicago:20231129T113000
DTSTAMP:20260424T014114
CREATED:20230829T193211Z
LAST-MODIFIED:20230829T193211Z
UID:10004866-1701252000-1701257400@www.flcduluth.org
SUMMARY:Staff Meeting
DESCRIPTION:
URL:https://www.flcduluth.org/event/staff-meeting-3/2023-11-29/
CATEGORIES:Staff
END:VEVENT
END:VCALENDAR