BEGIN:VCALENDAR
VERSION:2.0
PRODID:-//First Lutheran Church - ECPv6.15.20//NONSGML v1.0//EN
CALSCALE:GREGORIAN
METHOD:PUBLISH
X-ORIGINAL-URL:https://www.flcduluth.org
X-WR-CALDESC:Events for First Lutheran Church
REFRESH-INTERVAL;VALUE=DURATION:PT1H
X-Robots-Tag:noindex
X-PUBLISHED-TTL:PT1H
BEGIN:VTIMEZONE
TZID:America/Chicago
BEGIN:DAYLIGHT
TZOFFSETFROM:-0600
TZOFFSETTO:-0500
TZNAME:CDT
DTSTART:20210314T080000
END:DAYLIGHT
BEGIN:STANDARD
TZOFFSETFROM:-0500
TZOFFSETTO:-0600
TZNAME:CST
DTSTART:20211107T070000
END:STANDARD
BEGIN:DAYLIGHT
TZOFFSETFROM:-0600
TZOFFSETTO:-0500
TZNAME:CDT
DTSTART:20220313T080000
END:DAYLIGHT
BEGIN:STANDARD
TZOFFSETFROM:-0500
TZOFFSETTO:-0600
TZNAME:CST
DTSTART:20221106T070000
END:STANDARD
BEGIN:DAYLIGHT
TZOFFSETFROM:-0600
TZOFFSETTO:-0500
TZNAME:CDT
DTSTART:20230312T080000
END:DAYLIGHT
BEGIN:STANDARD
TZOFFSETFROM:-0500
TZOFFSETTO:-0600
TZNAME:CST
DTSTART:20231105T070000
END:STANDARD
BEGIN:DAYLIGHT
TZOFFSETFROM:-0600
TZOFFSETTO:-0500
TZNAME:CDT
DTSTART:20240310T080000
END:DAYLIGHT
BEGIN:STANDARD
TZOFFSETFROM:-0500
TZOFFSETTO:-0600
TZNAME:CST
DTSTART:20241103T070000
END:STANDARD
END:VTIMEZONE
BEGIN:VEVENT
DTSTART;TZID=America/Chicago:20230903T140000
DTEND;TZID=America/Chicago:20230903T160000
DTSTAMP:20260424T001316
CREATED:20230810T181402Z
LAST-MODIFIED:20230810T181402Z
UID:10004639-1693749600-1693756800@www.flcduluth.org
SUMMARY:Wedding
DESCRIPTION:
URL:https://www.flcduluth.org/event/wedding/
CATEGORIES:Wedding
END:VEVENT
BEGIN:VEVENT
DTSTART;TZID=America/Chicago:20230902T170000
DTEND;TZID=America/Chicago:20230902T190000
DTSTAMP:20260424T001316
CREATED:20230810T181115Z
LAST-MODIFIED:20230810T181115Z
UID:10004638-1693674000-1693681200@www.flcduluth.org
SUMMARY:Wedding Rehearsal
DESCRIPTION:
URL:https://www.flcduluth.org/event/wedding-rehearsal-2/
CATEGORIES:Wedding
END:VEVENT
BEGIN:VEVENT
DTSTART;TZID=America/Chicago:20220611T160000
DTEND;TZID=America/Chicago:20220611T170000
DTSTAMP:20260424T001316
CREATED:20220113T191550Z
LAST-MODIFIED:20220113T191550Z
UID:10001523-1654963200-1654966800@www.flcduluth.org
SUMMARY:Lundein/Harris Wedding
DESCRIPTION:
URL:https://www.flcduluth.org/event/lundein-harris-wedding/
CATEGORIES:Wedding
END:VEVENT
BEGIN:VEVENT
DTSTART;TZID=America/Chicago:20220610T173000
DTEND;TZID=America/Chicago:20220610T183000
DTSTAMP:20260424T001316
CREATED:20220113T191233Z
LAST-MODIFIED:20220113T191711Z
UID:10001524-1654882200-1654885800@www.flcduluth.org
SUMMARY:Lundein/Harris Wedding Rehearsal
DESCRIPTION:
URL:https://www.flcduluth.org/event/lundein-harris-wedding-rehearsal/
CATEGORIES:Wedding
END:VEVENT
BEGIN:VEVENT
DTSTART;TZID=America/Chicago:20220610T150000
DTEND;TZID=America/Chicago:20220610T163000
DTSTAMP:20260424T001316
CREATED:20220113T191158Z
LAST-MODIFIED:20220113T191634Z
UID:10000268-1654873200-1654878600@www.flcduluth.org
SUMMARY:Goldfarb/Lee Wedding
DESCRIPTION:
URL:https://www.flcduluth.org/event/goldfarb-lee-wedding/
CATEGORIES:Wedding
END:VEVENT
BEGIN:VEVENT
DTSTART;TZID=America/Chicago:20220609T170000
DTEND;TZID=America/Chicago:20220609T180000
DTSTAMP:20260424T001316
CREATED:20220113T191121Z
LAST-MODIFIED:20220113T191121Z
UID:10000303-1654794000-1654797600@www.flcduluth.org
SUMMARY:Goldfarb/Lee Wedding Rehearsal
DESCRIPTION:
URL:https://www.flcduluth.org/event/goldfarb-lee-wedding-rehearsal/
CATEGORIES:Wedding
END:VEVENT
END:VCALENDAR