BEGIN:VCALENDAR
VERSION:2.0
PRODID:-//First Lutheran Church - ECPv6.15.20//NONSGML v1.0//EN
CALSCALE:GREGORIAN
METHOD:PUBLISH
X-WR-CALNAME:First Lutheran Church
X-ORIGINAL-URL:https://www.flcduluth.org
X-WR-CALDESC:Events for First Lutheran Church
REFRESH-INTERVAL;VALUE=DURATION:PT1H
X-Robots-Tag:noindex
X-PUBLISHED-TTL:PT1H
BEGIN:VTIMEZONE
TZID:America/Chicago
BEGIN:DAYLIGHT
TZOFFSETFROM:-0600
TZOFFSETTO:-0500
TZNAME:CDT
DTSTART:20210314T080000
END:DAYLIGHT
BEGIN:STANDARD
TZOFFSETFROM:-0500
TZOFFSETTO:-0600
TZNAME:CST
DTSTART:20211107T070000
END:STANDARD
BEGIN:DAYLIGHT
TZOFFSETFROM:-0600
TZOFFSETTO:-0500
TZNAME:CDT
DTSTART:20220313T080000
END:DAYLIGHT
BEGIN:STANDARD
TZOFFSETFROM:-0500
TZOFFSETTO:-0600
TZNAME:CST
DTSTART:20221106T070000
END:STANDARD
BEGIN:DAYLIGHT
TZOFFSETFROM:-0600
TZOFFSETTO:-0500
TZNAME:CDT
DTSTART:20230312T080000
END:DAYLIGHT
BEGIN:STANDARD
TZOFFSETFROM:-0500
TZOFFSETTO:-0600
TZNAME:CST
DTSTART:20231105T070000
END:STANDARD
BEGIN:DAYLIGHT
TZOFFSETFROM:-0600
TZOFFSETTO:-0500
TZNAME:CDT
DTSTART:20240310T080000
END:DAYLIGHT
BEGIN:STANDARD
TZOFFSETFROM:-0500
TZOFFSETTO:-0600
TZNAME:CST
DTSTART:20241103T070000
END:STANDARD
END:VTIMEZONE
BEGIN:VEVENT
DTSTART;TZID=America/Chicago:20230501T190000
DTEND;TZID=America/Chicago:20230501T203000
DTSTAMP:20260423T162620
CREATED:20230201T213018Z
LAST-MODIFIED:20230201T213018Z
UID:10003971-1682967600-1682973000@www.flcduluth.org
SUMMARY:Ruth Gathering
DESCRIPTION:
URL:https://www.flcduluth.org/event/ruth-gathering-3/2023-05-01/
LOCATION:First Lutheran Church\, 1100 E. Superior St.\, Duluth\, MN\, 55802\, United States
CATEGORIES:Women's Ministry
END:VEVENT
BEGIN:VEVENT
DTSTART;TZID=America/Chicago:20230413T190000
DTEND;TZID=America/Chicago:20230413T200000
DTSTAMP:20260423T162620
CREATED:20221014T145931Z
LAST-MODIFIED:20221014T150202Z
UID:10001842-1681412400-1681416000@www.flcduluth.org
SUMMARY:Mary & Martha Gathering
DESCRIPTION:
URL:https://www.flcduluth.org/event/mary-martha-gathering/2023-04-13/
LOCATION:MN
CATEGORIES:Women's Ministry
END:VEVENT
BEGIN:VEVENT
DTSTART;TZID=America/Chicago:20230411T090000
DTEND;TZID=America/Chicago:20230411T110000
DTSTAMP:20260423T162620
CREATED:20221027T183840Z
LAST-MODIFIED:20221103T193700Z
UID:10001856-1681203600-1681210800@www.flcduluth.org
SUMMARY:Leah Gathering
DESCRIPTION:
URL:https://www.flcduluth.org/event/womens-bible-study/2023-04-11/
LOCATION:MN
CATEGORIES:Women's Ministry
END:VEVENT
BEGIN:VEVENT
DTSTART;TZID=America/Chicago:20230403T190000
DTEND;TZID=America/Chicago:20230403T203000
DTSTAMP:20260423T162620
CREATED:20230201T213018Z
LAST-MODIFIED:20230201T213018Z
UID:10003970-1680548400-1680553800@www.flcduluth.org
SUMMARY:Ruth Gathering
DESCRIPTION:
URL:https://www.flcduluth.org/event/ruth-gathering-3/2023-04-03/
LOCATION:First Lutheran Church\, 1100 E. Superior St.\, Duluth\, MN\, 55802\, United States
CATEGORIES:Women's Ministry
END:VEVENT
BEGIN:VEVENT
DTSTART;TZID=America/Chicago:20230314T090000
DTEND;TZID=America/Chicago:20230314T110000
DTSTAMP:20260423T162620
CREATED:20221027T183840Z
LAST-MODIFIED:20221103T193700Z
UID:10001855-1678784400-1678791600@www.flcduluth.org
SUMMARY:Leah Gathering
DESCRIPTION:
URL:https://www.flcduluth.org/event/womens-bible-study/2023-03-14/
LOCATION:MN
CATEGORIES:Women's Ministry
END:VEVENT
BEGIN:VEVENT
DTSTART;TZID=America/Chicago:20230309T190000
DTEND;TZID=America/Chicago:20230309T200000
DTSTAMP:20260423T162620
CREATED:20221014T145931Z
LAST-MODIFIED:20221014T150202Z
UID:10001841-1678388400-1678392000@www.flcduluth.org
SUMMARY:Mary & Martha Gathering
DESCRIPTION:
URL:https://www.flcduluth.org/event/mary-martha-gathering/2023-03-09/
LOCATION:MN
CATEGORIES:Women's Ministry
END:VEVENT
BEGIN:VEVENT
DTSTART;TZID=America/Chicago:20230306T190000
DTEND;TZID=America/Chicago:20230306T203000
DTSTAMP:20260423T162620
CREATED:20230201T213018Z
LAST-MODIFIED:20230201T213018Z
UID:10003969-1678129200-1678134600@www.flcduluth.org
SUMMARY:Ruth Gathering
DESCRIPTION:
URL:https://www.flcduluth.org/event/ruth-gathering-3/2023-03-06/
LOCATION:First Lutheran Church\, 1100 E. Superior St.\, Duluth\, MN\, 55802\, United States
CATEGORIES:Women's Ministry
END:VEVENT
BEGIN:VEVENT
DTSTART;TZID=America/Chicago:20230214T090000
DTEND;TZID=America/Chicago:20230214T110000
DTSTAMP:20260423T162620
CREATED:20221027T183840Z
LAST-MODIFIED:20221103T193700Z
UID:10001854-1676365200-1676372400@www.flcduluth.org
SUMMARY:Leah Gathering
DESCRIPTION:
URL:https://www.flcduluth.org/event/womens-bible-study/2023-02-14/
LOCATION:MN
CATEGORIES:Women's Ministry
END:VEVENT
BEGIN:VEVENT
DTSTART;TZID=America/Chicago:20230209T190000
DTEND;TZID=America/Chicago:20230209T200000
DTSTAMP:20260423T162620
CREATED:20221014T145931Z
LAST-MODIFIED:20221014T150202Z
UID:10001840-1675969200-1675972800@www.flcduluth.org
SUMMARY:Mary & Martha Gathering
DESCRIPTION:
URL:https://www.flcduluth.org/event/mary-martha-gathering/2023-02-09/
LOCATION:MN
CATEGORIES:Women's Ministry
END:VEVENT
BEGIN:VEVENT
DTSTART;TZID=America/Chicago:20230206T190000
DTEND;TZID=America/Chicago:20230206T203000
DTSTAMP:20260423T162620
CREATED:20230201T213018Z
LAST-MODIFIED:20230201T213018Z
UID:10003968-1675710000-1675715400@www.flcduluth.org
SUMMARY:Ruth Gathering
DESCRIPTION:
URL:https://www.flcduluth.org/event/ruth-gathering-3/2023-02-06/
LOCATION:First Lutheran Church\, 1100 E. Superior St.\, Duluth\, MN\, 55802\, United States
CATEGORIES:Women's Ministry
END:VEVENT
BEGIN:VEVENT
DTSTART;TZID=America/Chicago:20230112T190000
DTEND;TZID=America/Chicago:20230112T200000
DTSTAMP:20260423T162620
CREATED:20221014T145931Z
LAST-MODIFIED:20221014T150202Z
UID:10001839-1673550000-1673553600@www.flcduluth.org
SUMMARY:Mary & Martha Gathering
DESCRIPTION:
URL:https://www.flcduluth.org/event/mary-martha-gathering/2023-01-12/
LOCATION:MN
CATEGORIES:Women's Ministry
END:VEVENT
BEGIN:VEVENT
DTSTART;TZID=America/Chicago:20230110T090000
DTEND;TZID=America/Chicago:20230110T110000
DTSTAMP:20260423T162620
CREATED:20221027T183840Z
LAST-MODIFIED:20221103T193700Z
UID:10001853-1673341200-1673348400@www.flcduluth.org
SUMMARY:Leah Gathering
DESCRIPTION:
URL:https://www.flcduluth.org/event/womens-bible-study/2023-01-10/
LOCATION:MN
CATEGORIES:Women's Ministry
END:VEVENT
BEGIN:VEVENT
DTSTART;TZID=America/Chicago:20230109T190000
DTEND;TZID=America/Chicago:20230109T203000
DTSTAMP:20260423T162620
CREATED:20230110T220154Z
LAST-MODIFIED:20230110T220154Z
UID:10002467-1673290800-1673296200@www.flcduluth.org
SUMMARY:Ruth Gathering
DESCRIPTION:
URL:https://www.flcduluth.org/event/ruth-gathering-2/
LOCATION:First Lutheran Church\, 1100 E. Superior St.\, Duluth\, MN\, 55802\, United States
CATEGORIES:Women's Ministry
END:VEVENT
BEGIN:VEVENT
DTSTART;TZID=America/Chicago:20221213T090000
DTEND;TZID=America/Chicago:20221213T110000
DTSTAMP:20260423T162620
CREATED:20221027T183840Z
LAST-MODIFIED:20221103T193700Z
UID:10001852-1670922000-1670929200@www.flcduluth.org
SUMMARY:Leah Gathering
DESCRIPTION:
URL:https://www.flcduluth.org/event/womens-bible-study/2022-12-13/
LOCATION:MN
CATEGORIES:Women's Ministry
END:VEVENT
BEGIN:VEVENT
DTSTART;TZID=America/Chicago:20221208T190000
DTEND;TZID=America/Chicago:20221208T200000
DTSTAMP:20260423T162620
CREATED:20221014T145931Z
LAST-MODIFIED:20221014T150202Z
UID:10001838-1670526000-1670529600@www.flcduluth.org
SUMMARY:Mary & Martha Gathering
DESCRIPTION:
URL:https://www.flcduluth.org/event/mary-martha-gathering/2022-12-08/
LOCATION:MN
CATEGORIES:Women's Ministry
END:VEVENT
BEGIN:VEVENT
DTSTART;TZID=America/Chicago:20221208T130000
DTEND;TZID=America/Chicago:20221208T150000
DTSTAMP:20260423T162620
CREATED:20220913T200808Z
LAST-MODIFIED:20220913T200808Z
UID:10001777-1670504400-1670511600@www.flcduluth.org
SUMMARY:Prayer Shawl
DESCRIPTION:
URL:https://www.flcduluth.org/event/prayer-shawl/2022-12-08/
LOCATION:MN
CATEGORIES:Women's Ministry
END:VEVENT
BEGIN:VEVENT
DTSTART;TZID=America/Chicago:20221205T190000
DTEND;TZID=America/Chicago:20221205T200000
DTSTAMP:20260423T162620
CREATED:20220913T200258Z
LAST-MODIFIED:20220913T200258Z
UID:10001771-1670266800-1670270400@www.flcduluth.org
SUMMARY:Ruth Gathering
DESCRIPTION:
URL:https://www.flcduluth.org/event/ruth-gathering/2022-12-05/
LOCATION:MN
CATEGORIES:Women's Ministry
END:VEVENT
BEGIN:VEVENT
DTSTART;TZID=America/Chicago:20221117T130000
DTEND;TZID=America/Chicago:20221117T150000
DTSTAMP:20260423T162620
CREATED:20221103T194002Z
LAST-MODIFIED:20230620T184119Z
UID:10001888-1668690000-1668697200@www.flcduluth.org
SUMMARY:Naomi Gathering
DESCRIPTION:
URL:https://www.flcduluth.org/event/naomi-gathering/2022-11-17/2/
LOCATION:MN
CATEGORIES:Women's Ministry
END:VEVENT
BEGIN:VEVENT
DTSTART;TZID=America/Chicago:20221117T080000
DTEND;TZID=America/Chicago:20221117T170000
DTSTAMP:20260423T162620
CREATED:20221103T194002Z
LAST-MODIFIED:20230620T184119Z
UID:10004397-1668672000-1668704400@www.flcduluth.org
SUMMARY:Naomi Gathering
DESCRIPTION:
URL:https://www.flcduluth.org/event/naomi-gathering/2022-11-17/1/
LOCATION:MN
CATEGORIES:Women's Ministry
END:VEVENT
BEGIN:VEVENT
DTSTART;TZID=America/Chicago:20221110T190000
DTEND;TZID=America/Chicago:20221110T200000
DTSTAMP:20260423T162620
CREATED:20221014T145931Z
LAST-MODIFIED:20221014T150202Z
UID:10001837-1668106800-1668110400@www.flcduluth.org
SUMMARY:Mary & Martha Gathering
DESCRIPTION:
URL:https://www.flcduluth.org/event/mary-martha-gathering/2022-11-10/
LOCATION:MN
CATEGORIES:Women's Ministry
END:VEVENT
BEGIN:VEVENT
DTSTART;TZID=America/Chicago:20221110T130000
DTEND;TZID=America/Chicago:20221110T150000
DTSTAMP:20260423T162620
CREATED:20220913T200808Z
LAST-MODIFIED:20220913T200808Z
UID:10001776-1668085200-1668092400@www.flcduluth.org
SUMMARY:Prayer Shawl
DESCRIPTION:
URL:https://www.flcduluth.org/event/prayer-shawl/2022-11-10/
LOCATION:MN
CATEGORIES:Women's Ministry
END:VEVENT
BEGIN:VEVENT
DTSTART;TZID=America/Chicago:20221108T090000
DTEND;TZID=America/Chicago:20221108T110000
DTSTAMP:20260423T162620
CREATED:20221027T183840Z
LAST-MODIFIED:20221103T193700Z
UID:10001851-1667898000-1667905200@www.flcduluth.org
SUMMARY:Leah Gathering
DESCRIPTION:
URL:https://www.flcduluth.org/event/womens-bible-study/2022-11-08/
LOCATION:MN
CATEGORIES:Women's Ministry
END:VEVENT
BEGIN:VEVENT
DTSTART;TZID=America/Chicago:20221107T190000
DTEND;TZID=America/Chicago:20221107T200000
DTSTAMP:20260423T162620
CREATED:20220913T200258Z
LAST-MODIFIED:20220913T200258Z
UID:10001770-1667847600-1667851200@www.flcduluth.org
SUMMARY:Ruth Gathering
DESCRIPTION:
URL:https://www.flcduluth.org/event/ruth-gathering/2022-11-07/
LOCATION:MN
CATEGORIES:Women's Ministry
END:VEVENT
BEGIN:VEVENT
DTSTART;TZID=America/Chicago:20221020T130000
DTEND;TZID=America/Chicago:20221020T150000
DTSTAMP:20260423T162620
CREATED:20221014T150035Z
LAST-MODIFIED:20221014T150035Z
UID:10001781-1666270800-1666278000@www.flcduluth.org
SUMMARY:Naomi Circle
DESCRIPTION:
URL:https://www.flcduluth.org/event/naomi-circle/
LOCATION:MN
CATEGORIES:Women's Ministry
END:VEVENT
BEGIN:VEVENT
DTSTART;TZID=America/Chicago:20221013T190000
DTEND;TZID=America/Chicago:20221013T200000
DTSTAMP:20260423T162620
CREATED:20221014T145931Z
LAST-MODIFIED:20221014T150202Z
UID:10001836-1665687600-1665691200@www.flcduluth.org
SUMMARY:Mary & Martha Gathering
DESCRIPTION:
URL:https://www.flcduluth.org/event/mary-martha-gathering/2022-10-13/
LOCATION:MN
CATEGORIES:Women's Ministry
END:VEVENT
BEGIN:VEVENT
DTSTART;TZID=America/Chicago:20221013T130000
DTEND;TZID=America/Chicago:20221013T150000
DTSTAMP:20260423T162620
CREATED:20220913T200808Z
LAST-MODIFIED:20220913T200808Z
UID:10001775-1665666000-1665673200@www.flcduluth.org
SUMMARY:Prayer Shawl
DESCRIPTION:
URL:https://www.flcduluth.org/event/prayer-shawl/2022-10-13/
LOCATION:MN
CATEGORIES:Women's Ministry
END:VEVENT
BEGIN:VEVENT
DTSTART;TZID=America/Chicago:20221011T090000
DTEND;TZID=America/Chicago:20221011T110000
DTSTAMP:20260423T162620
CREATED:20221027T183840Z
LAST-MODIFIED:20221103T193700Z
UID:10001850-1665478800-1665486000@www.flcduluth.org
SUMMARY:Leah Gathering
DESCRIPTION:
URL:https://www.flcduluth.org/event/womens-bible-study/2022-10-11/
LOCATION:MN
CATEGORIES:Women's Ministry
END:VEVENT
BEGIN:VEVENT
DTSTART;TZID=America/Chicago:20221003T190000
DTEND;TZID=America/Chicago:20221003T200000
DTSTAMP:20260423T162620
CREATED:20220913T200258Z
LAST-MODIFIED:20220913T200258Z
UID:10001769-1664823600-1664827200@www.flcduluth.org
SUMMARY:Ruth Gathering
DESCRIPTION:
URL:https://www.flcduluth.org/event/ruth-gathering/2022-10-03/
LOCATION:MN
CATEGORIES:Women's Ministry
END:VEVENT
BEGIN:VEVENT
DTSTART;TZID=America/Chicago:20220501T113000
DTEND;TZID=America/Chicago:20220501T133000
DTSTAMP:20260423T162620
CREATED:20220113T181840Z
LAST-MODIFIED:20220504T180348Z
UID:10001423-1651404600-1651411800@www.flcduluth.org
SUMMARY:Faith Lab
DESCRIPTION:Click her for more information about Faith Lab.
URL:https://www.flcduluth.org/event/faith-lab-2022-02-06/2022-05-01/
LOCATION:MN
CATEGORIES:Bible Study,Children's Ministry,Men's Ministry,Women's Ministry,Youth Ministry
END:VEVENT
BEGIN:VEVENT
DTSTART;TZID=America/Chicago:20220417T113000
DTEND;TZID=America/Chicago:20220417T133000
DTSTAMP:20260423T162620
CREATED:20221020T180359Z
LAST-MODIFIED:20221020T180359Z
UID:10001427-1650195000-1650202200@www.flcduluth.org
SUMMARY:Faith Lab
DESCRIPTION:Click her for more information about Faith Lab.
URL:https://www.flcduluth.org/event/faith-lab-2022-02-06/2022-04-17/
LOCATION:MN
CATEGORIES:Bible Study,Children's Ministry,Men's Ministry,Women's Ministry,Youth Ministry
END:VEVENT
END:VCALENDAR