BEGIN:VCALENDAR
VERSION:2.0
PRODID:-//First Lutheran Church - ECPv6.15.20//NONSGML v1.0//EN
CALSCALE:GREGORIAN
METHOD:PUBLISH
X-WR-CALNAME:First Lutheran Church
X-ORIGINAL-URL:https://www.flcduluth.org
X-WR-CALDESC:Events for First Lutheran Church
REFRESH-INTERVAL;VALUE=DURATION:PT1H
X-Robots-Tag:noindex
X-PUBLISHED-TTL:PT1H
BEGIN:VTIMEZONE
TZID:America/Chicago
BEGIN:DAYLIGHT
TZOFFSETFROM:-0600
TZOFFSETTO:-0500
TZNAME:CDT
DTSTART:20200308T080000
END:DAYLIGHT
BEGIN:STANDARD
TZOFFSETFROM:-0500
TZOFFSETTO:-0600
TZNAME:CST
DTSTART:20201101T070000
END:STANDARD
BEGIN:DAYLIGHT
TZOFFSETFROM:-0600
TZOFFSETTO:-0500
TZNAME:CDT
DTSTART:20210314T080000
END:DAYLIGHT
BEGIN:STANDARD
TZOFFSETFROM:-0500
TZOFFSETTO:-0600
TZNAME:CST
DTSTART:20211107T070000
END:STANDARD
BEGIN:DAYLIGHT
TZOFFSETFROM:-0600
TZOFFSETTO:-0500
TZNAME:CDT
DTSTART:20220313T080000
END:DAYLIGHT
BEGIN:STANDARD
TZOFFSETFROM:-0500
TZOFFSETTO:-0600
TZNAME:CST
DTSTART:20221106T070000
END:STANDARD
BEGIN:DAYLIGHT
TZOFFSETFROM:-0600
TZOFFSETTO:-0500
TZNAME:CDT
DTSTART:20230312T080000
END:DAYLIGHT
BEGIN:STANDARD
TZOFFSETFROM:-0500
TZOFFSETTO:-0600
TZNAME:CST
DTSTART:20231105T070000
END:STANDARD
END:VTIMEZONE
BEGIN:VEVENT
DTSTART;TZID=America/Chicago:20221013T190000
DTEND;TZID=America/Chicago:20221013T200000
DTSTAMP:20260423T225758
CREATED:20221014T145931Z
LAST-MODIFIED:20221014T150202Z
UID:10001836-1665687600-1665691200@www.flcduluth.org
SUMMARY:Mary & Martha Gathering
DESCRIPTION:
URL:https://www.flcduluth.org/event/mary-martha-gathering/2022-10-13/
CATEGORIES:Women's Ministry
END:VEVENT
BEGIN:VEVENT
DTSTART;TZID=America/Chicago:20221013T130000
DTEND;TZID=America/Chicago:20221013T150000
DTSTAMP:20260423T225758
CREATED:20220913T200808Z
LAST-MODIFIED:20220913T200808Z
UID:10001775-1665666000-1665673200@www.flcduluth.org
SUMMARY:Prayer Shawl
DESCRIPTION:
URL:https://www.flcduluth.org/event/prayer-shawl/2022-10-13/
CATEGORIES:Women's Ministry
END:VEVENT
BEGIN:VEVENT
DTSTART;TZID=America/Chicago:20221011T090000
DTEND;TZID=America/Chicago:20221011T110000
DTSTAMP:20260423T225758
CREATED:20221027T183840Z
LAST-MODIFIED:20221103T193700Z
UID:10001850-1665478800-1665486000@www.flcduluth.org
SUMMARY:Leah Gathering
DESCRIPTION:
URL:https://www.flcduluth.org/event/womens-bible-study/2022-10-11/
CATEGORIES:Women's Ministry
END:VEVENT
BEGIN:VEVENT
DTSTART;TZID=America/Chicago:20221003T190000
DTEND;TZID=America/Chicago:20221003T200000
DTSTAMP:20260423T225758
CREATED:20220913T200258Z
LAST-MODIFIED:20220913T200258Z
UID:10001769-1664823600-1664827200@www.flcduluth.org
SUMMARY:Ruth Gathering
DESCRIPTION:
URL:https://www.flcduluth.org/event/ruth-gathering/2022-10-03/
CATEGORIES:Women's Ministry
END:VEVENT
BEGIN:VEVENT
DTSTART;TZID=America/Chicago:20220501T113000
DTEND;TZID=America/Chicago:20220501T133000
DTSTAMP:20260423T225758
CREATED:20220113T181840Z
LAST-MODIFIED:20220504T180348Z
UID:10001423-1651404600-1651411800@www.flcduluth.org
SUMMARY:Faith Lab
DESCRIPTION:Click her for more information about Faith Lab.
URL:https://www.flcduluth.org/event/faith-lab-2022-02-06/2022-05-01/
CATEGORIES:Bible Study,Children's Ministry,Men's Ministry,Women's Ministry,Youth Ministry
END:VEVENT
BEGIN:VEVENT
DTSTART;TZID=America/Chicago:20220417T113000
DTEND;TZID=America/Chicago:20220417T133000
DTSTAMP:20260423T225758
CREATED:20221020T180359Z
LAST-MODIFIED:20221020T180359Z
UID:10001427-1650195000-1650202200@www.flcduluth.org
SUMMARY:Faith Lab
DESCRIPTION:Click her for more information about Faith Lab.
URL:https://www.flcduluth.org/event/faith-lab-2022-02-06/2022-04-17/
CATEGORIES:Bible Study,Children's Ministry,Men's Ministry,Women's Ministry,Youth Ministry
END:VEVENT
BEGIN:VEVENT
DTSTART;TZID=America/Chicago:20220403T113000
DTEND;TZID=America/Chicago:20220403T133000
DTSTAMP:20260423T225758
CREATED:20220113T181840Z
LAST-MODIFIED:20220504T180348Z
UID:10001422-1648985400-1648992600@www.flcduluth.org
SUMMARY:Faith Lab
DESCRIPTION:Click her for more information about Faith Lab.
URL:https://www.flcduluth.org/event/faith-lab-2022-02-06/2022-04-03/
CATEGORIES:Bible Study,Children's Ministry,Men's Ministry,Women's Ministry,Youth Ministry
END:VEVENT
BEGIN:VEVENT
DTSTART;TZID=America/Chicago:20220320T113000
DTEND;TZID=America/Chicago:20220320T133000
DTSTAMP:20260423T225758
CREATED:20221020T180359Z
LAST-MODIFIED:20221020T180359Z
UID:10001426-1647775800-1647783000@www.flcduluth.org
SUMMARY:Faith Lab
DESCRIPTION:Click her for more information about Faith Lab.
URL:https://www.flcduluth.org/event/faith-lab-2022-02-06/2022-03-20/
CATEGORIES:Bible Study,Children's Ministry,Men's Ministry,Women's Ministry,Youth Ministry
END:VEVENT
BEGIN:VEVENT
DTSTART;TZID=America/Chicago:20220306T113000
DTEND;TZID=America/Chicago:20220306T133000
DTSTAMP:20260423T225758
CREATED:20220113T181840Z
LAST-MODIFIED:20220504T180348Z
UID:10001421-1646566200-1646573400@www.flcduluth.org
SUMMARY:Faith Lab
DESCRIPTION:Click her for more information about Faith Lab.
URL:https://www.flcduluth.org/event/faith-lab-2022-02-06/2022-03-06/
CATEGORIES:Bible Study,Children's Ministry,Men's Ministry,Women's Ministry,Youth Ministry
END:VEVENT
BEGIN:VEVENT
DTSTART;TZID=America/Chicago:20220220T113000
DTEND;TZID=America/Chicago:20220220T133000
DTSTAMP:20260423T225758
CREATED:20221020T180359Z
LAST-MODIFIED:20221020T180359Z
UID:10001425-1645356600-1645363800@www.flcduluth.org
SUMMARY:Faith Lab
DESCRIPTION:Click her for more information about Faith Lab.
URL:https://www.flcduluth.org/event/faith-lab-2022-02-06/2022-02-20/
CATEGORIES:Bible Study,Children's Ministry,Men's Ministry,Women's Ministry,Youth Ministry
END:VEVENT
BEGIN:VEVENT
DTSTART;TZID=America/Chicago:20220206T113000
DTEND;TZID=America/Chicago:20220206T133000
DTSTAMP:20260423T225758
CREATED:20220113T181840Z
LAST-MODIFIED:20220504T180348Z
UID:10001420-1644147000-1644154200@www.flcduluth.org
SUMMARY:Faith Lab
DESCRIPTION:Click her for more information about Faith Lab.
URL:https://www.flcduluth.org/event/faith-lab-2022-02-06/2022-02-06/
CATEGORIES:Bible Study,Children's Ministry,Men's Ministry,Women's Ministry,Youth Ministry
END:VEVENT
BEGIN:VEVENT
DTSTART;TZID=America/Chicago:20211214T093000
DTEND;TZID=America/Chicago:20211214T103000
DTSTAMP:20260423T225758
CREATED:20211006T214625Z
LAST-MODIFIED:20211006T214625Z
UID:10001419-1639474200-1639477800@www.flcduluth.org
SUMMARY:Leah Circle
DESCRIPTION:
URL:https://www.flcduluth.org/event/leah-circle/2021-12-14/
LOCATION:First Lutheran Church\, 1100 E. Superior St.\, Duluth\, MN\, 55802\, United States
CATEGORIES:Women's Ministry
END:VEVENT
BEGIN:VEVENT
DTSTART;TZID=America/Chicago:20211109T093000
DTEND;TZID=America/Chicago:20211109T103000
DTSTAMP:20260423T225758
CREATED:20211006T214625Z
LAST-MODIFIED:20211006T214625Z
UID:10001418-1636450200-1636453800@www.flcduluth.org
SUMMARY:Leah Circle
DESCRIPTION:
URL:https://www.flcduluth.org/event/leah-circle/2021-11-09/
LOCATION:First Lutheran Church\, 1100 E. Superior St.\, Duluth\, MN\, 55802\, United States
CATEGORIES:Women's Ministry
END:VEVENT
BEGIN:VEVENT
DTSTART;TZID=America/Chicago:20211012T093000
DTEND;TZID=America/Chicago:20211012T103000
DTSTAMP:20260423T225758
CREATED:20211006T214625Z
LAST-MODIFIED:20211006T214625Z
UID:10001417-1634031000-1634034600@www.flcduluth.org
SUMMARY:Leah Circle
DESCRIPTION:
URL:https://www.flcduluth.org/event/leah-circle/2021-10-12/
LOCATION:First Lutheran Church\, 1100 E. Superior St.\, Duluth\, MN\, 55802\, United States
CATEGORIES:Women's Ministry
END:VEVENT
END:VCALENDAR